{"text_format":"1","workbook":"xlsx","n_sheets":17,"sheets":["Setup","Registrering","Resultat","Puljer","Gruppeliste","Puljer runde 1","Puljer runde 2","Puljer runde 3","Puljer runde 4","Kampsedler 1","Kampsedler 2","Kampsedler 3","Kampsedler 4","KampsedlerEns 2","KampsedlerEns 3","KampsedlerEns 4","RBGH"],"not_rendered":{"charts":0,"images":0,"macros":1,"external_links":0,"defined_names":10,"comments":0,"pivot_tables":0},"unopened":[],"bounds":{"document_bytes":16777216,"sheet_cells":100000,"rows_first":2000,"rows_last":500,"rows_between":2000,"halvings":0,"cell_chars":16384,"cell_head_chars":4096},"cells_cut":0,"cells_raw":0,"read":"whole","date_system":"1900"}

{"sheet":"Setup","index":0,"n_rows":52,"n_cols":3,"rows_kept":52,"cut":false,"hidden":false,"merged":[[0,0,0,1]]}
["Max. 120 spillere"]
["Stævnets navn","Minitræf i Houlbjerg"]
[]
["Stævnedato","29. juli 2015"]
[]
["Arrangør","DGI Krolf og Houlbjerg Krolf"]
[]
["Arrangørs hjemmeside"]
[null,{"$f":"IF(B11>B10,\"Det går ikke med flere baner end runder\",IF(AND(B10=3,B11=2),\"3 runder på 2 baner går ikke op\",IF(AND(B10=4,B11=3),\"4 runder på 3 baner passer ikke sammen\",\"\")))","v":""}]
["Antal runder (max. 4)",2,{"$f":"IF(B10<1,\"Skal være større en 0\",IF(B10>4,\"Skal være mindre end 4\",\" \"))","v":" "}]
["Antal baner (max. 4)",2,{"$f":"IF(B11<1,\"Skal være større en 0\",IF(B11>4,\"Skal være mindre end 4\",\" \"))","v":" "}]
["Banenavn 1","Bane 1"]
["Banenavn 2","Bane 2"]
["Banenavn 3"]
["Banenavn 4"]
["Gruppenavn A","Rød"]
["Gruppenavn B","Grøn"]
["Gruppenavn C"]
["Gruppenavn D"]
["Teoretisk max. spillere",{"$f":"CONCATENATE(B11*30,\"           (6 puljer pr. bane á 5 spillere = max. 30 spillere pr. bane)\")","v":"60           (6 puljer pr. bane á 5 spillere = max. 30 spillere pr. bane)"}]
["Hvornår","Tekst","Faneblad"]
["Før stævnet","Udfyld de gule felter på dette faneblad.","Setup"]
[null,"Indsæt navne og event. klub på spillerne på \"Registrering\". Sorter efter klub, så blandes spillerne bedst.","Registrering"]
[null,"Tryk på den røde knap \"Generer puljer\" på fane \"Puljer\". Den blander folk efter bedste evne.","Puljer"]
[null,"Udskriv så mange runder du skal bruge. ","Puljer"]
["Tip:","Skal det være nye puljer (nye modstandere) i hver runde, skal man bruge den grønne og de gule knapper.","Puljer"]
["Tip:","Er det samme 4-5 spiller der skal spille mod hinanden hver gang, skal man bruge den grønne og de blå knapper.","Puljer"]
[null,"Man kan udskrive faneblad Gruppeliste, hvor man kan finde gruppe og bane for spillerne, hvis de har glemt hvor de skal hen","Gruppeliste"]
[]
["Under spillet","Når en runde er spillet, tager man en kampseddel og reg. antal slag ud for hver spiller.","Registrering"]
[null,"Det foregår på fanebladet \"Registrering\" og er nemmest hvis der først er sorteret efter navn.","Registrering"]
[null,"Hvis en spiller udgår undervejs, så registrer 99 slag så vedkommende ikke vinder slagspil.","Registrering"]
[]
["Efter spillet","Sorter efter placering og du har spillernes placeringer rent slagspilmæssigt.","Registrering"]
[null,"Der kan være flere med samme antal slag. Disse er sorteret med bedste runde først.","Registrering"]
[null,"Er 2 spillere helt ens, får de samme placering.","Registrering"]
[]
["Ved afbud","Hvis der er afbud før du har printet, blankes navnet på \"Registrering\" og der genereres puljer på ny.","Registrering og Puljer"]
[null,"Hvis der er afbud efter der er printet, er det oftest nemmest bare at strege spilleren ud på","Papiret"]
[null,"kampsedlen og blanke vedkommende på \"Registrering\"","Registrering"]
[null,"Alternativt skal der blankes på \"Registrering\", sorteres, genereres puljer og printes igen.","Registrering og Puljer"]
[]
["Ved ekstra spillere","Før der er printet: Tilføj på \"Registrering\" og generer puljer igen.","Registrering og Puljer"]
[null,"Efter der er printet: Tilføj på registrering og sorter efter navn. Tilføj spilleren på kampsedler med kuglepen, men","Registrering"]
[null,"husk eventuelt at tage højde for at vedkommende skal spille på forskellige baner.","og papir"]
[]
["Diverse tips","De fleste foretrækker nye modstandere i hver runde af sociale årsager."]
[]
[null,"Hvis man er øvet og har overskud, kan man godt både spille og styre slagets gang, men hvis det er første gang man"]
[null,"prøver at styre et stævne, så er det bedst at have en der udelukkende styrer og taster."]
[]
[null,"Systemet tager IKKE højde for dommere. Det forudsætter at spillerne selv dømmer."]

{"sheet":"Registrering","index":1,"n_rows":123,"n_cols":10,"rows_kept":123,"cut":false,"hidden":false,"merged":[[122,0,122,8],[0,0,0,9]]}
[{"$f":"Setup!B2","v":"Minitræf i Houlbjerg"}]
["Placering","Navn","Klub","Runde 1","Runde 2","Runde 3","Runde 4","Sortering","Total","Klub gns."]
[1,"Bente Nordmann","Auning",null,null,null,null,{"$f":"IF(D3=\"\",\"\",IF(E3=\"\",D3,IF(F3=\"\",LARGE(D3:G3,2)*100+LARGE(D3:G3,1),IF(G3=\"\",LARGE(D3:G3,3)*10000+LARGE(D3:G3,2)*100+LARGE(D3:G3,1),LARGE(D3:G3,4)*1000000+LARGE(D3:G3,3)*10000+LARGE(D3:G3,2)*100+LARGE(D3:G3,1)))))","v":""},{"$f":"IF(D3=\"\",\"\",SUM(D3:G3))","v":""}]
[1,"Henning Pedersen","Auning",null,null,null,null,"",""]
[1,"Maja Pedersen","Auning",null,null,null,null,"","",{"$f":"AVERAGE(I3:I5)","v":{"$error":"#DIV/0!"}}]
[1,"Bente Thomassen","Bjerregrav",null,null,null,null,"",""]
[1,"Max Thomassen","Bjerregrav",null,null,null,null,"","",{"$f":"AVERAGE(I6:I7)","v":{"$error":"#DIV/0!"}}]
[1,"Birgit Svoldgaard","Hammel",null,null,null,null,"",""]
[1,"Birthe Rosenkvist","Hammel",null,null,null,null,"",""]
[1,"Erik Rosenkvist","Hammel",null,null,null,null,"",""]
[1,"Gerda Fogh","Hammel",null,null,null,null,"",""]
[1,"Jonna Kjeldsen","Hammel",null,null,null,null,"",""]
[1,"Rosa Højgaard","Hammel",null,null,null,null,"","",{"$f":"AVERAGE(I8:I13)","v":{"$error":"#DIV/0!"}}]
[1,"Børge Jensen","Houlbjerg",null,null,null,null,"",""]
[1,"Doris Thomsen","Houlbjerg",null,null,null,null,"",""]
[1,"Erik Lægdsgaard","Houlbjerg",null,null,null,null,"",""]
[1,"Grethe Gregersen","Houlbjerg",null,null,null,null,"",""]
[1,"Jens Henrik Juhl-Larsen","Houlbjerg",null,null,null,null,"",""]
[1,"Juul Thomsen","Houlbjerg",null,null,null,null,"",""]
[1,"Kurt Thomsen","Houlbjerg",null,null,null,null,"",""]
[1,"Lisbeth Sørensen","Houlbjerg",null,null,null,null,"",""]
[1,"Lissi Thomsen","Houlbjerg",null,null,null,null,"",""]
[1,"Nanny Lægdsgaard","Houlbjerg",null,null,null,null,"",""]
[1,"Poul Henriksen","Houlbjerg",null,null,null,null,"",""]
[1,"Yrsa Sørensen","Houlbjerg",null,null,null,null,"","",{"$f":"AVERAGE(I14:I25)","v":{"$error":"#DIV/0!"}}]
[1,"Alice Madsen","Høst",null,null,null,null,"",""]
[1,"Britta Axelsen","Høst",null,null,null,null,"",""]
[1,"Erik Pedersen","Høst",null,null,null,null,"",""]
[1,"Inger Rasmussen","Høst",null,null,null,null,"",""]
[1,"Knud Frederiksen","Høst",null,null,null,null,"",""]
[1,"Kurt Rasmussen","Høst",null,null,null,null,"",""]
[1,"Margit Jensen","Høst",null,null,null,null,"",""]
[1,"Ulla Bjerring","Høst",null,null,null,null,"","",{"$f":"AVERAGE(I26:I33)","v":{"$error":"#DIV/0!"}}]
[1,"Christen Jespersen","Lystrup",null,null,null,null,"",""]
[1,"Else-Marie Schmidt","Lystrup",null,null,null,null,{"$f":"IF(D35=\"\",\"\",IF(E35=\"\",D35,IF(F35=\"\",LARGE(D35:G35,2)*100+LARGE(D35:G35,1),IF(G35=\"\",LARGE(D35:G35,3)*10000+LARGE(D35:G35,2)*100+LARGE(D35:G35,1),LARGE(D35:G35,4)*1000000+LARGE(D35:G35,3)*10000+LARGE(D35:G35,2)*100+LARGE(D35:G35,1)))))","v":""},{"$f":"IF(D35=\"\",\"\",SUM(D35:G35))","v":""}]
[1,"Jens Tvi Holmsgaard","Lystrup",null,null,null,null,"",""]
[1,"Lis Lassen","Lystrup",null,null,null,null,"","",{"$f":"AVERAGE(I34:I37)","v":{"$error":"#DIV/0!"}}]
[1,"Alma Eriksen","Låsby",null,null,null,null,"",""]
[1,"Tage Hansen","Låsby",null,null,null,null,"","",{"$f":"AVERAGE(I38:I39)","v":{"$error":"#DIV/0!"}}]
[1,"Hanne Bjerre","Pindstrup",null,null,null,null,"",""]
[1,"Jørgen Bjerre","Pindstrup",null,null,null,null,"","",{"$f":"AVERAGE(I40:I41)","v":{"$error":"#DIV/0!"}}]
[1,"Jørgen Petersen","Rønde",null,null,null,null,"",""]
[1,"Marie Petersen","Rønde",null,null,null,null,"",""]
[1,"Myrna Rasmussen","Rønde",null,null,null,null,"",""]
[1,"Svend B. G. Laursen","Rønde",null,null,null,null,"",""]
[1,"Vagn F. Nielsen","Rønde",null,null,null,null,"","",{"$f":"AVERAGE(I42:I46)","v":{"$error":"#DIV/0!"}}]
[1,"Ann Gaardsvig","Silkeborg",null,null,null,null,"",""]
[1,"Hanne Else Knudsen","Silkeborg",null,null,null,null,"",""]
[1,"Henning Larsen","Silkeborg",null,null,null,null,"",""]
[1,"Lilly Hansen","Silkeborg",null,null,null,null,"",""]
[1,"Lynge Madsen","Silkeborg",null,null,null,null,"","",{"$f":"AVERAGE(I47:I51)","v":{"$error":"#DIV/0!"}}]
[1,"Bent Nielsen","Thorsø",null,null,null,null,"",""]
[1,"Christian Norentoft","Thorsø",null,null,null,null,"",""]
[1,"Erik Thomsen","Thorsø",null,null,null,null,"",""]
[1,"Grethe Thomsen","Thorsø",null,null,null,null,"",""]
[1,"Grethe Thøgersen","Thorsø",null,null,null,null,"",""]
[1,"Kirsten Nielsen","Thorsø",null,null,null,null,"","",{"$f":"AVERAGE(I52:I57)","v":{"$error":"#DIV/0!"}}]
[1,"Niels Kofoed","Tranbjerg",null,null,null,null,"","",{"$f":"AVERAGE(I58:I58)","v":{"$error":"#DIV/0!"}}]
[1,"Ester Storgaard","Ulstrup",null,null,null,null,"",""]
[1,"Hans J. Christensen","Ulstrup",null,null,null,null,"",""]
[1,"Kaj Storgaard","Ulstrup",null,null,null,null,"",""]
[1,"Ulla Ravn","Ulstrup",null,null,null,null,"","",{"$f":"AVERAGE(I59:I62)","v":{"$error":"#DIV/0!"}}]
["",null,null,null,null,null,null,"",""]
["",null,null,null,null,null,null,"",""]
["",null,null,null,null,null,null,"",""]
["",null,null,null,null,null,null,"",""]
["",null,null,null,null,null,null,{"$f":"IF(D67=\"\",\"\",IF(E67=\"\",D67,IF(F67=\"\",LARGE(D67:G67,2)*100+LARGE(D67:G67,1),IF(G67=\"\",LARGE(D67:G67,3)*10000+LARGE(D67:G67,2)*100+LARGE(D67:G67,1),LARGE(D67:G67,4)*1000000+LARGE(D67:G67,3)*10000+LARGE(D67:G67,2)*100+LARGE(D67:G67,1)))))","v":""},{"$f":"IF(D67=\"\",\"\",SUM(D67:G67))","v":""}]
["",null,null,null,null,null,null,"",""]
["",null,null,null,null,null,null,"",""]
["",null,null,null,null,null,null,"",""]
["",null,null,null,null,null,null,"",""]
["",null,null,null,null,null,null,"",""]
["",null,null,null,null,null,null,"",""]
["",null,null,null,null,null,null,"",""]
["",null,null,null,null,null,null,"",""]
["",null,null,null,null,null,null,"",""]
["",null,null,null,null,null,null,"",""]
["",null,null,null,null,null,null,"",""]
["",null,null,null,null,null,null,"",""]
["",null,null,null,null,null,null,"",""]
["",null,null,null,null,null,null,"",""]
["",null,null,null,null,null,null,"",""]
["",null,null,null,null,null,null,"",""]
["",null,null,null,null,null,null,"",""]
["",null,null,null,null,null,null,"",""]
["",null,null,null,null,null,null,"",""]
["",null,null,null,null,null,null,"",""]
["",null,null,null,null,null,null,"",""]
["",null,null,null,null,null,null,"",""]
["",null,null,null,null,null,null,"",""]
["",null,null,null,null,null,null,"",""]
["",null,null,null,null,null,null,"",""]
["",null,null,null,null,null,null,"",""]
["",null,null,null,null,null,null,"",""]
["",null,null,null,null,null,null,"",""]
["",null,null,null,null,null,null,"",""]
["",null,null,null,null,null,null,"",""]
["",null,null,null,null,null,null,"",""]
["",null,null,null,null,null,null,{"$f":"IF(D99=\"\",\"\",IF(E99=\"\",D99,IF(F99=\"\",LARGE(D99:G99,2)*100+LARGE(D99:G99,1),IF(G99=\"\",LARGE(D99:G99,3)*10000+LARGE(D99:G99,2)*100+LARGE(D99:G99,1),LARGE(D99:G99,4)*1000000+LARGE(D99:G99,3)*10000+LARGE(D99:G99,2)*100+LARGE(D99:G99,1)))))","v":""},{"$f":"IF(D99=\"\",\"\",SUM(D99:G99))","v":""}]
["",null,null,null,null,null,null,"",""]
["",null,null,null,null,null,null,"",""]
["",null,null,null,null,null,null,"",""]
["",null,null,null,null,null,null,"",""]
["",null,null,null,null,null,null,"",""]
["",null,null,null,null,null,null,"",""]
["",null,null,null,null,null,null,"",""]
["",null,null,null,null,null,null,"",""]
["",null,null,null,null,null,null,"",""]
["",null,null,null,null,null,null,"",""]
["",null,null,null,null,null,null,"",""]
["",null,null,null,null,null,null,"",""]
["",null,null,null,null,null,null,"",""]
["",null,null,null,null,null,null,"",""]
["",null,null,null,null,null,null,"",""]
["",null,null,null,null,null,null,"",""]
["",null,null,null,null,null,null,"",""]
["",null,null,null,null,null,null,"",""]
["",null,null,null,null,null,null,"",""]
["",null,null,null,null,null,null,"",""]
["",null,null,null,null,null,null,"",""]
["",null,null,null,null,null,null,"",""]
["",null,null,null,null,null,null,"",""]
["Max. 120 spillere"]

{"sheet":"Resultat","index":2,"n_rows":123,"n_cols":9,"rows_kept":123,"cut":false,"hidden":true,"merged":[[0,0,0,8],[122,0,122,8]]}
[{"$f":"Setup!B2","v":"Minitræf i Houlbjerg"}]
["Placering","Navn","Klub","Runde 1","Runde 2","Runde 3","Runde 4","Sortering","Total"]
[{"$f":"IF(B3=\"\",\"\",IF(H3=H2,A2,ROW(A3) - 2))","v":1},"Alice Madsen","Høst",null,null,null,null,"",""]
[1,"Alma Eriksen","Låsby",null,null,null,null,"",""]
[1,"Ann Gaardsvig","Silkeborg",null,null,null,null,"",""]
[1,"Bent Nielsen","Thorsø",null,null,null,null,"",""]
[1,"Bente Nordmann","Auning",null,null,null,null,"",""]
[1,"Bente Thomassen","Bjerregrav",null,null,null,null,"",""]
[1,"Birgit Svoldgaard","Hammel",null,null,null,null,"",""]
[1,"Birthe Rosenkvist","Hammel",null,null,null,null,"",""]
[1,"Britta Axelsen","Høst",null,null,null,null,"",""]
[1,"Børge Jensen","Houlbjerg",null,null,null,null,"",""]
[1,"Christen Jespersen","Lystrup",null,null,null,null,"",""]
[1,"Christian Norentoft","Thorsø",null,null,null,null,"",""]
[1,"Doris Thomsen","Houlbjerg",null,null,null,null,"",""]
[1,"Else-Marie Schmidt","Lystrup",null,null,null,null,"",""]
[1,"Erik Lægdsgaard","Houlbjerg",null,null,null,null,"",""]
[1,"Erik Pedersen","Høst",null,null,null,null,"",""]
[1,"Erik Rosenkvist","Hammel",null,null,null,null,"",""]
[1,"Erik Thomsen","Thorsø",null,null,null,null,"",""]
[1,"Ester Storgaard","Ulstrup",null,null,null,null,"",""]
[1,"Gerda Fogh","Hammel",null,null,null,null,"",""]
[1,"Grethe Gregersen","Houlbjerg",null,null,null,null,"",""]
[1,"Grethe Thomsen","Thorsø",null,null,null,null,"",""]
[1,"Grethe Thøgersen","Thorsø",null,null,null,null,"",""]
[1,"Hanne Bjerre","Pindstrup",null,null,null,null,"",""]
[1,"Hanne Else Knudsen","Silkeborg",null,null,null,null,"",""]
[1,"Hans J. Christensen","Ulstrup",null,null,null,null,"",""]
[1,"Henning Larsen","Silkeborg",null,null,null,null,"",""]
[1,"Henning Pedersen","Auning",null,null,null,null,"",""]
[1,"Inger Rasmussen","Høst",null,null,null,null,"",""]
[1,"Jens Henrik Juhl-Larsen","Houlbjerg",null,null,null,null,"",""]
[1,"Jens Tvi Holmsgaard","Lystrup",null,null,null,null,"",""]
[1,"Jonna Kjeldsen","Hammel",null,null,null,null,"",""]
[{"$f":"IF(B35=\"\",\"\",IF(H35=H34,A34,ROW(A35) - 2))","v":1},"Juul Thomsen","Houlbjerg",null,null,null,null,"",""]
[1,"Jørgen Bjerre","Pindstrup",null,null,null,null,"",""]
[1,"Jørgen Petersen","Rønde",null,null,null,null,"",""]
[1,"Kaj Storgaard","Ulstrup",null,null,null,null,"",""]
[1,"Kirsten Nielsen","Thorsø",null,null,null,null,"",""]
[1,"Knud Frederiksen","Høst",null,null,null,null,"",""]
[1,"Kurt Rasmussen","Høst",null,null,null,null,"",""]
[1,"Kurt Thomsen","Houlbjerg",null,null,null,null,"",""]
[1,"Lilly Hansen","Silkeborg",null,null,null,null,"",""]
[1,"Lis Lassen","Lystrup",null,null,null,null,"",""]
[1,"Lisbeth Sørensen","Houlbjerg",null,null,null,null,"",""]
[1,"Lissi Thomsen","Houlbjerg",null,null,null,null,"",""]
[1,"Lynge Madsen","Silkeborg",null,null,null,null,"",""]
[1,"Maja Pedersen","Auning",null,null,null,null,"",""]
[1,"Margit Jensen","Høst",null,null,null,null,"",""]
[1,"Marie Petersen","Rønde",null,null,null,null,"",""]
[1,"Max Thomassen","Bjerregrav",null,null,null,null,"",""]
[1,"Myrna Rasmussen","Rønde",null,null,null,null,"",""]
[1,"Nanny Lægdsgaard","Houlbjerg",null,null,null,null,"",""]
[1,"Niels Kofoed","Tranbjerg",null,null,null,null,"",""]
[1,"Poul Henriksen","Houlbjerg",null,null,null,null,"",""]
[1,"Rosa Højgaard","Hammel",null,null,null,null,"",""]
[1,"Svend B. G. Laursen","Rønde",null,null,null,null,"",""]
[1,"Tage Hansen","Låsby",null,null,null,null,"",""]
[1,"Ulla Bjerring","Høst",null,null,null,null,"",""]
[1,"Ulla Ravn","Ulstrup",null,null,null,null,"",""]
[1,"Vagn F. Nielsen","Rønde",null,null,null,null,"",""]
[1,"Yrsa Sørensen","Houlbjerg",null,null,null,null,"",""]
["",null,null,null,null,null,null,"",""]
["",null,null,null,null,null,null,"",""]
["",null,null,null,null,null,null,"",""]
["",null,null,null,null,null,null,"",""]
[{"$f":"IF(B67=\"\",\"\",IF(H67=H66,A66,ROW(A67) - 2))","v":""},null,null,null,null,null,null,"",""]
["",null,null,null,null,null,null,"",""]
["",null,null,null,null,null,null,"",""]
["",null,null,null,null,null,null,"",""]
["",null,null,null,null,null,null,"",""]
["",null,null,null,null,null,null,"",""]
["",null,null,null,null,null,null,"",""]
["",null,null,null,null,null,null,"",""]
["",null,null,null,null,null,null,"",""]
["",null,null,null,null,null,null,"",""]
["",null,null,null,null,null,null,"",""]
["",null,null,null,null,null,null,"",""]
["",null,null,null,null,null,null,"",""]
["",null,null,null,null,null,null,"",""]
["",null,null,null,null,null,null,"",""]
["",null,null,null,null,null,null,"",""]
["",null,null,null,null,null,null,"",""]
["",null,null,null,null,null,null,"",""]
["",null,null,null,null,null,null,"",""]
["",null,null,null,null,null,null,"",""]
["",null,null,null,null,null,null,"",""]
["",null,null,null,null,null,null,"",""]
["",null,null,null,null,null,null,"",""]
["",null,null,null,null,null,null,"",""]
["",null,null,null,null,null,null,"",""]
["",null,null,null,null,null,null,"",""]
["",null,null,null,null,null,null,"",""]
["",null,null,null,null,null,null,"",""]
["",null,null,null,null,null,null,"",""]
["",null,null,null,null,null,null,"",""]
["",null,null,null,null,null,null,"",""]
["",null,null,null,null,null,null,"",""]
[{"$f":"IF(B99=\"\",\"\",IF(H99=H98,A98,ROW(A99) - 2))","v":""},null,null,null,null,null,null,"",""]
["",null,null,null,null,null,null,"",""]
["",null,null,null,null,null,null,"",""]
["",null,null,null,null,null,null,"",""]
["",null,null,null,null,null,null,"",""]
["",null,null,null,null,null,null,"",""]
["",null,null,null,null,null,null,"",""]
["",null,null,null,null,null,null,"",""]
["",null,null,null,null,null,null,"",""]
["",null,null,null,null,null,null,"",""]
["",null,null,null,null,null,null,"",""]
["",null,null,null,null,null,null,"",""]
["",null,null,null,null,null,null,"",""]
["",null,null,null,null,null,null,"",""]
["",null,null,null,null,null,null,"",""]
["",null,null,null,null,null,null,"",""]
["",null,null,null,null,null,null,"",""]
["",null,null,null,null,null,null,"",""]
["",null,null,null,null,null,null,"",""]
["",null,null,null,null,null,null,"",""]
["",null,null,null,null,null,null,"",""]
["",null,null,null,null,null,null,"",""]
["",null,null,null,null,null,null,"",""]
["",null,null,null,null,null,null,"",""]
["Max. 120 spillere"]

{"sheet":"Puljer","index":3,"n_rows":34,"n_cols":8,"rows_kept":34,"cut":false,"hidden":false,"merged":[[17,0,17,1],[17,2,17,3],[17,4,17,5],[17,6,17,7],[14,0,14,8],[2,0,2,1],[10,0,10,1],[11,0,11,1],[0,0,0,8],[3,4,3,5],[3,6,3,7],[6,0,6,1],[7,0,7,1],[7,5,7,8],[12,0,12,1],[13,0,13,1],[5,0,5,1],[8,0,8,1],[9,0,9,1]]}
[{"$f":"Setup!B2","v":"Minitræf i Houlbjerg"}]
[]
["Antal spillere",null,{"$f":"COUNTA(Registrering!B3:B122)","v":60}]
[]
[]
["Antal runder",null,{"$f":"Setup!B10","v":2}]
["Max. antal spillere pr. bane",null,{"$f":"ROUNDUP(C3/C10,0)","v":30}]
["Antal baner",null,{"$f":"Setup!B11","v":2},null,null,"  "]
["Antal spillergrupper teori",null,{"$f":"IF(C3<25,1,IF(C3<37,2,IF(C3<49,3,ROUNDDOWN(C3/Setup!B11,0))))","v":30}]
["Antal spillergrupper praksis",null,{"$f":"IF(C8<C9,C8,C9)","v":2}]
[{"$f":"Setup!B12","v":"Bane 1"}]
[{"$f":"IF(C8>1,Setup!B13,\"\")","v":"Bane 2"}]
[{"$f":"IF(C8>1,Setup!B14,\"\")","v":0},null,null,null,null,null,null,"OK"]
[{"$f":"IF(C8>3,Setup!B15,\"\")","v":""}]
[5]
[null,null,"Spillerne får så vidt muligt nye modstandere"]
[]
[]
[]
[]
[]
[]
[]
[]
[]
[]
[]
[]
[]
[]
[]
[]
[]
[null,null,"Spillerne får samme modstandere som i 1. runde."]

{"sheet":"Gruppeliste","index":4,"n_rows":204,"n_cols":7,"rows_kept":204,"cut":false,"hidden":false,"merged":[[0,0,0,6]]}
[{"$f":"Setup!B2","v":"Minitræf i Houlbjerg"}]
["Navn","Klub","Gruppe","Runde 1","Runde 2","Runde 3","Runde 4"]
[{"$f":"'Puljer runde 1'!H29","v":0},{"$f":"'Puljer runde 1'!I29","v":0},{"$f":"'Puljer runde 1'!$A$25","v":"x"},{"$f":"IF(C3=$B$201,$B$200,IF(C3=$C$201,$C$200,IF(C3=$D$201,$D$200,IF(C3=$E$201,$E$200,\"\"))))","v":0},{"$f":"IF(C3=$B$202,$B$200,IF(C3=$C$202,$C$200,IF(C3=$D$202,$D$200,IF(C3=$E$202,$E$200,\"\"))))","v":0},{"$f":"IF(C3=$B$203,$B$200,IF(C3=$C$203,$C$200,IF(C3=$D$203,$D$200,IF(C3=$E$203,$E$200,\"\"))))","v":"Bane 1"},{"$f":"IF(C3=$B$204,$B$200,IF(C3=$C$204,$C$200,IF(C3=$D$204,$D$200,IF(C3=$E$204,$E$200,\"\"))))","v":"Bane 1"}]
[{"$f":"'Puljer runde 1'!D41","v":0},{"$f":"'Puljer runde 1'!E41","v":0},{"$f":"'Puljer runde 1'!$A$35","v":"x"},0,0,"Bane 1","Bane 1"]
[{"$f":"'Puljer runde 1'!H39","v":0},{"$f":"'Puljer runde 1'!I39","v":0},{"$f":"'Puljer runde 1'!$A$35","v":"x"},0,0,"Bane 1","Bane 1"]
[{"$f":"'Puljer runde 1'!D21","v":"Alice Madsen"},{"$f":"'Puljer runde 1'!E21","v":"Høst"},{"$f":"'Puljer runde 1'!$A$15","v":"Grøn"},{"$f":"IF(C6=$B$201,$B$200,IF(C6=$C$201,$C$200,IF(C6=$D$201,$D$200,IF(C6=$E$201,$E$200,\"\"))))","v":"Bane 2"},{"$f":"IF(C6=$B$202,$B$200,IF(C6=$C$202,$C$200,IF(C6=$D$202,$D$200,IF(C6=$E$202,$E$200,\"\"))))","v":"Bane 1"},{"$f":"IF(C6=$B$203,$B$200,IF(C6=$C$203,$C$200,IF(C6=$D$203,$D$200,IF(C6=$E$203,$E$200,\"\"))))","v":""},{"$f":"IF(C6=$B$204,$B$200,IF(C6=$C$204,$C$200,IF(C6=$D$204,$D$200,IF(C6=$E$204,$E$200,\"\"))))","v":""}]
[{"$f":"'Puljer runde 1'!H27","v":0},{"$f":"'Puljer runde 1'!I27","v":0},{"$f":"'Puljer runde 1'!$A$25","v":"x"},0,0,"Bane 1","Bane 1"]
[{"$f":"'Puljer runde 1'!F21","v":"Alma Eriksen"},{"$f":"'Puljer runde 1'!G21","v":"Låsby"},{"$f":"'Puljer runde 1'!$A$15","v":"Grøn"},"Bane 2","Bane 1","",""]
[{"$f":"'Puljer runde 1'!H10","v":"Ann Gaardsvig"},{"$f":"'Puljer runde 1'!I10","v":"Silkeborg"},{"$f":"'Puljer runde 1'!$A$5","v":"Rød"},"Bane 1","Bane 2","",""]
[{"$f":"'Puljer runde 1'!D29","v":0},{"$f":"'Puljer runde 1'!E29","v":0},{"$f":"'Puljer runde 1'!$A$25","v":"x"},0,0,"Bane 1","Bane 1"]
[{"$f":"'Puljer runde 1'!B40","v":0},{"$f":"'Puljer runde 1'!C40","v":0},{"$f":"'Puljer runde 1'!$A$35","v":"x"},0,0,"Bane 1","Bane 1"]
[{"$f":"'Puljer runde 1'!B37","v":0},{"$f":"'Puljer runde 1'!C37","v":0},{"$f":"'Puljer runde 1'!$A$35","v":"x"},0,0,"Bane 1","Bane 1"]
[{"$f":"'Puljer runde 1'!F26","v":0},{"$f":"'Puljer runde 1'!G26","v":0},{"$f":"'Puljer runde 1'!$A$25","v":"x"},0,0,"Bane 1","Bane 1"]
[{"$f":"'Puljer runde 1'!F36","v":0},{"$f":"'Puljer runde 1'!G36","v":0},{"$f":"'Puljer runde 1'!$A$35","v":"x"},0,0,"Bane 1","Bane 1"]
[{"$f":"'Puljer runde 1'!J16","v":"Bent Nielsen"},{"$f":"'Puljer runde 1'!K16","v":"Thorsø"},{"$f":"'Puljer runde 1'!$A$15","v":"Grøn"},"Bane 2","Bane 1","",""]
[{"$f":"'Puljer runde 1'!B6","v":"Bente Nordmann"},{"$f":"'Puljer runde 1'!C6","v":"Auning"},{"$f":"'Puljer runde 1'!$A$5","v":"Rød"},"Bane 1","Bane 2","",""]
[{"$f":"'Puljer runde 1'!D27","v":0},{"$f":"'Puljer runde 1'!E27","v":0},{"$f":"'Puljer runde 1'!$A$25","v":"x"},0,0,"Bane 1","Bane 1"]
[{"$f":"'Puljer runde 1'!D40","v":0},{"$f":"'Puljer runde 1'!E40","v":0},{"$f":"'Puljer runde 1'!$A$35","v":"x"},0,0,"Bane 1","Bane 1"]
[{"$f":"'Puljer runde 1'!D37","v":0},{"$f":"'Puljer runde 1'!E37","v":0},{"$f":"'Puljer runde 1'!$A$35","v":"x"},0,0,"Bane 1","Bane 1"]
[{"$f":"'Puljer runde 1'!H30","v":0},{"$f":"'Puljer runde 1'!I30","v":0},{"$f":"'Puljer runde 1'!$A$25","v":"x"},0,0,"Bane 1","Bane 1"]
[{"$f":"'Puljer runde 1'!B17","v":"Bente Thomassen"},{"$f":"'Puljer runde 1'!C17","v":"Bjerregrav"},{"$f":"'Puljer runde 1'!$A$15","v":"Grøn"},"Bane 2","Bane 1","",""]
[{"$f":"'Puljer runde 1'!F40","v":0},{"$f":"'Puljer runde 1'!G40","v":0},{"$f":"'Puljer runde 1'!$A$35","v":"x"},0,0,"Bane 1","Bane 1"]
[{"$f":"'Puljer runde 1'!B18","v":"Birgit Svoldgaard"},{"$f":"'Puljer runde 1'!C18","v":"Hammel"},{"$f":"'Puljer runde 1'!$A$15","v":"Grøn"},"Bane 2","Bane 1","",""]
[{"$f":"'Puljer runde 1'!B26","v":0},{"$f":"'Puljer runde 1'!C26","v":0},{"$f":"'Puljer runde 1'!$A$25","v":"x"},0,0,"Bane 1","Bane 1"]
[{"$f":"'Puljer runde 1'!H40","v":0},{"$f":"'Puljer runde 1'!I40","v":0},{"$f":"'Puljer runde 1'!$A$35","v":"x"},0,0,"Bane 1","Bane 1"]
[{"$f":"'Puljer runde 1'!J38","v":0},{"$f":"'Puljer runde 1'!K38","v":0},{"$f":"'Puljer runde 1'!$A$35","v":"x"},0,0,"Bane 1","Bane 1"]
[{"$f":"'Puljer runde 1'!B9","v":"Birthe Rosenkvist"},{"$f":"'Puljer runde 1'!C9","v":"Hammel"},{"$f":"'Puljer runde 1'!$A$5","v":"Rød"},"Bane 1","Bane 2","",""]
[{"$f":"'Puljer runde 1'!B28","v":0},{"$f":"'Puljer runde 1'!C28","v":0},{"$f":"'Puljer runde 1'!$A$25","v":"x"},0,0,"Bane 1","Bane 1"]
[{"$f":"'Puljer runde 1'!F6","v":"Britta Axelsen"},{"$f":"'Puljer runde 1'!G6","v":"Høst"},{"$f":"'Puljer runde 1'!$A$5","v":"Rød"},"Bane 1","Bane 2","",""]
[{"$f":"'Puljer runde 1'!B21","v":"Børge Jensen"},{"$f":"'Puljer runde 1'!C21","v":"Houlbjerg"},{"$f":"'Puljer runde 1'!$A$15","v":"Grøn"},"Bane 2","Bane 1","",""]
[{"$f":"'Puljer runde 1'!J29","v":0},{"$f":"'Puljer runde 1'!K29","v":0},{"$f":"'Puljer runde 1'!$A$25","v":"x"},0,0,"Bane 1","Bane 1"]
[{"$f":"'Puljer runde 1'!F19","v":"Christen Jespersen"},{"$f":"'Puljer runde 1'!G19","v":"Lystrup"},{"$f":"'Puljer runde 1'!$A$15","v":"Grøn"},"Bane 2","Bane 1","",""]
[{"$f":"'Puljer runde 1'!H37","v":0},{"$f":"'Puljer runde 1'!I37","v":0},{"$f":"'Puljer runde 1'!$A$35","v":"x"},0,0,"Bane 1","Bane 1"]
[{"$f":"'Puljer runde 1'!J7","v":"Christian Norentoft"},{"$f":"'Puljer runde 1'!K7","v":"Thorsø"},{"$f":"'Puljer runde 1'!$A$5","v":"Rød"},"Bane 1","Bane 2","",""]
[{"$f":"'Puljer runde 1'!B36","v":0},{"$f":"'Puljer runde 1'!C36","v":0},{"$f":"'Puljer runde 1'!$A$35","v":"x"},0,0,"Bane 1","Bane 1"]
[{"$f":"'Puljer runde 1'!J39","v":0},{"$f":"'Puljer runde 1'!K39","v":0},{"$f":"'Puljer runde 1'!$A$35","v":"x"},0,0,"Bane 1","Bane 1"]
[{"$f":"'Puljer runde 1'!F27","v":0},{"$f":"'Puljer runde 1'!G27","v":0},{"$f":"'Puljer runde 1'!$A$25","v":"x"},0,0,"Bane 1","Bane 1"]
[{"$f":"'Puljer runde 1'!D39","v":0},{"$f":"'Puljer runde 1'!E39","v":0},{"$f":"'Puljer runde 1'!$A$35","v":"x"},{"$f":"IF(C38=$B$201,$B$200,IF(C38=$C$201,$C$200,IF(C38=$D$201,$D$200,IF(C38=$E$201,$E$200,\"\"))))","v":0},{"$f":"IF(C38=$B$202,$B$200,IF(C38=$C$202,$C$200,IF(C38=$D$202,$D$200,IF(C38=$E$202,$E$200,\"\"))))","v":0},{"$f":"IF(C38=$B$203,$B$200,IF(C38=$C$203,$C$200,IF(C38=$D$203,$D$200,IF(C38=$E$203,$E$200,\"\"))))","v":"Bane 1"},{"$f":"IF(C38=$B$204,$B$200,IF(C38=$C$204,$C$200,IF(C38=$D$204,$D$200,IF(C38=$E$204,$E$200,\"\"))))","v":"Bane 1"}]
[{"$f":"'Puljer runde 1'!H31","v":0},{"$f":"'Puljer runde 1'!I31","v":0},{"$f":"'Puljer runde 1'!$A$25","v":"x"},0,0,"Bane 1","Bane 1"]
[{"$f":"'Puljer runde 1'!D6","v":"Doris Thomsen"},{"$f":"'Puljer runde 1'!E6","v":"Houlbjerg"},{"$f":"'Puljer runde 1'!$A$5","v":"Rød"},"Bane 1","Bane 2","",""]
[{"$f":"'Puljer runde 1'!F10","v":"Else-Marie Schmidt"},{"$f":"'Puljer runde 1'!G10","v":"Lystrup"},{"$f":"'Puljer runde 1'!$A$5","v":"Rød"},"Bane 1","Bane 2","",""]
[{"$f":"'Puljer runde 1'!D16","v":"Erik Lægdsgaard"},{"$f":"'Puljer runde 1'!E16","v":"Houlbjerg"},{"$f":"'Puljer runde 1'!$A$15","v":"Grøn"},"Bane 2","Bane 1","",""]
[{"$f":"'Puljer runde 1'!B38","v":0},{"$f":"'Puljer runde 1'!C38","v":0},{"$f":"'Puljer runde 1'!$A$35","v":"x"},0,0,"Bane 1","Bane 1"]
[{"$f":"'Puljer runde 1'!F31","v":0},{"$f":"'Puljer runde 1'!G31","v":0},{"$f":"'Puljer runde 1'!$A$25","v":"x"},0,0,"Bane 1","Bane 1"]
[{"$f":"'Puljer runde 1'!F16","v":"Erik Pedersen"},{"$f":"'Puljer runde 1'!G16","v":"Høst"},{"$f":"'Puljer runde 1'!$A$15","v":"Grøn"},"Bane 2","Bane 1","",""]
[{"$f":"'Puljer runde 1'!F41","v":0},{"$f":"'Puljer runde 1'!G41","v":0},{"$f":"'Puljer runde 1'!$A$35","v":"x"},0,0,"Bane 1","Bane 1"]
[{"$f":"'Puljer runde 1'!B19","v":"Erik Rosenkvist"},{"$f":"'Puljer runde 1'!C19","v":"Hammel"},{"$f":"'Puljer runde 1'!$A$15","v":"Grøn"},"Bane 2","Bane 1","",""]
[{"$f":"'Puljer runde 1'!H41","v":0},{"$f":"'Puljer runde 1'!I41","v":0},{"$f":"'Puljer runde 1'!$A$35","v":"x"},0,0,"Bane 1","Bane 1"]
[{"$f":"'Puljer runde 1'!J17","v":"Erik Thomsen"},{"$f":"'Puljer runde 1'!K17","v":"Thorsø"},{"$f":"'Puljer runde 1'!$A$15","v":"Grøn"},"Bane 2","Bane 1","",""]
[{"$f":"'Puljer runde 1'!B31","v":0},{"$f":"'Puljer runde 1'!C31","v":0},{"$f":"'Puljer runde 1'!$A$25","v":"x"},0,0,"Bane 1","Bane 1"]
[{"$f":"'Puljer runde 1'!J10","v":"Ester Storgaard"},{"$f":"'Puljer runde 1'!K10","v":"Ulstrup"},{"$f":"'Puljer runde 1'!$A$5","v":"Rød"},"Bane 1","Bane 2","",""]
[{"$f":"'Puljer runde 1'!J30","v":0},{"$f":"'Puljer runde 1'!K30","v":0},{"$f":"'Puljer runde 1'!$A$25","v":"x"},0,0,"Bane 1","Bane 1"]
[{"$f":"'Puljer runde 1'!D31","v":0},{"$f":"'Puljer runde 1'!E31","v":0},{"$f":"'Puljer runde 1'!$A$25","v":"x"},0,0,"Bane 1","Bane 1"]
[{"$f":"'Puljer runde 1'!B41","v":0},{"$f":"'Puljer runde 1'!C41","v":0},{"$f":"'Puljer runde 1'!$A$35","v":"x"},0,0,"Bane 1","Bane 1"]
[{"$f":"'Puljer runde 1'!B10","v":"Gerda Fogh"},{"$f":"'Puljer runde 1'!C10","v":"Hammel"},{"$f":"'Puljer runde 1'!$A$5","v":"Rød"},"Bane 1","Bane 2","",""]
[{"$f":"'Puljer runde 1'!F37","v":0},{"$f":"'Puljer runde 1'!G37","v":0},{"$f":"'Puljer runde 1'!$A$35","v":"x"},0,0,"Bane 1","Bane 1"]
[{"$f":"'Puljer runde 1'!F29","v":0},{"$f":"'Puljer runde 1'!G29","v":0},{"$f":"'Puljer runde 1'!$A$25","v":"x"},0,0,"Bane 1","Bane 1"]
[{"$f":"'Puljer runde 1'!D28","v":0},{"$f":"'Puljer runde 1'!E28","v":0},{"$f":"'Puljer runde 1'!$A$25","v":"x"},0,0,"Bane 1","Bane 1"]
[{"$f":"'Puljer runde 1'!J40","v":0},{"$f":"'Puljer runde 1'!K40","v":0},{"$f":"'Puljer runde 1'!$A$35","v":"x"},0,0,"Bane 1","Bane 1"]
[{"$f":"'Puljer runde 1'!B29","v":0},{"$f":"'Puljer runde 1'!C29","v":0},{"$f":"'Puljer runde 1'!$A$25","v":"x"},0,0,"Bane 1","Bane 1"]
[{"$f":"'Puljer runde 1'!D7","v":"Grethe Gregersen"},{"$f":"'Puljer runde 1'!E7","v":"Houlbjerg"},{"$f":"'Puljer runde 1'!$A$5","v":"Rød"},"Bane 1","Bane 2","",""]
[{"$f":"'Puljer runde 1'!F30","v":0},{"$f":"'Puljer runde 1'!G30","v":0},{"$f":"'Puljer runde 1'!$A$25","v":"x"},0,0,"Bane 1","Bane 1"]
[{"$f":"'Puljer runde 1'!D38","v":0},{"$f":"'Puljer runde 1'!E38","v":0},{"$f":"'Puljer runde 1'!$A$35","v":"x"},0,0,"Bane 1","Bane 1"]
[{"$f":"'Puljer runde 1'!H28","v":0},{"$f":"'Puljer runde 1'!I28","v":0},{"$f":"'Puljer runde 1'!$A$25","v":"x"},0,0,"Bane 1","Bane 1"]
[{"$f":"'Puljer runde 1'!J8","v":"Grethe Thomsen"},{"$f":"'Puljer runde 1'!K8","v":"Thorsø"},{"$f":"'Puljer runde 1'!$A$5","v":"Rød"},"Bane 1","Bane 2","",""]
[{"$f":"'Puljer runde 1'!B39","v":0},{"$f":"'Puljer runde 1'!C39","v":0},{"$f":"'Puljer runde 1'!$A$35","v":"x"},0,0,"Bane 1","Bane 1"]
[{"$f":"'Puljer runde 1'!H38","v":0},{"$f":"'Puljer runde 1'!I38","v":0},{"$f":"'Puljer runde 1'!$A$35","v":"x"},0,0,"Bane 1","Bane 1"]
[{"$f":"'Puljer runde 1'!J26","v":0},{"$f":"'Puljer runde 1'!K26","v":0},{"$f":"'Puljer runde 1'!$A$25","v":"x"},0,0,"Bane 1","Bane 1"]
[{"$f":"'Puljer runde 1'!J36","v":0},{"$f":"'Puljer runde 1'!K36","v":0},{"$f":"'Puljer runde 1'!$A$35","v":"x"},0,0,"Bane 1","Bane 1"]
[{"$f":"'Puljer runde 1'!J18","v":"Grethe Thøgersen"},{"$f":"'Puljer runde 1'!K18","v":"Thorsø"},{"$f":"'Puljer runde 1'!$A$15","v":"Grøn"},{"$f":"IF(C70=$B$201,$B$200,IF(C70=$C$201,$C$200,IF(C70=$D$201,$D$200,IF(C70=$E$201,$E$200,\"\"))))","v":"Bane 2"},{"$f":"IF(C70=$B$202,$B$200,IF(C70=$C$202,$C$200,IF(C70=$D$202,$D$200,IF(C70=$E$202,$E$200,\"\"))))","v":"Bane 1"},{"$f":"IF(C70=$B$203,$B$200,IF(C70=$C$203,$C$200,IF(C70=$D$203,$D$200,IF(C70=$E$203,$E$200,\"\"))))","v":""},{"$f":"IF(C70=$B$204,$B$200,IF(C70=$C$204,$C$200,IF(C70=$D$204,$D$200,IF(C70=$E$204,$E$200,\"\"))))","v":""}]
[{"$f":"'Puljer runde 1'!H26","v":0},{"$f":"'Puljer runde 1'!I26","v":0},{"$f":"'Puljer runde 1'!$A$25","v":"x"},0,0,"Bane 1","Bane 1"]
[{"$f":"'Puljer runde 1'!H16","v":"Hanne Bjerre"},{"$f":"'Puljer runde 1'!I16","v":"Pindstrup"},{"$f":"'Puljer runde 1'!$A$15","v":"Grøn"},"Bane 2","Bane 1","",""]
[{"$f":"'Puljer runde 1'!H36","v":0},{"$f":"'Puljer runde 1'!I36","v":0},{"$f":"'Puljer runde 1'!$A$35","v":"x"},0,0,"Bane 1","Bane 1"]
[{"$f":"'Puljer runde 1'!D26","v":0},{"$f":"'Puljer runde 1'!E26","v":0},{"$f":"'Puljer runde 1'!$A$25","v":"x"},0,0,"Bane 1","Bane 1"]
[{"$f":"'Puljer runde 1'!F39","v":0},{"$f":"'Puljer runde 1'!G39","v":0},{"$f":"'Puljer runde 1'!$A$35","v":"x"},0,0,"Bane 1","Bane 1"]
[{"$f":"'Puljer runde 1'!D36","v":0},{"$f":"'Puljer runde 1'!E36","v":0},{"$f":"'Puljer runde 1'!$A$35","v":"x"},0,0,"Bane 1","Bane 1"]
[{"$f":"'Puljer runde 1'!H20","v":"Hanne Else Knudsen"},{"$f":"'Puljer runde 1'!I20","v":"Silkeborg"},{"$f":"'Puljer runde 1'!$A$15","v":"Grøn"},"Bane 2","Bane 1","",""]
[{"$f":"'Puljer runde 1'!J20","v":"Hans J. Christensen"},{"$f":"'Puljer runde 1'!K20","v":"Ulstrup"},{"$f":"'Puljer runde 1'!$A$15","v":"Grøn"},"Bane 2","Bane 1","",""]
[{"$f":"'Puljer runde 1'!H11","v":"Henning Larsen"},{"$f":"'Puljer runde 1'!I11","v":"Silkeborg"},{"$f":"'Puljer runde 1'!$A$5","v":"Rød"},"Bane 1","Bane 2","",""]
[{"$f":"'Puljer runde 1'!J27","v":0},{"$f":"'Puljer runde 1'!K27","v":0},{"$f":"'Puljer runde 1'!$A$25","v":"x"},0,0,"Bane 1","Bane 1"]
[{"$f":"'Puljer runde 1'!J37","v":0},{"$f":"'Puljer runde 1'!K37","v":0},{"$f":"'Puljer runde 1'!$A$35","v":"x"},0,0,"Bane 1","Bane 1"]
[{"$f":"'Puljer runde 1'!F28","v":0},{"$f":"'Puljer runde 1'!G28","v":0},{"$f":"'Puljer runde 1'!$A$25","v":"x"},0,0,"Bane 1","Bane 1"]
[{"$f":"'Puljer runde 1'!J31","v":0},{"$f":"'Puljer runde 1'!K31","v":0},{"$f":"'Puljer runde 1'!$A$25","v":"x"},0,0,"Bane 1","Bane 1"]
[{"$f":"'Puljer runde 1'!D30","v":0},{"$f":"'Puljer runde 1'!E30","v":0},{"$f":"'Puljer runde 1'!$A$25","v":"x"},0,0,"Bane 1","Bane 1"]
[{"$f":"'Puljer runde 1'!B16","v":"Henning Pedersen"},{"$f":"'Puljer runde 1'!C16","v":"Auning"},{"$f":"'Puljer runde 1'!$A$15","v":"Grøn"},"Bane 2","Bane 1","",""]
[{"$f":"'Puljer runde 1'!F38","v":0},{"$f":"'Puljer runde 1'!G38","v":0},{"$f":"'Puljer runde 1'!$A$35","v":"x"},0,0,"Bane 1","Bane 1"]
[{"$f":"'Puljer runde 1'!B30","v":0},{"$f":"'Puljer runde 1'!C30","v":0},{"$f":"'Puljer runde 1'!$A$25","v":"x"},0,0,"Bane 1","Bane 1"]
[{"$f":"'Puljer runde 1'!B27","v":0},{"$f":"'Puljer runde 1'!C27","v":0},{"$f":"'Puljer runde 1'!$A$25","v":"x"},0,0,"Bane 1","Bane 1"]
[{"$f":"'Puljer runde 1'!F7","v":"Inger Rasmussen"},{"$f":"'Puljer runde 1'!G7","v":"Høst"},{"$f":"'Puljer runde 1'!$A$5","v":"Rød"},"Bane 1","Bane 2","",""]
[{"$f":"'Puljer runde 1'!D17","v":"Jens Henrik Juhl-Larsen"},{"$f":"'Puljer runde 1'!E17","v":"Houlbjerg"},{"$f":"'Puljer runde 1'!$A$15","v":"Grøn"},"Bane 2","Bane 1","",""]
[{"$f":"'Puljer runde 1'!J28","v":0},{"$f":"'Puljer runde 1'!K28","v":0},{"$f":"'Puljer runde 1'!$A$25","v":"x"},0,0,"Bane 1","Bane 1"]
[{"$f":"'Puljer runde 1'!F20","v":"Jens Tvi Holmsgaard"},{"$f":"'Puljer runde 1'!G20","v":"Lystrup"},{"$f":"'Puljer runde 1'!$A$15","v":"Grøn"},"Bane 2","Bane 1","",""]
[{"$f":"'Puljer runde 1'!B20","v":"Jonna Kjeldsen"},{"$f":"'Puljer runde 1'!C20","v":"Hammel"},{"$f":"'Puljer runde 1'!$A$15","v":"Grøn"},"Bane 2","Bane 1","",""]
[{"$f":"'Puljer runde 1'!D8","v":"Juul Thomsen"},{"$f":"'Puljer runde 1'!E8","v":"Houlbjerg"},{"$f":"'Puljer runde 1'!$A$5","v":"Rød"},"Bane 1","Bane 2","",""]
[{"$f":"'Puljer runde 1'!H7","v":"Jørgen Bjerre"},{"$f":"'Puljer runde 1'!I7","v":"Pindstrup"},{"$f":"'Puljer runde 1'!$A$5","v":"Rød"},"Bane 1","Bane 2","",""]
[{"$f":"'Puljer runde 1'!H17","v":"Jørgen Petersen"},{"$f":"'Puljer runde 1'!I17","v":"Rønde"},{"$f":"'Puljer runde 1'!$A$15","v":"Grøn"},"Bane 2","Bane 1","",""]
[{"$f":"'Puljer runde 1'!J11","v":"Kaj Storgaard"},{"$f":"'Puljer runde 1'!K11","v":"Ulstrup"},{"$f":"'Puljer runde 1'!$A$5","v":"Rød"},"Bane 1","Bane 2","",""]
[{"$f":"'Puljer runde 1'!J9","v":"Kirsten Nielsen"},{"$f":"'Puljer runde 1'!K9","v":"Thorsø"},{"$f":"'Puljer runde 1'!$A$5","v":"Rød"},"Bane 1","Bane 2","",""]
[{"$f":"'Puljer runde 1'!F17","v":"Knud Frederiksen"},{"$f":"'Puljer runde 1'!G17","v":"Høst"},{"$f":"'Puljer runde 1'!$A$15","v":"Grøn"},"Bane 2","Bane 1","",""]
[{"$f":"'Puljer runde 1'!F8","v":"Kurt Rasmussen"},{"$f":"'Puljer runde 1'!G8","v":"Høst"},{"$f":"'Puljer runde 1'!$A$5","v":"Rød"},"Bane 1","Bane 2","",""]
[{"$f":"'Puljer runde 1'!D18","v":"Kurt Thomsen"},{"$f":"'Puljer runde 1'!E18","v":"Houlbjerg"},{"$f":"'Puljer runde 1'!$A$15","v":"Grøn"},"Bane 2","Bane 1","",""]
[{"$f":"'Puljer runde 1'!H21","v":"Lilly Hansen"},{"$f":"'Puljer runde 1'!I21","v":"Silkeborg"},{"$f":"'Puljer runde 1'!$A$15","v":"Grøn"},{"$f":"IF(C102=$B$201,$B$200,IF(C102=$C$201,$C$200,IF(C102=$D$201,$D$200,IF(C102=$E$201,$E$200,\"\"))))","v":"Bane 2"},{"$f":"IF(C102=$B$202,$B$200,IF(C102=$C$202,$C$200,IF(C102=$D$202,$D$200,IF(C102=$E$202,$E$200,\"\"))))","v":"Bane 1"},{"$f":"IF(C102=$B$203,$B$200,IF(C102=$C$203,$C$200,IF(C102=$D$203,$D$200,IF(C102=$E$203,$E$200,\"\"))))","v":""},{"$f":"IF(C102=$B$204,$B$200,IF(C102=$C$204,$C$200,IF(C102=$D$204,$D$200,IF(C102=$E$204,$E$200,\"\"))))","v":""}]
[{"$f":"'Puljer runde 1'!F11","v":"Lis Lassen"},{"$f":"'Puljer runde 1'!G11","v":"Lystrup"},{"$f":"'Puljer runde 1'!$A$5","v":"Rød"},"Bane 1","Bane 2","",""]
[{"$f":"'Puljer runde 1'!D9","v":"Lisbeth Sørensen"},{"$f":"'Puljer runde 1'!E9","v":"Houlbjerg"},{"$f":"'Puljer runde 1'!$A$5","v":"Rød"},"Bane 1","Bane 2","",""]
[{"$f":"'Puljer runde 1'!D19","v":"Lissi Thomsen"},{"$f":"'Puljer runde 1'!E19","v":"Houlbjerg"},{"$f":"'Puljer runde 1'!$A$15","v":"Grøn"},"Bane 2","Bane 1","",""]
[{"$f":"'Puljer runde 1'!J6","v":"Lynge Madsen"},{"$f":"'Puljer runde 1'!K6","v":"Silkeborg"},{"$f":"'Puljer runde 1'!$A$5","v":"Rød"},"Bane 1","Bane 2","",""]
[{"$f":"'Puljer runde 1'!B7","v":"Maja Pedersen"},{"$f":"'Puljer runde 1'!C7","v":"Auning"},{"$f":"'Puljer runde 1'!$A$5","v":"Rød"},"Bane 1","Bane 2","",""]
[{"$f":"'Puljer runde 1'!F18","v":"Margit Jensen"},{"$f":"'Puljer runde 1'!G18","v":"Høst"},{"$f":"'Puljer runde 1'!$A$15","v":"Grøn"},"Bane 2","Bane 1","",""]
[{"$f":"'Puljer runde 1'!H8","v":"Marie Petersen"},{"$f":"'Puljer runde 1'!I8","v":"Rønde"},{"$f":"'Puljer runde 1'!$A$5","v":"Rød"},"Bane 1","Bane 2","",""]
[{"$f":"'Puljer runde 1'!B8","v":"Max Thomassen"},{"$f":"'Puljer runde 1'!C8","v":"Bjerregrav"},{"$f":"'Puljer runde 1'!$A$5","v":"Rød"},"Bane 1","Bane 2","",""]
[{"$f":"'Puljer runde 1'!H18","v":"Myrna Rasmussen"},{"$f":"'Puljer runde 1'!I18","v":"Rønde"},{"$f":"'Puljer runde 1'!$A$15","v":"Grøn"},"Bane 2","Bane 1","",""]
[{"$f":"'Puljer runde 1'!D10","v":"Nanny Lægdsgaard"},{"$f":"'Puljer runde 1'!E10","v":"Houlbjerg"},{"$f":"'Puljer runde 1'!$A$5","v":"Rød"},"Bane 1","Bane 2","",""]
[{"$f":"'Puljer runde 1'!J19","v":"Niels Kofoed"},{"$f":"'Puljer runde 1'!K19","v":"Tranbjerg"},{"$f":"'Puljer runde 1'!$A$15","v":"Grøn"},"Bane 2","Bane 1","",""]
[{"$f":"'Puljer runde 1'!D20","v":"Poul Henriksen"},{"$f":"'Puljer runde 1'!E20","v":"Houlbjerg"},{"$f":"'Puljer runde 1'!$A$15","v":"Grøn"},"Bane 2","Bane 1","",""]
[{"$f":"'Puljer runde 1'!B11","v":"Rosa Højgaard"},{"$f":"'Puljer runde 1'!C11","v":"Hammel"},{"$f":"'Puljer runde 1'!$A$5","v":"Rød"},"Bane 1","Bane 2","",""]
[{"$f":"'Puljer runde 1'!H9","v":"Svend B. G. Laursen"},{"$f":"'Puljer runde 1'!I9","v":"Rønde"},{"$f":"'Puljer runde 1'!$A$5","v":"Rød"},"Bane 1","Bane 2","",""]
[{"$f":"'Puljer runde 1'!H6","v":"Tage Hansen"},{"$f":"'Puljer runde 1'!I6","v":"Låsby"},{"$f":"'Puljer runde 1'!$A$5","v":"Rød"},"Bane 1","Bane 2","",""]
[{"$f":"'Puljer runde 1'!F9","v":"Ulla Bjerring"},{"$f":"'Puljer runde 1'!G9","v":"Høst"},{"$f":"'Puljer runde 1'!$A$5","v":"Rød"},"Bane 1","Bane 2","",""]
[{"$f":"'Puljer runde 1'!J21","v":"Ulla Ravn"},{"$f":"'Puljer runde 1'!K21","v":"Ulstrup"},{"$f":"'Puljer runde 1'!$A$15","v":"Grøn"},"Bane 2","Bane 1","",""]
[{"$f":"'Puljer runde 1'!H19","v":"Vagn F. Nielsen"},{"$f":"'Puljer runde 1'!I19","v":"Rønde"},{"$f":"'Puljer runde 1'!$A$15","v":"Grøn"},"Bane 2","Bane 1","",""]
[{"$f":"'Puljer runde 1'!D11","v":"Yrsa Sørensen"},{"$f":"'Puljer runde 1'!E11","v":"Houlbjerg"},{"$f":"'Puljer runde 1'!$A$5","v":"Rød"},"Bane 1","Bane 2","",""]
[{"$f":"'Puljer runde 1'!J41","v":0},{"$f":"'Puljer runde 1'!K41","v":0},{"$f":"'Puljer runde 1'!$A$35","v":"x"},{"$f":"IF(C122=$B$201,$B$200,IF(C122=$C$201,$C$200,IF(C122=$D$201,$D$200,IF(C122=$E$201,$E$200,\"\"))))","v":0},{"$f":"IF(C122=$B$202,$B$200,IF(C122=$C$202,$C$200,IF(C122=$D$202,$D$200,IF(C122=$E$202,$E$200,\"\"))))","v":0},{"$f":"IF(C122=$B$203,$B$200,IF(C122=$C$203,$C$200,IF(C122=$D$203,$D$200,IF(C122=$E$203,$E$200,\"\"))))","v":"Bane 1"},{"$f":"IF(C122=$B$204,$B$200,IF(C122=$C$204,$C$200,IF(C122=$D$204,$D$200,IF(C122=$E$204,$E$200,\"\"))))","v":"Bane 1"}]
[]
[]
[]
[]
[]
[]
[]
[]
[]
[]
[]
[]
[]
[]
[]
[]
[]
[]
[]
[]
[]
[]
[]
[]
[]
[]
[]
[]
[]
[]
[]
[]
[]
[]
[]
[]
[]
[]
[]
[]
[]
[]
[]
[]
[]
[]
[]
[]
[]
[]
[]
[]
[]
[]
[]
[]
[]
[]
[]
[]
[]
[]
[]
[]
[]
[]
[]
[]
[]
[]
[]
[]
[]
[]
[]
[]
[]
[null,"Bane 1","Bane 2",0,""]
["Runde 1","Rød","Grøn","x","x"]
["Runde 2","Grøn","Rød","x","x"]
["","x","x","x","x"]
["","x","x","x","x"]

{"sheet":"Puljer runde 1","index":5,"n_rows":41,"n_cols":13,"rows_kept":41,"cut":false,"hidden":true,"merged":[[0,0,0,12],[4,9,4,10],[4,1,4,2],[4,3,4,4],[4,5,4,6],[4,7,4,8],[14,1,14,2],[14,3,14,4],[14,5,14,6],[14,7,14,8],[14,9,14,10],[24,1,24,2],[24,3,24,4],[24,5,24,6],[24,7,24,8],[24,9,24,10],[34,1,34,2],[34,3,34,4],[34,5,34,6],[34,7,34,8],[34,9,34,10]]}
[{"$f":"Setup!B2","v":"Minitræf i Houlbjerg"}]
[]
["Rundenavn","Runde 1"]
[30,6,6,5]
[{"$f":"RBGH!B2","v":"Rød"},"Spiller 1",null,"Spiller 2",null,"Spiller 3",null,"Spiller 4",null,"Spiller 5",null,"Hul","Pulje"]
[{"$f":"RBGH!$B$1","v":"Bane 1"},"Bente Nordmann","Auning","Doris Thomsen","Houlbjerg","Britta Axelsen","Høst","Tage Hansen","Låsby","Lynge Madsen","Silkeborg",1,1]
[{"$f":"RBGH!$B$1","v":"Bane 1"},"Maja Pedersen","Auning","Grethe Gregersen","Houlbjerg","Inger Rasmussen","Høst","Jørgen Bjerre","Pindstrup","Christian Norentoft","Thorsø",3,2]
[{"$f":"RBGH!$B$1","v":"Bane 1"},"Max Thomassen","Bjerregrav","Juul Thomsen","Houlbjerg","Kurt Rasmussen","Høst","Marie Petersen","Rønde","Grethe Thomsen","Thorsø",5,3]
[{"$f":"RBGH!$B$1","v":"Bane 1"},"Birthe Rosenkvist","Hammel","Lisbeth Sørensen","Houlbjerg","Ulla Bjerring","Høst","Svend B. G. Laursen","Rønde","Kirsten Nielsen","Thorsø",7,4]
[{"$f":"RBGH!$B$1","v":"Bane 1"},"Gerda Fogh","Hammel","Nanny Lægdsgaard","Houlbjerg","Else-Marie Schmidt","Lystrup","Ann Gaardsvig","Silkeborg","Ester Storgaard","Ulstrup",9,5]
[{"$f":"RBGH!$B$1","v":"Bane 1"},"Rosa Højgaard","Hammel","Yrsa Sørensen","Houlbjerg","Lis Lassen","Lystrup","Henning Larsen","Silkeborg","Kaj Storgaard","Ulstrup",11,6]
[]
[]
[30,6,6,5]
[{"$f":"RBGH!C2","v":"Grøn"},"Spiller 1","Nyserne","Spiller 2",null,"Spiller 3",null,"Spiller 4",null,"Spiller 5",null,"Hul","Pulje"]
[{"$f":"RBGH!$C$1","v":"Bane 2"},"Henning Pedersen","Auning","Erik Lægdsgaard","Houlbjerg","Erik Pedersen","Høst","Hanne Bjerre","Pindstrup","Bent Nielsen","Thorsø",1,1]
[{"$f":"RBGH!$C$1","v":"Bane 2"},"Bente Thomassen","Bjerregrav","Jens Henrik Juhl-Larsen","Houlbjerg","Knud Frederiksen","Høst","Jørgen Petersen","Rønde","Erik Thomsen","Thorsø",3,2]
[{"$f":"RBGH!$C$1","v":"Bane 2"},"Birgit Svoldgaard","Hammel","Kurt Thomsen","Houlbjerg","Margit Jensen","Høst","Myrna Rasmussen","Rønde","Grethe Thøgersen","Thorsø",5,3]
[{"$f":"RBGH!$C$1","v":"Bane 2"},"Erik Rosenkvist","Hammel","Lissi Thomsen","Houlbjerg","Christen Jespersen","Lystrup","Vagn F. Nielsen","Rønde","Niels Kofoed","Tranbjerg",7,4]
[{"$f":"RBGH!$C$1","v":"Bane 2"},"Jonna Kjeldsen","Hammel","Poul Henriksen","Houlbjerg","Jens Tvi Holmsgaard","Lystrup","Hanne Else Knudsen","Silkeborg","Hans J. Christensen","Ulstrup",9,5]
[{"$f":"RBGH!$C$1","v":"Bane 2"},"Børge Jensen","Houlbjerg","Alice Madsen","Høst","Alma Eriksen","Låsby","Lilly Hansen","Silkeborg","Ulla Ravn","Ulstrup",11,6]
[]
[]
[null,0]
[{"$f":"RBGH!D2","v":"x"},"Spiller 1","Nyserne","Spiller 2",null,"Spiller 3",null,"Spiller 4",null,"Spiller 5",null,"Hul","Pulje"]
[{"$f":"RBGH!$D$1","v":0},null,null,null,null,null,null,null,null,null,null,null,1]
[{"$f":"RBGH!$D$1","v":0},null,null,null,null,null,null,null,null,null,null,null,2]
[{"$f":"RBGH!$D$1","v":0},null,null,null,null,null,null,null,null,null,null,null,3]
[{"$f":"RBGH!$D$1","v":0},null,null,null,null,null,null,null,null,null,null,null,4]
[{"$f":"RBGH!$D$1","v":0},null,null,null,null,null,null,null,null,null,null,null,5]
[{"$f":"RBGH!$D$1","v":0},null,null,null,null,null,null,null,null,null,null,null,6]
[]
[]
[null,0]
[{"$f":"RBGH!E2","v":"x"},"Spiller 1","Nyserne","Spiller 2",null,"Spiller 3",null,"Spiller 4",null,"Spiller 5",null,"Hul","Pulje"]
[{"$f":"RBGH!$E$1","v":""},null,null,null,null,null,null,null,null,null,null,null,1]
[{"$f":"RBGH!$E$1","v":""},null,null,null,null,null,null,null,null,null,null,null,2]
[{"$f":"RBGH!$E$1","v":""},null,null,null,null,null,null,null,null,null,null,null,3]
[{"$f":"RBGH!$E$1","v":""},null,null,null,null,null,null,null,null,null,null,null,4]
[{"$f":"RBGH!$E$1","v":""},null,null,null,null,null,null,null,null,null,null,null,5]
[{"$f":"RBGH!$E$1","v":""},null,null,null,null,null,null,null,null,null,null,null,6]

{"sheet":"Puljer runde 2","index":6,"n_rows":41,"n_cols":13,"rows_kept":41,"cut":false,"hidden":true,"merged":[[14,1,14,2],[14,3,14,4],[14,5,14,6],[14,7,14,8],[14,9,14,10],[24,1,24,2],[24,3,24,4],[24,5,24,6],[24,7,24,8],[24,9,24,10],[34,1,34,2],[34,3,34,4],[34,5,34,6],[34,7,34,8],[34,9,34,10],[0,0,0,12],[4,1,4,2],[4,3,4,4],[4,5,4,6],[4,7,4,8],[4,9,4,10]]}
[{"$f":"Setup!B2","v":"Minitræf i Houlbjerg"}]
[]
["Rundenavn","Runde 2",null,"Forskydning",7]
[30,6,6,5]
[{"$f":"RBGH!B3","v":"Grøn"},"Spiller 1",null,"Spiller 2",null,"Spiller 3",null,"Spiller 4",null,"Spiller 5",null,"Hul","Pulje"]
[{"$f":"RBGH!$B$1","v":"Bane 1"},null,null,null,null,null,null,null,null,null,null,null,1]
[{"$f":"RBGH!$B$1","v":"Bane 1"},null,null,null,null,null,null,null,null,null,null,null,2]
[{"$f":"RBGH!$B$1","v":"Bane 1"},null,null,null,null,null,null,null,null,null,null,null,3]
[{"$f":"RBGH!$B$1","v":"Bane 1"},null,null,null,null,null,null,null,null,null,null,null,4]
[{"$f":"RBGH!$B$1","v":"Bane 1"},null,null,null,null,null,null,null,null,null,null,null,5]
[{"$f":"RBGH!$B$1","v":"Bane 1"},null,null,null,null,null,null,null,null,null,null,null,6]
[]
[]
[30,6,6,5]
[{"$f":"RBGH!C3","v":"Rød"},"Spiller 1",null,"Spiller 2",null,"Spiller 3",null,"Spiller 4",null,"Spiller 5",null,"Hul","Pulje"]
[{"$f":"RBGH!$C$1","v":"Bane 2"},"Kaj Storgaard","Ulstrup","Bente Nordmann","Auning","Grethe Gregersen","Houlbjerg","Kurt Rasmussen","Høst","Svend B. G. Laursen","Rønde",1,1]
[{"$f":"RBGH!$C$1","v":"Bane 2"},"Ester Storgaard","Ulstrup","Rosa Højgaard","Hammel","Doris Thomsen","Houlbjerg","Inger Rasmussen","Høst","Marie Petersen","Rønde",3,2]
[{"$f":"RBGH!$C$1","v":"Bane 2"},"Kirsten Nielsen","Thorsø","Gerda Fogh","Hammel","Yrsa Sørensen","Houlbjerg","Britta Axelsen","Høst","Jørgen Bjerre","Pindstrup",5,3]
[{"$f":"RBGH!$C$1","v":"Bane 2"},"Grethe Thomsen","Thorsø","Birthe Rosenkvist","Hammel","Nanny Lægdsgaard","Houlbjerg","Lis Lassen","Lystrup","Tage Hansen","Låsby",7,4]
[{"$f":"RBGH!$C$1","v":"Bane 2"},"Christian Norentoft","Thorsø","Max Thomassen","Bjerregrav","Lisbeth Sørensen","Houlbjerg","Else-Marie Schmidt","Lystrup","Henning Larsen","Silkeborg",9,5]
[{"$f":"RBGH!$C$1","v":"Bane 2"},"Lynge Madsen","Silkeborg","Maja Pedersen","Auning","Juul Thomsen","Houlbjerg","Ulla Bjerring","Høst","Ann Gaardsvig","Silkeborg",11,6]
[]
[]
[30,6,6,5]
["Grøn","Spiller 1",null,"Spiller 2",null,"Spiller 3",null,"Spiller 4",null,"Spiller 5",null,"Hul","Pulje"]
["Bane 1","Ulla Ravn","Ulstrup","Henning Pedersen","Auning","Jens Henrik Juhl-Larsen","Houlbjerg","Margit Jensen","Høst","Vagn F. Nielsen","Rønde",1,1]
["Bane 1","Hans J. Christensen","Ulstrup","Børge Jensen","Houlbjerg","Erik Lægdsgaard","Houlbjerg","Knud Frederiksen","Høst","Myrna Rasmussen","Rønde",3,2]
["Bane 1","Niels Kofoed","Tranbjerg","Jonna Kjeldsen","Hammel","Alice Madsen","Høst","Erik Pedersen","Høst","Jørgen Petersen","Rønde",5,3]
["Bane 1","Grethe Thøgersen","Thorsø","Erik Rosenkvist","Hammel","Poul Henriksen","Houlbjerg","Alma Eriksen","Låsby","Hanne Bjerre","Pindstrup",7,4]
["Bane 1","Erik Thomsen","Thorsø","Birgit Svoldgaard","Hammel","Lissi Thomsen","Houlbjerg","Jens Tvi Holmsgaard","Lystrup","Lilly Hansen","Silkeborg",9,5]
["Bane 1","Bent Nielsen","Thorsø","Bente Thomassen","Bjerregrav","Kurt Thomsen","Houlbjerg","Christen Jespersen","Lystrup","Hanne Else Knudsen","Silkeborg",11,6]
[]
[]
[30,6,6,5]
[{"$f":"RBGH!E3","v":"x"},"Spiller 1",null,"Spiller 2",null,"Spiller 3",null,"Spiller 4",null,"Spiller 5",null,"Hul","Pulje"]
[{"$f":"RBGH!$E$1","v":""},null,null,null,null,null,null,null,null,null,null,null,1]
[{"$f":"RBGH!$E$1","v":""},null,null,null,null,null,null,null,null,null,null,null,2]
[{"$f":"RBGH!$E$1","v":""},null,null,null,null,null,null,null,null,null,null,null,3]
[{"$f":"RBGH!$E$1","v":""},null,null,null,null,null,null,null,null,null,null,null,4]
[{"$f":"RBGH!$E$1","v":""},null,null,null,null,null,null,null,null,null,null,null,5]
[{"$f":"RBGH!$E$1","v":""},null,null,null,null,null,null,null,null,null,null,null,6]

{"sheet":"Puljer runde 3","index":7,"n_rows":51,"n_cols":13,"rows_kept":51,"cut":false,"hidden":true,"merged":[[34,1,34,2],[34,3,34,4],[34,5,34,6],[34,7,34,8],[34,9,34,10],[24,1,24,2],[24,3,24,4],[24,5,24,6],[24,7,24,8],[24,9,24,10],[14,1,14,2],[14,3,14,4],[14,5,14,6],[14,7,14,8],[14,9,14,10],[0,0,0,12],[4,1,4,2],[4,3,4,4],[4,5,4,6],[4,7,4,8],[4,9,4,10]]}
[{"$f":"Setup!B2","v":"Minitræf i Houlbjerg"}]
[]
["Rundenavn","Runde 3",null,"Forskydning",11]
[30,6,6,5]
[{"$f":"RBGH!B4","v":"x"},"Spiller 1",null,"Spiller 2",null,"Spiller 3",null,"Spiller 4",null,"Spiller 5",null,"Hul","Pulje"]
[{"$f":"RBGH!$B$1","v":"Bane 1"},null,null,null,null,null,null,null,null,null,null,null,1]
[{"$f":"RBGH!$B$1","v":"Bane 1"},null,null,null,null,null,null,null,null,null,null,null,2]
[{"$f":"RBGH!$B$1","v":"Bane 1"},null,null,null,null,null,null,null,null,null,null,null,3]
[{"$f":"RBGH!$B$1","v":"Bane 1"},null,null,null,null,null,null,null,null,null,null,null,4]
[{"$f":"RBGH!$B$1","v":"Bane 1"},null,null,null,null,null,null,null,null,null,null,null,5]
[{"$f":"RBGH!$B$1","v":"Bane 1"},null,null,null,null,null,null,null,null,null,null,null,6]
[]
[]
[29,6,5,5]
[{"$f":"RBGH!C4","v":"x"},"Spiller 1",null,"Spiller 2",null,"Spiller 3",null,"Spiller 4",null,"Spiller 5",null,"Hul","Pulje"]
[{"$f":"RBGH!$C$1","v":"Bane 2"},null,null,null,null,null,null,null,null,null,null,null,1]
[{"$f":"RBGH!$C$1","v":"Bane 2"},null,null,null,null,null,null,null,null,null,null,null,2]
[{"$f":"RBGH!$C$1","v":"Bane 2"},null,null,null,null,null,null,null,null,null,null,null,3]
[{"$f":"RBGH!$C$1","v":"Bane 2"},null,null,null,null,null,null,null,null,null,null,null,4]
[{"$f":"RBGH!$C$1","v":"Bane 2"},null,null,null,null,null,null,null,null,null,null,null,5]
[{"$f":"RBGH!$C$1","v":"Bane 2"},null,null,null,null,null,null,null,null,null,null,null,6]
[]
[]
[30,6,6,5]
[{"$f":"RBGH!D4","v":"x"},"Spiller 1",null,"Spiller 2",null,"Spiller 3",null,"Spiller 4",null,"Spiller 5",null,"Hul","Pulje"]
[{"$f":"RBGH!$D$1","v":0},"Else-Marie Schmidt","Lystrup","Kaj Storgaard","Ulstrup","Doris Thomsen","Houlbjerg","Jørgen Bjerre","Pindstrup","Max Thomassen","Bjerregrav",null,1]
[{"$f":"RBGH!$D$1","v":0},"Ulla Bjerring","Høst","Ester Storgaard","Ulstrup","Yrsa Sørensen","Houlbjerg","Tage Hansen","Låsby","Maja Pedersen","Auning",null,2]
[{"$f":"RBGH!$D$1","v":0},"Kurt Rasmussen","Høst","Kirsten Nielsen","Thorsø","Nanny Lægdsgaard","Houlbjerg","Henning Larsen","Silkeborg","Bente Nordmann","Auning",null,3]
[{"$f":"RBGH!$D$1","v":0},"Inger Rasmussen","Høst","Grethe Thomsen","Thorsø","Lisbeth Sørensen","Houlbjerg","Ann Gaardsvig","Silkeborg","Rosa Højgaard","Hammel",null,4]
[{"$f":"RBGH!$D$1","v":0},"Britta Axelsen","Høst","Christian Norentoft","Thorsø","Juul Thomsen","Houlbjerg","Svend B. G. Laursen","Rønde","Gerda Fogh","Hammel",null,5]
[{"$f":"RBGH!$D$1","v":0},"Lis Lassen","Lystrup","Lynge Madsen","Silkeborg","Grethe Gregersen","Houlbjerg","Marie Petersen","Rønde","Birthe Rosenkvist","Hammel",null,6]
[]
[]
[30,6,6,5]
[{"$f":"RBGH!E4","v":"x"},"Spiller 1",null,"Spiller 2",null,"Spiller 3",null,"Spiller 4",null,"Spiller 5",null,"Hul","Pulje"]
[{"$f":"RBGH!$E$1","v":""},"Jens Tvi Holmsgaard","Lystrup","Ulla Ravn","Ulstrup","Erik Lægdsgaard","Houlbjerg","Jørgen Petersen","Rønde","Birgit Svoldgaard","Hammel",null,1]
[{"$f":"RBGH!$E$1","v":""},"Christen Jespersen","Lystrup","Hans J. Christensen","Ulstrup","Alice Madsen","Høst","Hanne Bjerre","Pindstrup","Bente Thomassen","Bjerregrav",null,2]
[{"$f":"RBGH!$E$1","v":""},"Margit Jensen","Høst","Niels Kofoed","Tranbjerg","Poul Henriksen","Houlbjerg","Lilly Hansen","Silkeborg","Henning Pedersen","Auning",null,3]
[{"$f":"RBGH!$E$1","v":""},"Knud Frederiksen","Høst","Grethe Thøgersen","Thorsø","Lissi Thomsen","Houlbjerg","Hanne Else Knudsen","Silkeborg","Børge Jensen","Houlbjerg",null,4]
[{"$f":"RBGH!$E$1","v":""},"Erik Pedersen","Høst","Erik Thomsen","Thorsø","Kurt Thomsen","Houlbjerg","Vagn F. Nielsen","Rønde","Jonna Kjeldsen","Hammel",null,5]
[{"$f":"RBGH!$E$1","v":""},"Alma Eriksen","Låsby","Bent Nielsen","Thorsø","Jens Henrik Juhl-Larsen","Houlbjerg","Myrna Rasmussen","Rønde","Erik Rosenkvist","Hammel",null,6]
[]
[]
[30,6,6,5]
[null,null,null,null,null,null,null,null,null,null,null,"Hul"]
[null,"Ulla Ravn","Ulstrup","Kurt Rasmussen","Høst","Jørgen Bjerre","Pindstrup","Max Thomassen","Bjerregrav","Lis Lassen","Lystrup",1]
[null,"Lynge Madsen","Silkeborg","Ester Storgaard","Ulstrup","Ann Gaardsvig","Silkeborg","Grethe Gregersen","Houlbjerg","Birthe Rosenkvist","Hammel",3]
[null,"Kirsten Nielsen","Thorsø","Doris Thomsen","Houlbjerg","Christian Norentoft","Thorsø","Yrsa Sørensen","Houlbjerg","Britta Axelsen","Høst",5]
[null,"Lisbeth Sørensen","Houlbjerg","Nanny Lægdsgaard","Houlbjerg","Kaj Storgaard","Ulstrup","Else-Marie Schmidt","Lystrup","Gerda Fogh","Hammel",7]
[null,"Tage Hansen","Låsby","Ulla Bjerring","Høst","Grethe Thomsen","Thorsø","Marie Petersen","Rønde","Inger Rasmussen","Høst",9]
[null,"Rosa Højgaard","Hammel","Bente Nordmann","Auning","Maja Pedersen","Auning","Juul Thomsen","Houlbjerg","Svend B. G. Laursen","Rønde",11]

{"sheet":"Puljer runde 4","index":8,"n_rows":51,"n_cols":13,"rows_kept":51,"cut":false,"hidden":true,"merged":[[34,1,34,2],[34,3,34,4],[34,5,34,6],[34,7,34,8],[34,9,34,10],[24,1,24,2],[24,3,24,4],[24,5,24,6],[24,7,24,8],[24,9,24,10],[14,1,14,2],[14,3,14,4],[14,5,14,6],[14,7,14,8],[14,9,14,10],[0,0,0,12],[4,1,4,2],[4,3,4,4],[4,5,4,6],[4,7,4,8],[4,9,4,10]]}
[{"$f":"Setup!B2","v":"Minitræf i Houlbjerg"}]
[]
["Rundenavn","Runde 4",null,"Forskydning",13]
[30,6,6,5]
[{"$f":"RBGH!B5","v":"x"},"Spiller 1",null,"Spiller 2",null,"Spiller 3",null,"Spiller 4",null,"Spiller 5",null,"Hul","Pulje"]
[{"$f":"RBGH!$B$1","v":"Bane 1"},"Vagn F. Nielsen","Rønde","Poul Henriksen","Houlbjerg","Ulla Ravn","Ulstrup","Erik Pedersen","Høst","Bente Thomassen","Bjerregrav",null,1]
[{"$f":"RBGH!$B$1","v":"Bane 1"},"Myrna Rasmussen","Rønde","Lissi Thomsen","Houlbjerg","Hans J. Christensen","Ulstrup","Alma Eriksen","Låsby","Henning Pedersen","Auning",null,2]
[{"$f":"RBGH!$B$1","v":"Bane 1"},"Jørgen Petersen","Rønde","Kurt Thomsen","Houlbjerg","Niels Kofoed","Tranbjerg","Jens Tvi Holmsgaard","Lystrup","Børge Jensen","Houlbjerg",null,3]
[{"$f":"RBGH!$B$1","v":"Bane 1"},"Hanne Bjerre","Pindstrup","Jens Henrik Juhl-Larsen","Houlbjerg","Grethe Thøgersen","Thorsø","Christen Jespersen","Lystrup","Jonna Kjeldsen","Hammel",null,4]
[{"$f":"RBGH!$B$1","v":"Bane 1"},"Lilly Hansen","Silkeborg","Erik Lægdsgaard","Houlbjerg","Erik Thomsen","Thorsø","Margit Jensen","Høst","Erik Rosenkvist","Hammel",null,5]
[{"$f":"RBGH!$B$1","v":"Bane 1"},"Hanne Else Knudsen","Silkeborg","Alice Madsen","Høst","Bent Nielsen","Thorsø","Knud Frederiksen","Høst","Birgit Svoldgaard","Hammel",null,6]
[]
[]
[30,6,6,5]
[{"$f":"RBGH!C5","v":"x"},"Spiller 1",null,"Spiller 2",null,"Spiller 3",null,"Spiller 4",null,"Spiller 5",null,"Hul","Pulje"]
[{"$f":"RBGH!$C$1","v":"Bane 2"},null,null,null,null,null,null,null,null,null,null,null,1]
[{"$f":"RBGH!$C$1","v":"Bane 2"},null,null,null,null,null,null,null,null,null,null,null,2]
[{"$f":"RBGH!$C$1","v":"Bane 2"},null,null,null,null,null,null,null,null,null,null,null,3]
[{"$f":"RBGH!$C$1","v":"Bane 2"},null,null,null,null,null,null,null,null,null,null,null,4]
[{"$f":"RBGH!$C$1","v":"Bane 2"},null,null,null,null,null,null,null,null,null,null,null,5]
[{"$f":"RBGH!$C$1","v":"Bane 2"},null,null,null,null,null,null,null,null,null,null,null,6]
[]
[]
[29,6,5,5]
[{"$f":"RBGH!D5","v":"x"},"Spiller 1",null,"Spiller 2",null,"Spiller 3",null,"Spiller 4",null,"Spiller 5",null,"Hul","Pulje"]
[{"$f":"RBGH!$D$1","v":0},null,null,null,null,null,null,null,null,null,null,null,1]
[{"$f":"RBGH!$D$1","v":0},null,null,null,null,null,null,null,null,null,null,null,2]
[{"$f":"RBGH!$D$1","v":0},null,null,null,null,null,null,null,null,null,null,null,3]
[{"$f":"RBGH!$D$1","v":0},null,null,null,null,null,null,null,null,null,null,null,4]
[{"$f":"RBGH!$D$1","v":0},null,null,null,null,null,null,null,null,null,null,null,5]
[{"$f":"RBGH!$D$1","v":0},null,null,null,null,null,null,null,null,null,null,null,6]
[]
[]
[30,6,6,5]
[{"$f":"RBGH!E5","v":"x"},"Spiller 1",null,"Spiller 2",null,"Spiller 3",null,"Spiller 4",null,"Spiller 5",null,"Hul","Pulje"]
[{"$f":"RBGH!$E$1","v":""},"Svend B. G. Laursen","Rønde","Nanny Lægdsgaard","Houlbjerg","Kaj Storgaard","Ulstrup","Britta Axelsen","Høst","Maja Pedersen","Auning",null,1]
[{"$f":"RBGH!$E$1","v":""},"Marie Petersen","Rønde","Lisbeth Sørensen","Houlbjerg","Ester Storgaard","Ulstrup","Lis Lassen","Lystrup","Bente Nordmann","Auning",null,2]
[{"$f":"RBGH!$E$1","v":""},"Jørgen Bjerre","Pindstrup","Juul Thomsen","Houlbjerg","Kirsten Nielsen","Thorsø","Else-Marie Schmidt","Lystrup","Rosa Højgaard","Hammel",null,3]
[{"$f":"RBGH!$E$1","v":""},"Tage Hansen","Låsby","Grethe Gregersen","Houlbjerg","Grethe Thomsen","Thorsø","Ulla Bjerring","Høst","Gerda Fogh","Hammel",null,4]
[{"$f":"RBGH!$E$1","v":""},"Henning Larsen","Silkeborg","Doris Thomsen","Houlbjerg","Christian Norentoft","Thorsø","Kurt Rasmussen","Høst","Birthe Rosenkvist","Hammel",null,5]
[{"$f":"RBGH!$E$1","v":""},"Ann Gaardsvig","Silkeborg","Yrsa Sørensen","Houlbjerg","Lynge Madsen","Silkeborg","Inger Rasmussen","Høst","Max Thomassen","Bjerregrav",null,6]
[]
[]
[30,6,6,5]
[null,null,null,null,null,null,null,null,null,null,null,"Hul"]
[null,"Ulla Ravn","Ulstrup","Grethe Thomsen","Thorsø","Rosa Højgaard","Hammel","Lis Lassen","Lystrup","Max Thomassen","Bjerregrav",1]
[null,"Kirsten Nielsen","Thorsø","Ester Storgaard","Ulstrup","Bente Nordmann","Auning","Tage Hansen","Låsby","Kurt Rasmussen","Høst",3]
[null,"Britta Axelsen","Høst","Juul Thomsen","Houlbjerg","Lynge Madsen","Silkeborg","Svend B. G. Laursen","Rønde","Grethe Gregersen","Houlbjerg",5]
[null,"Marie Petersen","Rønde","Else-Marie Schmidt","Lystrup","Lisbeth Sørensen","Houlbjerg","Maja Pedersen","Auning","Yrsa Sørensen","Houlbjerg",7]
[null,"Henning Larsen","Silkeborg","Kaj Storgaard","Ulstrup","Inger Rasmussen","Høst","Doris Thomsen","Houlbjerg","Ulla Bjerring","Høst",9]
[null,"Birthe Rosenkvist","Hammel","Gerda Fogh","Hammel","Nanny Lægdsgaard","Houlbjerg","Christian Norentoft","Thorsø","Jørgen Bjerre","Pindstrup",11]

{"sheet":"Kampsedler 1","index":9,"n_rows":119,"n_cols":3,"rows_kept":119,"cut":false,"hidden":false,"merged":[[118,1,118,2],[118,3,118,7],[64,4,64,5],[64,6,64,7],[83,1,84,1],[83,2,83,3],[81,1,81,2],[81,3,82,7],[83,4,83,5],[83,6,83,7],[78,1,78,2],[78,3,78,7],[104,2,104,3],[104,4,104,5],[104,6,104,7],[84,2,84,3],[98,1,98,2],[98,3,98,7],[84,6,84,7],[1,3,2,7],[4,2,4,3],[4,4,4,5],[1,1,1,2],[21,1,21,2],[21,3,22,7],[18,1,18,2],[18,3,18,7],[3,2,3,3],[3,4,3,5],[3,6,3,7],[4,6,4,7],[3,1,4,1],[38,1,38,2],[38,3,38,7],[23,1,24,1],[23,2,23,3],[23,4,23,5],[23,6,23,7],[24,2,24,3],[24,4,24,5],[24,6,24,7],[101,1,101,2],[101,3,102,7],[41,1,41,2],[41,3,42,7],[58,1,58,2],[58,3,58,7],[44,2,44,3],[44,4,44,5],[44,6,44,7],[84,4,84,5],[63,1,64,1],[63,2,63,3],[63,4,63,5],[63,6,63,7],[64,2,64,3],[43,1,44,1],[43,2,43,3],[43,4,43,5],[43,6,43,7],[61,1,61,2],[61,3,62,7],[103,4,103,5],[103,6,103,7],[103,1,104,1],[103,2,103,3]]}
[]
[]
[null,"Til hul",{"$f":"'Puljer runde 1'!$L$6","v":1}]
[]
[]
[null,{"$f":"CONCATENATE(\"Hul \",C3)","v":"Hul 1"}]
[null,{"$f":"IF(C3+1 > 12,CONCATENATE(\"Hul \",C3 + 1 - 12),CONCATENATE(\"Hul \",C3 + 1))","v":"Hul 2"}]
[null,{"$f":"IF(C3+2 > 12,CONCATENATE(\"Hul \",C3 + 2 - 12),CONCATENATE(\"Hul \",C3 + 2))","v":"Hul 3"}]
[null,{"$f":"IF(C3+3 > 12,CONCATENATE(\"Hul \",C3 + 3 - 12),CONCATENATE(\"Hul \",C3 + 3))","v":"Hul 4"}]
[null,{"$f":"IF(C3+4 > 12,CONCATENATE(\"Hul \",C3 + 4 - 12),CONCATENATE(\"Hul \",C3 + 4))","v":"Hul 5"}]
[null,{"$f":"IF(C3+5 > 12,CONCATENATE(\"Hul \",C3 + 5 - 12),CONCATENATE(\"Hul \",C3 + 5))","v":"Hul 6"}]
[null,{"$f":"IF(C3+6 > 12,CONCATENATE(\"Hul \",C3 + 6 - 12),CONCATENATE(\"Hul \",C3 + 6))","v":"Hul 7"}]
[null,{"$f":"IF(C3+7 > 12,CONCATENATE(\"Hul \",C3 + 7 - 12),CONCATENATE(\"Hul \",C3 + 7))","v":"Hul 8"}]
[null,{"$f":"IF(C3+8 > 12,CONCATENATE(\"Hul \",C3 + 8 - 12),CONCATENATE(\"Hul \",C3 + 8))","v":"Hul 9"}]
[null,{"$f":"IF(C3+9 > 12,CONCATENATE(\"Hul \",C3 + 9 - 12),CONCATENATE(\"Hul \",C3 + 9))","v":"Hul 10"}]
[null,{"$f":"IF(C3+10 > 12,CONCATENATE(\"Hul \",C3 + 10 - 12),CONCATENATE(\"Hul \",C3 + 10))","v":"Hul 11"}]
[null,{"$f":"IF(C3+11 > 12,CONCATENATE(\"Hul \",C3 + 11 - 12),CONCATENATE(\"Hul \",C3 + 11))","v":"Hul 12"}]
[null,"I alt"]
[null,"Hole-in-one"]
[]
[]
[]
[null,"Til hul",{"$f":"'Puljer runde 1'!$L$7","v":3}]
[]
[]
[null,{"$f":"CONCATENATE(\"Hul \",C23)","v":"Hul 3"}]
[null,{"$f":"IF(C23+1 > 12,CONCATENATE(\"Hul \",C23 + 1 - 12),CONCATENATE(\"Hul \",C23 + 1))","v":"Hul 4"}]
[null,{"$f":"IF(C23+2 > 12,CONCATENATE(\"Hul \",C23 + 2 - 12),CONCATENATE(\"Hul \",C23 + 2))","v":"Hul 5"}]
[null,{"$f":"IF(C23+3 > 12,CONCATENATE(\"Hul \",C23 + 3 - 12),CONCATENATE(\"Hul \",C23 + 3))","v":"Hul 6"}]
[null,{"$f":"IF(C23+4 > 12,CONCATENATE(\"Hul \",C23 + 4 - 12),CONCATENATE(\"Hul \",C23 + 4))","v":"Hul 7"}]
[null,{"$f":"IF(C23+5 > 12,CONCATENATE(\"Hul \",C23 + 5 - 12),CONCATENATE(\"Hul \",C23 + 5))","v":"Hul 8"}]
[null,{"$f":"IF(C23+6 > 12,CONCATENATE(\"Hul \",C23 + 6 - 12),CONCATENATE(\"Hul \",C23 + 6))","v":"Hul 9"}]
[null,{"$f":"IF(C23+7 > 12,CONCATENATE(\"Hul \",C23 + 7 - 12),CONCATENATE(\"Hul \",C23 + 7))","v":"Hul 10"}]
[null,{"$f":"IF(C23+8 > 12,CONCATENATE(\"Hul \",C23 + 8 - 12),CONCATENATE(\"Hul \",C23 + 8))","v":"Hul 11"}]
[null,{"$f":"IF(C23+9 > 12,CONCATENATE(\"Hul \",C23 + 9 - 12),CONCATENATE(\"Hul \",C23 + 9))","v":"Hul 12"}]
[null,{"$f":"IF(C23+10 > 12,CONCATENATE(\"Hul \",C23 + 10 - 12),CONCATENATE(\"Hul \",C23 + 10))","v":"Hul 1"}]
[null,{"$f":"IF(C23+11 > 12,CONCATENATE(\"Hul \",C23 + 11 - 12),CONCATENATE(\"Hul \",C23 + 11))","v":"Hul 2"}]
[null,"I alt"]
[null,"Hole-in-one"]
[]
[]
[]
[null,"Til hul",{"$f":"'Puljer runde 1'!$L$8","v":5}]
[]
[]
[null,{"$f":"CONCATENATE(\"Hul \",C43)","v":"Hul 5"}]
[null,{"$f":"IF(C43+1 > 12,CONCATENATE(\"Hul \",C43 + 1 - 12),CONCATENATE(\"Hul \",C43 + 1))","v":"Hul 6"}]
[null,{"$f":"IF(C43+2 > 12,CONCATENATE(\"Hul \",C43 + 2 - 12),CONCATENATE(\"Hul \",C43 + 2))","v":"Hul 7"}]
[null,{"$f":"IF(C43+3 > 12,CONCATENATE(\"Hul \",C43 + 3 - 12),CONCATENATE(\"Hul \",C43 + 3))","v":"Hul 8"}]
[null,{"$f":"IF(C43+4 > 12,CONCATENATE(\"Hul \",C43 + 4 - 12),CONCATENATE(\"Hul \",C43 + 4))","v":"Hul 9"}]
[null,{"$f":"IF(C43+5 > 12,CONCATENATE(\"Hul \",C43 + 5 - 12),CONCATENATE(\"Hul \",C43 + 5))","v":"Hul 10"}]
[null,{"$f":"IF(C43+6 > 12,CONCATENATE(\"Hul \",C43 + 6 - 12),CONCATENATE(\"Hul \",C43 + 6))","v":"Hul 11"}]
[null,{"$f":"IF(C43+7 > 12,CONCATENATE(\"Hul \",C43 + 7 - 12),CONCATENATE(\"Hul \",C43 + 7))","v":"Hul 12"}]
[null,{"$f":"IF(C43+8 > 12,CONCATENATE(\"Hul \",C43 + 8 - 12),CONCATENATE(\"Hul \",C43 + 8))","v":"Hul 1"}]
[null,{"$f":"IF(C43+9 > 12,CONCATENATE(\"Hul \",C43 + 9 - 12),CONCATENATE(\"Hul \",C43 + 9))","v":"Hul 2"}]
[null,{"$f":"IF(C43+10 > 12,CONCATENATE(\"Hul \",C43 + 10 - 12),CONCATENATE(\"Hul \",C43 + 10))","v":"Hul 3"}]
[null,{"$f":"IF(C43+11 > 12,CONCATENATE(\"Hul \",C43 + 11 - 12),CONCATENATE(\"Hul \",C43 + 11))","v":"Hul 4"}]
[null,"I alt"]
[null,"Hole-in-ond"]
[]
[]
[]
[null,"Til hul",{"$f":"'Puljer runde 1'!$L$9","v":7}]
[]
[]
[null,{"$f":"CONCATENATE(\"Hul \",C63)","v":"Hul 7"}]
[null,{"$f":"IF(C63+1 > 12,CONCATENATE(\"Hul \",C63 + 1 - 12),CONCATENATE(\"Hul \",C63 + 1))","v":"Hul 8"}]
[null,{"$f":"IF(C63+2 > 12,CONCATENATE(\"Hul \",C63 + 2 - 12),CONCATENATE(\"Hul \",C63 + 2))","v":"Hul 9"}]
[null,{"$f":"IF(C63+3 > 12,CONCATENATE(\"Hul \",C63 + 3 - 12),CONCATENATE(\"Hul \",C63 + 3))","v":"Hul 10"}]
[null,{"$f":"IF(C63+4 > 12,CONCATENATE(\"Hul \",C63 + 4 - 12),CONCATENATE(\"Hul \",C63 + 4))","v":"Hul 11"}]
[null,{"$f":"IF(C63+5 > 12,CONCATENATE(\"Hul \",C63 + 5 - 12),CONCATENATE(\"Hul \",C63 + 5))","v":"Hul 12"}]
[null,{"$f":"IF(C63+6 > 12,CONCATENATE(\"Hul \",C63 + 6 - 12),CONCATENATE(\"Hul \",C63 + 6))","v":"Hul 1"}]
[null,{"$f":"IF(C63+7 > 12,CONCATENATE(\"Hul \",C63 + 7 - 12),CONCATENATE(\"Hul \",C63 + 7))","v":"Hul 2"}]
[null,{"$f":"IF(C63+8 > 12,CONCATENATE(\"Hul \",C63 + 8 - 12),CONCATENATE(\"Hul \",C63 + 8))","v":"Hul 3"}]
[null,{"$f":"IF(C63+9 > 12,CONCATENATE(\"Hul \",C63 + 9 - 12),CONCATENATE(\"Hul \",C63 + 9))","v":"Hul 4"}]
[null,{"$f":"IF(C63+10 > 12,CONCATENATE(\"Hul \",C63 + 10 - 12),CONCATENATE(\"Hul \",C63 + 10))","v":"Hul 5"}]
[null,{"$f":"IF(C63+11 > 12,CONCATENATE(\"Hul \",C63 + 11 - 12),CONCATENATE(\"Hul \",C63 + 11))","v":"Hul 6"}]
[null,"I alt"]
[null,"Hole-in-one"]
[]
[]
[]
[null,"Til hul",{"$f":"'Puljer runde 1'!$L$10","v":9}]
[]
[]
[null,{"$f":"CONCATENATE(\"Hul \",C83)","v":"Hul 9"}]
[null,{"$f":"IF(C83+1 > 12,CONCATENATE(\"Hul \",C83 + 1 - 12),CONCATENATE(\"Hul \",C83 + 1))","v":"Hul 10"}]
[null,{"$f":"IF(C83+2 > 12,CONCATENATE(\"Hul \",C83 + 2 - 12),CONCATENATE(\"Hul \",C83 + 2))","v":"Hul 11"}]
[null,{"$f":"IF(C83+3 > 12,CONCATENATE(\"Hul \",C83 + 3 - 12),CONCATENATE(\"Hul \",C83 + 3))","v":"Hul 12"}]
[null,{"$f":"IF(C83+4 > 12,CONCATENATE(\"Hul \",C83 + 4 - 12),CONCATENATE(\"Hul \",C83 + 4))","v":"Hul 1"}]
[null,{"$f":"IF(C83+5 > 12,CONCATENATE(\"Hul \",C83 + 5 - 12),CONCATENATE(\"Hul \",C83 + 5))","v":"Hul 2"}]
[null,{"$f":"IF(C83+6 > 12,CONCATENATE(\"Hul \",C83 + 6 - 12),CONCATENATE(\"Hul \",C83 + 6))","v":"Hul 3"}]
[null,{"$f":"IF(C83+7 > 12,CONCATENATE(\"Hul \",C83 + 7 - 12),CONCATENATE(\"Hul \",C83 + 7))","v":"Hul 4"}]
[null,{"$f":"IF(C83+8 > 12,CONCATENATE(\"Hul \",C83 + 8 - 12),CONCATENATE(\"Hul \",C83 + 8))","v":"Hul 5"}]
[null,{"$f":"IF(C83+9 > 12,CONCATENATE(\"Hul \",C83 + 9 - 12),CONCATENATE(\"Hul \",C83 + 9))","v":"Hul 6"}]
[null,{"$f":"IF(C83+10 > 12,CONCATENATE(\"Hul \",C83 + 10 - 12),CONCATENATE(\"Hul \",C83 + 10))","v":"Hul 7"}]
[null,{"$f":"IF(C83+11 > 12,CONCATENATE(\"Hul \",C83 + 11 - 12),CONCATENATE(\"Hul \",C83 + 11))","v":"Hul 8"}]
[null,"I alt"]
[null,"Hole-in-one"]
[]
[]
[]
[null,"Til hul",{"$f":"'Puljer runde 1'!$L$11","v":11}]
[]
[]
[null,{"$f":"CONCATENATE(\"Hul \",C103)","v":"Hul 11"}]
[null,{"$f":"IF(C103+1 > 12,CONCATENATE(\"Hul \",C103 + 1 - 12),CONCATENATE(\"Hul \",C103 + 1))","v":"Hul 12"}]
[null,{"$f":"IF(C103+2 > 12,CONCATENATE(\"Hul \",C103 + 2 - 12),CONCATENATE(\"Hul \",C103 + 2))","v":"Hul 1"}]
[null,{"$f":"IF(C103+3 > 12,CONCATENATE(\"Hul \",C103 + 3 - 12),CONCATENATE(\"Hul \",C103 + 3))","v":"Hul 2"}]
[null,{"$f":"IF(C103+4 > 12,CONCATENATE(\"Hul \",C103 + 4 - 12),CONCATENATE(\"Hul \",C103 + 4))","v":"Hul 3"}]
[null,{"$f":"IF(C103+5 > 12,CONCATENATE(\"Hul \",C103 + 5 - 12),CONCATENATE(\"Hul \",C103 + 5))","v":"Hul 4"}]
[null,{"$f":"IF(C103+6 > 12,CONCATENATE(\"Hul \",C103 + 6 - 12),CONCATENATE(\"Hul \",C103 + 6))","v":"Hul 5"}]
[null,{"$f":"IF(C103+7 > 12,CONCATENATE(\"Hul \",C103 + 7 - 12),CONCATENATE(\"Hul \",C103 + 7))","v":"Hul 6"}]
[null,{"$f":"IF(C103+8 > 12,CONCATENATE(\"Hul \",C103 + 8 - 12),CONCATENATE(\"Hul \",C103 + 8))","v":"Hul 7"}]
[null,{"$f":"IF(C103+9 > 12,CONCATENATE(\"Hul \",C103 + 9 - 12),CONCATENATE(\"Hul \",C103 + 9))","v":"Hul 8"}]
[null,{"$f":"IF(C103+10 > 12,CONCATENATE(\"Hul \",C103 + 10 - 12),CONCATENATE(\"Hul \",C103 + 10))","v":"Hul 9"}]
[null,{"$f":"IF(C103+11 > 12,CONCATENATE(\"Hul \",C103 + 11 - 12),CONCATENATE(\"Hul \",C103 + 11))","v":"Hul 10"}]
[null,"I alt"]
[null,"Hole-in-one"]

{"sheet":"Kampsedler 2","index":10,"n_rows":503,"n_cols":12,"rows_kept":503,"cut":false,"hidden":false,"merged":[[487,4,487,5],[487,6,487,7],[487,8,487,9],[487,10,487,11],[501,1,501,11],[502,1,502,2],[502,3,502,11],[484,1,484,2],[484,3,485,9],[485,10,485,11],[486,1,487,1],[486,2,486,3],[486,4,486,5],[486,6,486,7],[486,8,486,9],[486,10,486,11],[487,2,487,3],[466,4,466,5],[466,6,466,7],[466,8,466,9],[466,10,466,11],[480,1,480,11],[481,1,481,2],[481,3,481,11],[463,1,463,2],[463,3,464,9],[464,10,464,11],[465,1,466,1],[465,2,465,3],[465,4,465,5],[465,6,465,7],[465,8,465,9],[465,10,465,11],[466,2,466,3],[445,4,445,5],[445,6,445,7],[445,8,445,9],[445,10,445,11],[459,1,459,11],[460,1,460,2],[460,3,460,11],[442,1,442,2],[442,3,443,9],[443,10,443,11],[444,1,445,1],[444,2,444,3],[444,4,444,5],[444,6,444,7],[444,8,444,9],[444,10,444,11],[445,2,445,3],[424,4,424,5],[424,6,424,7],[424,8,424,9],[424,10,424,11],[438,1,438,11],[439,1,439,2],[439,3,439,11],[421,1,421,2],[421,3,422,9],[422,10,422,11],[423,1,424,1],[423,2,423,3],[423,4,423,5],[423,6,423,7],[423,8,423,9],[423,10,423,11],[424,2,424,3],[403,4,403,5],[403,6,403,7],[403,8,403,9],[403,10,403,11],[417,1,417,11],[418,1,418,2],[418,3,418,11],[400,1,400,2],[400,3,401,9],[401,10,401,11],[402,1,403,1],[402,2,402,3],[402,4,402,5],[402,6,402,7],[402,8,402,9],[402,10,402,11],[403,2,403,3],[382,4,382,5],[382,6,382,7],[382,8,382,9],[382,10,382,11],[396,1,396,11],[397,1,397,2],[397,3,397,11],[379,1,379,2],[379,3,380,9],[380,10,380,11],[381,1,382,1],[381,2,381,3],[381,4,381,5],[381,6,381,7],[381,8,381,9],[381,10,381,11],[382,2,382,3],[361,4,361,5],[361,6,361,7],[361,8,361,9],[361,10,361,11],[375,1,375,11],[376,1,376,2],[376,3,376,11],[358,1,358,2],[358,3,359,9],[359,10,359,11],[360,1,361,1],[360,2,360,3],[360,4,360,5],[360,6,360,7],[360,8,360,9],[360,10,360,11],[361,2,361,3],[340,4,340,5],[340,6,340,7],[340,8,340,9],[340,10,340,11],[354,1,354,11],[355,1,355,2],[355,3,355,11],[337,1,337,2],[337,3,338,9],[338,10,338,11],[339,1,340,1],[339,2,339,3],[339,4,339,5],[339,6,339,7],[339,8,339,9],[339,10,339,11],[340,2,340,3],[319,4,319,5],[319,6,319,7],[319,8,319,9],[319,10,319,11],[333,1,333,11],[334,1,334,2],[334,3,334,11],[316,1,316,2],[316,3,317,9],[317,10,317,11],[318,1,319,1],[318,2,318,3],[318,4,318,5],[318,6,318,7],[318,8,318,9],[318,10,318,11],[319,2,319,3],[298,4,298,5],[298,6,298,7],[298,8,298,9],[298,10,298,11],[312,1,312,11],[313,1,313,2],[313,3,313,11],[295,1,295,2],[295,3,296,9],[296,10,296,11],[297,1,298,1],[297,2,297,3],[297,4,297,5],[297,6,297,7],[297,8,297,9],[297,10,297,11],[298,2,298,3],[277,4,277,5],[277,6,277,7],[277,8,277,9],[277,10,277,11],[291,1,291,11],[292,1,292,2],[292,3,292,11],[274,1,274,2],[274,3,275,9],[275,10,275,11],[276,1,277,1],[276,2,276,3],[276,4,276,5],[276,6,276,7],[276,8,276,9],[276,10,276,11],[277,2,277,3],[256,4,256,5],[256,6,256,7],[256,8,256,9],[256,10,256,11],[270,1,270,11],[271,1,271,2],[271,3,271,11],[253,1,253,2],[253,3,254,9],[254,10,254,11],[255,1,256,1],[255,2,255,3],[255,4,255,5],[255,6,255,7],[255,8,255,9],[255,10,255,11],[256,2,256,3],[235,4,235,5],[235,6,235,7],[235,8,235,9],[235,10,235,11],[249,1,249,11],[250,1,250,2],[250,3,250,11],[232,1,232,2],[232,3,233,9],[233,10,233,11],[234,1,235,1],[234,2,234,3],[234,4,234,5],[234,6,234,7],[234,8,234,9],[234,10,234,11],[235,2,235,3],[214,4,214,5],[214,6,214,7],[214,8,214,9],[214,10,214,11],[228,1,228,11],[229,1,229,2],[229,3,229,11],[211,1,211,2],[211,3,212,9],[212,10,212,11],[213,1,214,1],[213,2,213,3],[213,4,213,5],[213,6,213,7],[213,8,213,9],[213,10,213,11],[214,2,214,3],[193,4,193,5],[193,6,193,7],[193,8,193,9],[193,10,193,11],[207,1,207,11],[208,1,208,2],[208,3,208,11],[190,1,190,2],[190,3,191,9],[191,10,191,11],[192,1,193,1],[192,2,192,3],[192,4,192,5],[192,6,192,7],[192,8,192,9],[192,10,192,11],[193,2,193,3],[172,4,172,5],[172,6,172,7],[172,8,172,9],[172,10,172,11],[186,1,186,11],[187,1,187,2],[187,3,187,11],[169,1,169,2],[169,3,170,9],[170,10,170,11],[171,1,172,1],[171,2,171,3],[171,4,171,5],[171,6,171,7],[171,8,171,9],[171,10,171,11],[172,2,172,3],[151,4,151,5],[151,6,151,7],[151,8,151,9],[151,10,151,11],[165,1,165,11],[166,1,166,2],[166,3,166,11],[148,1,148,2],[148,3,149,9],[149,10,149,11],[150,1,151,1],[150,2,150,3],[150,4,150,5],[150,6,150,7],[150,8,150,9],[150,10,150,11],[151,2,151,3],[130,4,130,5],[130,6,130,7],[130,8,130,9],[130,10,130,11],[144,1,144,11],[145,1,145,2],[145,3,145,11],[127,1,127,2],[127,3,128,9],[128,10,128,11],[129,1,130,1],[129,2,129,3],[129,4,129,5],[129,6,129,7],[129,8,129,9],[129,10,129,11],[130,2,130,3],[109,4,109,5],[109,6,109,7],[109,8,109,9],[109,10,109,11],[123,1,123,11],[124,1,124,2],[124,3,124,11],[106,1,106,2],[106,3,107,9],[107,10,107,11],[108,1,109,1],[108,2,108,3],[108,4,108,5],[108,6,108,7],[108,8,108,9],[108,10,108,11],[109,2,109,3],[88,4,88,5],[88,6,88,7],[88,8,88,9],[88,10,88,11],[102,1,102,11],[103,1,103,2],[103,3,103,11],[85,1,85,2],[85,3,86,9],[86,10,86,11],[87,1,88,1],[87,2,87,3],[87,4,87,5],[87,6,87,7],[87,8,87,9],[87,10,87,11],[88,2,88,3],[67,4,67,5],[67,6,67,7],[67,8,67,9],[67,10,67,11],[81,1,81,11],[82,1,82,2],[82,3,82,11],[64,1,64,2],[64,3,65,9],[65,10,65,11],[66,1,67,1],[66,2,66,3],[66,4,66,5],[66,6,66,7],[66,8,66,9],[66,10,66,11],[67,2,67,3],[46,4,46,5],[46,6,46,7],[46,8,46,9],[46,10,46,11],[60,1,60,11],[61,1,61,2],[61,3,61,11],[43,1,43,2],[43,3,44,9],[44,10,44,11],[45,1,46,1],[45,2,45,3],[45,4,45,5],[45,6,45,7],[45,8,45,9],[45,10,45,11],[46,2,46,3],[25,4,25,5],[25,6,25,7],[25,8,25,9],[25,10,25,11],[39,1,39,11],[40,1,40,2],[40,3,40,11],[22,1,22,2],[22,3,23,9],[23,10,23,11],[24,1,25,1],[24,2,24,3],[24,4,24,5],[24,6,24,7],[24,8,24,9],[24,10,24,11],[25,2,25,3],[4,4,4,5],[4,6,4,7],[4,8,4,9],[4,10,4,11],[18,1,18,11],[19,1,19,2],[19,3,19,11],[1,1,1,2],[1,3,2,9],[2,10,2,11],[3,1,4,1],[3,2,3,3],[3,4,3,5],[3,6,3,7],[3,8,3,9],[3,10,3,11],[4,2,4,3]]}
[]
[null,{"$f":"CONCATENATE(\"       \",'Puljer runde 2'!$A$6)","v":"       Bane 1"},null,{"$f":"Setup!$B$2","v":"Minitræf i Houlbjerg"},null,null,null,null,null,null,{"$f":"'Puljer runde 2'!$B$3","v":"Runde 2"},{"$f":"CONCATENATE('Puljer runde 2'!$A$5,\".\",'Puljer runde 2'!$M$6)","v":"Grøn.1"}]
[null,"Til hul",{"$f":"'Puljer runde 2'!$L$6","v":0},null,null,null,null,null,null,null,{"$f":"Setup!$B$4","v":"29. juli 2015"}]
[null,null,{"$f":"IF('Puljer runde 2'!B$6=\"\",\"\",'Puljer runde 2'!B$6)","v":""},null,{"$f":"IF('Puljer runde 2'!D$6=\"\",\"\",'Puljer runde 2'!D$6)","v":""},null,{"$f":"IF('Puljer runde 2'!F$6=\"\",\"\",'Puljer runde 2'!F$6)","v":""},null,{"$f":"IF('Puljer runde 2'!H$6=\"\",\"\",'Puljer runde 2'!H$6)","v":""},null,{"$f":"IF('Puljer runde 2'!J$6=\"\",\"\",'Puljer runde 2'!J$6)","v":""}]
[null,null,{"$f":"IF('Puljer runde 2'!C$6=\"\",\"\",'Puljer runde 2'!C$6)","v":""},null,{"$f":"IF('Puljer runde 2'!E$6=\"\",\"\",'Puljer runde 2'!E$6)","v":""},null,{"$f":"IF('Puljer runde 2'!G$6=\"\",\"\",'Puljer runde 2'!G$6)","v":""},null,{"$f":"IF('Puljer runde 2'!I$6=\"\",\"\",'Puljer runde 2'!I$6)","v":""},null,{"$f":"IF('Puljer runde 2'!K$6=\"\",\"\",'Puljer runde 2'!K$6)","v":""}]
[null,{"$f":"CONCATENATE(\"Hul \",C3)","v":"Hul 0"}]
[null,{"$f":"IF(C3+1 > 12,CONCATENATE(\"Hul \",C3 + 1 - 12),CONCATENATE(\"Hul \",C3 + 1))","v":"Hul 1"}]
[null,{"$f":"IF(C3+2 > 12,CONCATENATE(\"Hul \",C3 + 2 - 12),CONCATENATE(\"Hul \",C3 + 2))","v":"Hul 2"}]
[null,{"$f":"IF(C3+3 > 12,CONCATENATE(\"Hul \",C3 + 3 - 12),CONCATENATE(\"Hul \",C3 + 3))","v":"Hul 3"}]
[null,{"$f":"IF(C3+4 > 12,CONCATENATE(\"Hul \",C3 + 4 - 12),CONCATENATE(\"Hul \",C3 + 4))","v":"Hul 4"}]
[null,{"$f":"IF(C3+5 > 12,CONCATENATE(\"Hul \",C3 + 5 - 12),CONCATENATE(\"Hul \",C3 + 5))","v":"Hul 5"}]
[null,{"$f":"IF(C3+6 > 12,CONCATENATE(\"Hul \",C3 + 6 - 12),CONCATENATE(\"Hul \",C3 + 6))","v":"Hul 6"}]
[null,{"$f":"IF(C3+7 > 12,CONCATENATE(\"Hul \",C3 + 7 - 12),CONCATENATE(\"Hul \",C3 + 7))","v":"Hul 7"}]
[null,{"$f":"IF(C3+8 > 12,CONCATENATE(\"Hul \",C3 + 8 - 12),CONCATENATE(\"Hul \",C3 + 8))","v":"Hul 8"}]
[null,{"$f":"IF(C3+9 > 12,CONCATENATE(\"Hul \",C3 + 9 - 12),CONCATENATE(\"Hul \",C3 + 9))","v":"Hul 9"}]
[null,{"$f":"IF(C3+10 > 12,CONCATENATE(\"Hul \",C3 + 10 - 12),CONCATENATE(\"Hul \",C3 + 10))","v":"Hul 10"}]
[null,{"$f":"IF(C3+11 > 12,CONCATENATE(\"Hul \",C3 + 11 - 12),CONCATENATE(\"Hul \",C3 + 11))","v":"Hul 11"}]
[null,"I alt"]
[null,{"$f":"Setup!$B$8","v":0}]
[null,"Dommer:"]
[]
[]
[null,{"$f":"CONCATENATE(\"       \",'Puljer runde 2'!$A$7)","v":"       Bane 1"},null,{"$f":"Setup!$B$2","v":"Minitræf i Houlbjerg"},null,null,null,null,null,null,{"$f":"'Puljer runde 2'!$B$3","v":"Runde 2"},{"$f":"CONCATENATE('Puljer runde 2'!$A$5,\".\",'Puljer runde 2'!$M$7)","v":"Grøn.2"}]
[null,"Til hul",{"$f":"'Puljer runde 2'!$L$7","v":0},null,null,null,null,null,null,null,{"$f":"Setup!$B$4","v":"29. juli 2015"}]
[null,null,{"$f":"IF('Puljer runde 2'!B$7=\"\",\"\",'Puljer runde 2'!B$7)","v":""},null,{"$f":"IF('Puljer runde 2'!D$7=\"\",\"\",'Puljer runde 2'!D$7)","v":""},null,{"$f":"IF('Puljer runde 2'!F$7=\"\",\"\",'Puljer runde 2'!F$7)","v":""},null,{"$f":"IF('Puljer runde 2'!H$7=\"\",\"\",'Puljer runde 2'!H$7)","v":""},null,{"$f":"IF('Puljer runde 2'!J$7=\"\",\"\",'Puljer runde 2'!J$7)","v":""}]
[null,null,{"$f":"IF('Puljer runde 2'!C$7=\"\",\"\",'Puljer runde 2'!C$7)","v":""},null,{"$f":"IF('Puljer runde 2'!E$7=\"\",\"\",'Puljer runde 2'!E$7)","v":""},null,{"$f":"IF('Puljer runde 2'!G$7=\"\",\"\",'Puljer runde 2'!G$7)","v":""},null,{"$f":"IF('Puljer runde 2'!I$7=\"\",\"\",'Puljer runde 2'!I$7)","v":""},null,{"$f":"IF('Puljer runde 2'!K$7=\"\",\"\",'Puljer runde 2'!K$7)","v":""}]
[null,{"$f":"CONCATENATE(\"Hul \",C24)","v":"Hul 0"}]
[null,{"$f":"IF(C24+1 > 12,CONCATENATE(\"Hul \",C24 + 1 - 12),CONCATENATE(\"Hul \",C24 + 1))","v":"Hul 1"}]
[null,{"$f":"IF(C24+2 > 12,CONCATENATE(\"Hul \",C24 + 2 - 12),CONCATENATE(\"Hul \",C24 + 2))","v":"Hul 2"}]
[null,{"$f":"IF(C24+3 > 12,CONCATENATE(\"Hul \",C24 + 3 - 12),CONCATENATE(\"Hul \",C24 + 3))","v":"Hul 3"}]
[null,{"$f":"IF(C24+4 > 12,CONCATENATE(\"Hul \",C24 + 4 - 12),CONCATENATE(\"Hul \",C24 + 4))","v":"Hul 4"}]
[null,{"$f":"IF(C24+5 > 12,CONCATENATE(\"Hul \",C24 + 5 - 12),CONCATENATE(\"Hul \",C24 + 5))","v":"Hul 5"}]
[null,{"$f":"IF(C24+6 > 12,CONCATENATE(\"Hul \",C24 + 6 - 12),CONCATENATE(\"Hul \",C24 + 6))","v":"Hul 6"}]
[null,{"$f":"IF(C24+7 > 12,CONCATENATE(\"Hul \",C24 + 7 - 12),CONCATENATE(\"Hul \",C24 + 7))","v":"Hul 7"}]
[null,{"$f":"IF(C24+8 > 12,CONCATENATE(\"Hul \",C24 + 8 - 12),CONCATENATE(\"Hul \",C24 + 8))","v":"Hul 8"}]
[null,{"$f":"IF(C24+9 > 12,CONCATENATE(\"Hul \",C24 + 9 - 12),CONCATENATE(\"Hul \",C24 + 9))","v":"Hul 9"}]
[null,{"$f":"IF(C24+10 > 12,CONCATENATE(\"Hul \",C24 + 10 - 12),CONCATENATE(\"Hul \",C24 + 10))","v":"Hul 10"}]
[null,{"$f":"IF(C24+11 > 12,CONCATENATE(\"Hul \",C24 + 11 - 12),CONCATENATE(\"Hul \",C24 + 11))","v":"Hul 11"}]
[null,"I alt"]
[null,{"$f":"Setup!$B$8","v":0}]
[null,"Dommer:"]
[]
[]
[null,{"$f":"CONCATENATE(\"       \",'Puljer runde 2'!$A$8)","v":"       Bane 1"},null,{"$f":"Setup!$B$2","v":"Minitræf i Houlbjerg"},null,null,null,null,null,null,{"$f":"'Puljer runde 2'!$B$3","v":"Runde 2"},{"$f":"CONCATENATE('Puljer runde 2'!$A$5,\".\",'Puljer runde 2'!$M$8)","v":"Grøn.3"}]
[null,"Til hul",{"$f":"'Puljer runde 2'!$L$8","v":0},null,null,null,null,null,null,null,{"$f":"Setup!$B$4","v":"29. juli 2015"}]
[null,null,{"$f":"IF('Puljer runde 2'!B$8=\"\",\"\",'Puljer runde 2'!B$8)","v":""},null,{"$f":"IF('Puljer runde 2'!D$8=\"\",\"\",'Puljer runde 2'!D$8)","v":""},null,{"$f":"IF('Puljer runde 2'!F$8=\"\",\"\",'Puljer runde 2'!F$8)","v":""},null,{"$f":"IF('Puljer runde 2'!H$8=\"\",\"\",'Puljer runde 2'!H$8)","v":""},null,{"$f":"IF('Puljer runde 2'!J$8=\"\",\"\",'Puljer runde 2'!J$8)","v":""}]
[null,null,{"$f":"IF('Puljer runde 2'!C$8=\"\",\"\",'Puljer runde 2'!C$8)","v":""},null,{"$f":"IF('Puljer runde 2'!E$8=\"\",\"\",'Puljer runde 2'!E$8)","v":""},null,{"$f":"IF('Puljer runde 2'!G$8=\"\",\"\",'Puljer runde 2'!G$8)","v":""},null,{"$f":"IF('Puljer runde 2'!I$8=\"\",\"\",'Puljer runde 2'!I$8)","v":""},null,{"$f":"IF('Puljer runde 2'!K$8=\"\",\"\",'Puljer runde 2'!K$8)","v":""}]
[null,{"$f":"CONCATENATE(\"Hul \",C45)","v":"Hul 0"}]
[null,{"$f":"IF(C45+1 > 12,CONCATENATE(\"Hul \",C45 + 1 - 12),CONCATENATE(\"Hul \",C45 + 1))","v":"Hul 1"}]
[null,{"$f":"IF(C45+2 > 12,CONCATENATE(\"Hul \",C45 + 2 - 12),CONCATENATE(\"Hul \",C45 + 2))","v":"Hul 2"}]
[null,{"$f":"IF(C45+3 > 12,CONCATENATE(\"Hul \",C45 + 3 - 12),CONCATENATE(\"Hul \",C45 + 3))","v":"Hul 3"}]
[null,{"$f":"IF(C45+4 > 12,CONCATENATE(\"Hul \",C45 + 4 - 12),CONCATENATE(\"Hul \",C45 + 4))","v":"Hul 4"}]
[null,{"$f":"IF(C45+5 > 12,CONCATENATE(\"Hul \",C45 + 5 - 12),CONCATENATE(\"Hul \",C45 + 5))","v":"Hul 5"}]
[null,{"$f":"IF(C45+6 > 12,CONCATENATE(\"Hul \",C45 + 6 - 12),CONCATENATE(\"Hul \",C45 + 6))","v":"Hul 6"}]
[null,{"$f":"IF(C45+7 > 12,CONCATENATE(\"Hul \",C45 + 7 - 12),CONCATENATE(\"Hul \",C45 + 7))","v":"Hul 7"}]
[null,{"$f":"IF(C45+8 > 12,CONCATENATE(\"Hul \",C45 + 8 - 12),CONCATENATE(\"Hul \",C45 + 8))","v":"Hul 8"}]
[null,{"$f":"IF(C45+9 > 12,CONCATENATE(\"Hul \",C45 + 9 - 12),CONCATENATE(\"Hul \",C45 + 9))","v":"Hul 9"}]
[null,{"$f":"IF(C45+10 > 12,CONCATENATE(\"Hul \",C45 + 10 - 12),CONCATENATE(\"Hul \",C45 + 10))","v":"Hul 10"}]
[null,{"$f":"IF(C45+11 > 12,CONCATENATE(\"Hul \",C45 + 11 - 12),CONCATENATE(\"Hul \",C45 + 11))","v":"Hul 11"}]
[null,"I alt"]
[null,{"$f":"Setup!$B$8","v":0}]
[null,"Dommer:"]
[]
[]
[null,{"$f":"CONCATENATE(\"       \",'Puljer runde 2'!$A$9)","v":"       Bane 1"},null,{"$f":"Setup!$B$2","v":"Minitræf i Houlbjerg"},null,null,null,null,null,null,{"$f":"'Puljer runde 2'!$B$3","v":"Runde 2"},{"$f":"CONCATENATE('Puljer runde 2'!$A$5,\".\",'Puljer runde 2'!$M$9)","v":"Grøn.4"}]
[null,"Til hul",{"$f":"'Puljer runde 2'!$L$9","v":0},null,null,null,null,null,null,null,{"$f":"Setup!$B$4","v":"29. juli 2015"}]
[null,null,{"$f":"IF('Puljer runde 2'!B$9=\"\",\"\",'Puljer runde 2'!B$9)","v":""},null,{"$f":"IF('Puljer runde 2'!D$9=\"\",\"\",'Puljer runde 2'!D$9)","v":""},null,{"$f":"IF('Puljer runde 2'!F$9=\"\",\"\",'Puljer runde 2'!F$9)","v":""},null,{"$f":"IF('Puljer runde 2'!H$9=\"\",\"\",'Puljer runde 2'!H$9)","v":""},null,{"$f":"IF('Puljer runde 2'!J$9=\"\",\"\",'Puljer runde 2'!J$9)","v":""}]
[null,null,{"$f":"IF('Puljer runde 2'!C$9=\"\",\"\",'Puljer runde 2'!C$9)","v":""},null,{"$f":"IF('Puljer runde 2'!E$9=\"\",\"\",'Puljer runde 2'!E$9)","v":""},null,{"$f":"IF('Puljer runde 2'!G$9=\"\",\"\",'Puljer runde 2'!G$9)","v":""},null,{"$f":"IF('Puljer runde 2'!I$9=\"\",\"\",'Puljer runde 2'!I$9)","v":""},null,{"$f":"IF('Puljer runde 2'!K$9=\"\",\"\",'Puljer runde 2'!K$9)","v":""}]
[null,{"$f":"CONCATENATE(\"Hul \",C66)","v":"Hul 0"}]
[null,{"$f":"IF(C66+1 > 12,CONCATENATE(\"Hul \",C66 + 1 - 12),CONCATENATE(\"Hul \",C66 + 1))","v":"Hul 1"}]
[null,{"$f":"IF(C66+2 > 12,CONCATENATE(\"Hul \",C66 + 2 - 12),CONCATENATE(\"Hul \",C66 + 2))","v":"Hul 2"}]
[null,{"$f":"IF(C66+3 > 12,CONCATENATE(\"Hul \",C66 + 3 - 12),CONCATENATE(\"Hul \",C66 + 3))","v":"Hul 3"}]
[null,{"$f":"IF(C66+4 > 12,CONCATENATE(\"Hul \",C66 + 4 - 12),CONCATENATE(\"Hul \",C66 + 4))","v":"Hul 4"}]
[null,{"$f":"IF(C66+5 > 12,CONCATENATE(\"Hul \",C66 + 5 - 12),CONCATENATE(\"Hul \",C66 + 5))","v":"Hul 5"}]
[null,{"$f":"IF(C66+6 > 12,CONCATENATE(\"Hul \",C66 + 6 - 12),CONCATENATE(\"Hul \",C66 + 6))","v":"Hul 6"}]
[null,{"$f":"IF(C66+7 > 12,CONCATENATE(\"Hul \",C66 + 7 - 12),CONCATENATE(\"Hul \",C66 + 7))","v":"Hul 7"}]
[null,{"$f":"IF(C66+8 > 12,CONCATENATE(\"Hul \",C66 + 8 - 12),CONCATENATE(\"Hul \",C66 + 8))","v":"Hul 8"}]
[null,{"$f":"IF(C66+9 > 12,CONCATENATE(\"Hul \",C66 + 9 - 12),CONCATENATE(\"Hul \",C66 + 9))","v":"Hul 9"}]
[null,{"$f":"IF(C66+10 > 12,CONCATENATE(\"Hul \",C66 + 10 - 12),CONCATENATE(\"Hul \",C66 + 10))","v":"Hul 10"}]
[null,{"$f":"IF(C66+11 > 12,CONCATENATE(\"Hul \",C66 + 11 - 12),CONCATENATE(\"Hul \",C66 + 11))","v":"Hul 11"}]
[null,"I alt"]
[null,{"$f":"Setup!$B$8","v":0}]
[null,"Dommer:"]
[]
[]
[null,{"$f":"CONCATENATE(\"       \",'Puljer runde 2'!$A$10)","v":"       Bane 1"},null,{"$f":"Setup!$B$2","v":"Minitræf i Houlbjerg"},null,null,null,null,null,null,{"$f":"'Puljer runde 2'!$B$3","v":"Runde 2"},{"$f":"CONCATENATE('Puljer runde 2'!$A$5,\".\",'Puljer runde 2'!$M$10)","v":"Grøn.5"}]
[null,"Til hul",{"$f":"'Puljer runde 2'!$L$10","v":0},null,null,null,null,null,null,null,{"$f":"Setup!$B$4","v":"29. juli 2015"}]
[null,null,{"$f":"IF('Puljer runde 2'!B$10=\"\",\"\",'Puljer runde 2'!B$10)","v":""},null,{"$f":"IF('Puljer runde 2'!D$10=\"\",\"\",'Puljer runde 2'!D$10)","v":""},null,{"$f":"IF('Puljer runde 2'!F$10=\"\",\"\",'Puljer runde 2'!F$10)","v":""},null,{"$f":"IF('Puljer runde 2'!H$10=\"\",\"\",'Puljer runde 2'!H$10)","v":""},null,{"$f":"IF('Puljer runde 2'!J$10=\"\",\"\",'Puljer runde 2'!J$10)","v":""}]
[null,null,{"$f":"IF('Puljer runde 2'!C$10=\"\",\"\",'Puljer runde 2'!C$10)","v":""},null,{"$f":"IF('Puljer runde 2'!E$10=\"\",\"\",'Puljer runde 2'!E$10)","v":""},null,{"$f":"IF('Puljer runde 2'!G$10=\"\",\"\",'Puljer runde 2'!G$10)","v":""},null,{"$f":"IF('Puljer runde 2'!I$10=\"\",\"\",'Puljer runde 2'!I$10)","v":""},null,{"$f":"IF('Puljer runde 2'!K$10=\"\",\"\",'Puljer runde 2'!K$10)","v":""}]
[null,{"$f":"CONCATENATE(\"Hul \",C87)","v":"Hul 0"}]
[null,{"$f":"IF(C87+1 > 12,CONCATENATE(\"Hul \",C87 + 1 - 12),CONCATENATE(\"Hul \",C87 + 1))","v":"Hul 1"}]
[null,{"$f":"IF(C87+2 > 12,CONCATENATE(\"Hul \",C87 + 2 - 12),CONCATENATE(\"Hul \",C87 + 2))","v":"Hul 2"}]
[null,{"$f":"IF(C87+3 > 12,CONCATENATE(\"Hul \",C87 + 3 - 12),CONCATENATE(\"Hul \",C87 + 3))","v":"Hul 3"}]
[null,{"$f":"IF(C87+4 > 12,CONCATENATE(\"Hul \",C87 + 4 - 12),CONCATENATE(\"Hul \",C87 + 4))","v":"Hul 4"}]
[null,{"$f":"IF(C87+5 > 12,CONCATENATE(\"Hul \",C87 + 5 - 12),CONCATENATE(\"Hul \",C87 + 5))","v":"Hul 5"}]
[null,{"$f":"IF(C87+6 > 12,CONCATENATE(\"Hul \",C87 + 6 - 12),CONCATENATE(\"Hul \",C87 + 6))","v":"Hul 6"}]
[null,{"$f":"IF(C87+7 > 12,CONCATENATE(\"Hul \",C87 + 7 - 12),CONCATENATE(\"Hul \",C87 + 7))","v":"Hul 7"}]
[null,{"$f":"IF(C87+8 > 12,CONCATENATE(\"Hul \",C87 + 8 - 12),CONCATENATE(\"Hul \",C87 + 8))","v":"Hul 8"}]
[null,{"$f":"IF(C87+9 > 12,CONCATENATE(\"Hul \",C87 + 9 - 12),CONCATENATE(\"Hul \",C87 + 9))","v":"Hul 9"}]
[null,{"$f":"IF(C87+10 > 12,CONCATENATE(\"Hul \",C87 + 10 - 12),CONCATENATE(\"Hul \",C87 + 10))","v":"Hul 10"}]
[null,{"$f":"IF(C87+11 > 12,CONCATENATE(\"Hul \",C87 + 11 - 12),CONCATENATE(\"Hul \",C87 + 11))","v":"Hul 11"}]
[null,"I alt"]
[null,{"$f":"Setup!$B$8","v":0}]
[null,"Dommer:"]
[]
[]
[null,{"$f":"CONCATENATE(\"       \",'Puljer runde 2'!$A$11)","v":"       Bane 1"},null,{"$f":"Setup!$B$2","v":"Minitræf i Houlbjerg"},null,null,null,null,null,null,{"$f":"'Puljer runde 2'!$B$3","v":"Runde 2"},{"$f":"CONCATENATE('Puljer runde 2'!$A$5,\".\",'Puljer runde 2'!$M$11)","v":"Grøn.6"}]
[null,"Til hul",{"$f":"'Puljer runde 2'!$L$11","v":0},null,null,null,null,null,null,null,{"$f":"Setup!$B$4","v":"29. juli 2015"}]
[null,null,{"$f":"IF('Puljer runde 2'!B$11=\"\",\"\",'Puljer runde 2'!B$11)","v":""},null,{"$f":"IF('Puljer runde 2'!D$11=\"\",\"\",'Puljer runde 2'!D$11)","v":""},null,{"$f":"IF('Puljer runde 2'!F$11=\"\",\"\",'Puljer runde 2'!F$11)","v":""},null,{"$f":"IF('Puljer runde 2'!H$11=\"\",\"\",'Puljer runde 2'!H$11)","v":""},null,{"$f":"IF('Puljer runde 2'!J$11=\"\",\"\",'Puljer runde 2'!J$11)","v":""}]
[null,null,{"$f":"IF('Puljer runde 2'!C$11=\"\",\"\",'Puljer runde 2'!C$11)","v":""},null,{"$f":"IF('Puljer runde 2'!E$11=\"\",\"\",'Puljer runde 2'!E$11)","v":""},null,{"$f":"IF('Puljer runde 2'!G$11=\"\",\"\",'Puljer runde 2'!G$11)","v":""},null,{"$f":"IF('Puljer runde 2'!I$11=\"\",\"\",'Puljer runde 2'!I$11)","v":""},null,{"$f":"IF('Puljer runde 2'!K$11=\"\",\"\",'Puljer runde 2'!K$11)","v":""}]
[null,{"$f":"CONCATENATE(\"Hul \",C108)","v":"Hul 0"}]
[null,{"$f":"IF(C108+1 > 12,CONCATENATE(\"Hul \",C108 + 1 - 12),CONCATENATE(\"Hul \",C108 + 1))","v":"Hul 1"}]
[null,{"$f":"IF(C108+2 > 12,CONCATENATE(\"Hul \",C108 + 2 - 12),CONCATENATE(\"Hul \",C108 + 2))","v":"Hul 2"}]
[null,{"$f":"IF(C108+3 > 12,CONCATENATE(\"Hul \",C108 + 3 - 12),CONCATENATE(\"Hul \",C108 + 3))","v":"Hul 3"}]
[null,{"$f":"IF(C108+4 > 12,CONCATENATE(\"Hul \",C108 + 4 - 12),CONCATENATE(\"Hul \",C108 + 4))","v":"Hul 4"}]
[null,{"$f":"IF(C108+5 > 12,CONCATENATE(\"Hul \",C108 + 5 - 12),CONCATENATE(\"Hul \",C108 + 5))","v":"Hul 5"}]
[null,{"$f":"IF(C108+6 > 12,CONCATENATE(\"Hul \",C108 + 6 - 12),CONCATENATE(\"Hul \",C108 + 6))","v":"Hul 6"}]
[null,{"$f":"IF(C108+7 > 12,CONCATENATE(\"Hul \",C108 + 7 - 12),CONCATENATE(\"Hul \",C108 + 7))","v":"Hul 7"}]
[null,{"$f":"IF(C108+8 > 12,CONCATENATE(\"Hul \",C108 + 8 - 12),CONCATENATE(\"Hul \",C108 + 8))","v":"Hul 8"}]
[null,{"$f":"IF(C108+9 > 12,CONCATENATE(\"Hul \",C108 + 9 - 12),CONCATENATE(\"Hul \",C108 + 9))","v":"Hul 9"}]
[null,{"$f":"IF(C108+10 > 12,CONCATENATE(\"Hul \",C108 + 10 - 12),CONCATENATE(\"Hul \",C108 + 10))","v":"Hul 10"}]
[null,{"$f":"IF(C108+11 > 12,CONCATENATE(\"Hul \",C108 + 11 - 12),CONCATENATE(\"Hul \",C108 + 11))","v":"Hul 11"}]
[null,"I alt"]
[null,{"$f":"Setup!$B$8","v":0}]
[null,"Dommer:"]
[]
[]
[null,{"$f":"CONCATENATE(\"       \",'Puljer runde 2'!$A$16)","v":"       Bane 2"},null,{"$f":"Setup!$B$2","v":"Minitræf i Houlbjerg"},null,null,null,null,null,null,{"$f":"'Puljer runde 2'!$B$3","v":"Runde 2"},{"$f":"CONCATENATE('Puljer runde 2'!$A$15,\".\",'Puljer runde 2'!$M$16)","v":"Rød.1"}]
[null,"Til hul",{"$f":"'Puljer runde 2'!$L$16","v":1},null,null,null,null,null,null,null,{"$f":"Setup!$B$4","v":"29. juli 2015"}]
[null,null,{"$f":"IF('Puljer runde 2'!B$16=\"\",\"\",'Puljer runde 2'!B$16)","v":"Kaj Storgaard"},null,{"$f":"IF('Puljer runde 2'!D$16=\"\",\"\",'Puljer runde 2'!D$16)","v":"Bente Nordmann"},null,{"$f":"IF('Puljer runde 2'!F$16=\"\",\"\",'Puljer runde 2'!F$16)","v":"Grethe Gregersen"},null,{"$f":"IF('Puljer runde 2'!H$16=\"\",\"\",'Puljer runde 2'!H$16)","v":"Kurt Rasmussen"},null,{"$f":"IF('Puljer runde 2'!J$16=\"\",\"\",'Puljer runde 2'!J$16)","v":"Svend B. G. Laursen"}]
[null,null,{"$f":"IF('Puljer runde 2'!C$16=\"\",\"\",'Puljer runde 2'!C$16)","v":"Ulstrup"},null,{"$f":"IF('Puljer runde 2'!E$16=\"\",\"\",'Puljer runde 2'!E$16)","v":"Auning"},null,{"$f":"IF('Puljer runde 2'!G$16=\"\",\"\",'Puljer runde 2'!G$16)","v":"Houlbjerg"},null,{"$f":"IF('Puljer runde 2'!I$16=\"\",\"\",'Puljer runde 2'!I$16)","v":"Høst"},null,{"$f":"IF('Puljer runde 2'!K$16=\"\",\"\",'Puljer runde 2'!K$16)","v":"Rønde"}]
[null,{"$f":"CONCATENATE(\"Hul \",C129)","v":"Hul 1"}]
[null,{"$f":"IF(C129+1 > 12,CONCATENATE(\"Hul \",C129 + 1 - 12),CONCATENATE(\"Hul \",C129 + 1))","v":"Hul 2"}]
[null,{"$f":"IF(C129+2 > 12,CONCATENATE(\"Hul \",C129 + 2 - 12),CONCATENATE(\"Hul \",C129 + 2))","v":"Hul 3"}]
[null,{"$f":"IF(C129+3 > 12,CONCATENATE(\"Hul \",C129 + 3 - 12),CONCATENATE(\"Hul \",C129 + 3))","v":"Hul 4"}]
[null,{"$f":"IF(C129+4 > 12,CONCATENATE(\"Hul \",C129 + 4 - 12),CONCATENATE(\"Hul \",C129 + 4))","v":"Hul 5"}]
[null,{"$f":"IF(C129+5 > 12,CONCATENATE(\"Hul \",C129 + 5 - 12),CONCATENATE(\"Hul \",C129 + 5))","v":"Hul 6"}]
[null,{"$f":"IF(C129+6 > 12,CONCATENATE(\"Hul \",C129 + 6 - 12),CONCATENATE(\"Hul \",C129 + 6))","v":"Hul 7"}]
[null,{"$f":"IF(C129+7 > 12,CONCATENATE(\"Hul \",C129 + 7 - 12),CONCATENATE(\"Hul \",C129 + 7))","v":"Hul 8"}]
[null,{"$f":"IF(C129+8 > 12,CONCATENATE(\"Hul \",C129 + 8 - 12),CONCATENATE(\"Hul \",C129 + 8))","v":"Hul 9"}]
[null,{"$f":"IF(C129+9 > 12,CONCATENATE(\"Hul \",C129 + 9 - 12),CONCATENATE(\"Hul \",C129 + 9))","v":"Hul 10"}]
[null,{"$f":"IF(C129+10 > 12,CONCATENATE(\"Hul \",C129 + 10 - 12),CONCATENATE(\"Hul \",C129 + 10))","v":"Hul 11"}]
[null,{"$f":"IF(C129+11 > 12,CONCATENATE(\"Hul \",C129 + 11 - 12),CONCATENATE(\"Hul \",C129 + 11))","v":"Hul 12"}]
[null,"I alt"]
[null,{"$f":"Setup!$B$8","v":0}]
[null,"Dommer:"]
[]
[]
[null,{"$f":"CONCATENATE(\"       \",'Puljer runde 2'!$A$17)","v":"       Bane 2"},null,{"$f":"Setup!$B$2","v":"Minitræf i Houlbjerg"},null,null,null,null,null,null,{"$f":"'Puljer runde 2'!$B$3","v":"Runde 2"},{"$f":"CONCATENATE('Puljer runde 2'!$A$15,\".\",'Puljer runde 2'!$M$17)","v":"Rød.2"}]
[null,"Til hul",{"$f":"'Puljer runde 2'!$L$17","v":3},null,null,null,null,null,null,null,{"$f":"Setup!$B$4","v":"29. juli 2015"}]
[null,null,{"$f":"IF('Puljer runde 2'!B$17=\"\",\"\",'Puljer runde 2'!B$17)","v":"Ester Storgaard"},null,{"$f":"IF('Puljer runde 2'!D$17=\"\",\"\",'Puljer runde 2'!D$17)","v":"Rosa Højgaard"},null,{"$f":"IF('Puljer runde 2'!F$17=\"\",\"\",'Puljer runde 2'!F$17)","v":"Doris Thomsen"},null,{"$f":"IF('Puljer runde 2'!H$17=\"\",\"\",'Puljer runde 2'!H$17)","v":"Inger Rasmussen"},null,{"$f":"IF('Puljer runde 2'!J$17=\"\",\"\",'Puljer runde 2'!J$17)","v":"Marie Petersen"}]
[null,null,{"$f":"IF('Puljer runde 2'!C$17=\"\",\"\",'Puljer runde 2'!C$17)","v":"Ulstrup"},null,{"$f":"IF('Puljer runde 2'!E$17=\"\",\"\",'Puljer runde 2'!E$17)","v":"Hammel"},null,{"$f":"IF('Puljer runde 2'!G$17=\"\",\"\",'Puljer runde 2'!G$17)","v":"Houlbjerg"},null,{"$f":"IF('Puljer runde 2'!I$17=\"\",\"\",'Puljer runde 2'!I$17)","v":"Høst"},null,{"$f":"IF('Puljer runde 2'!K$17=\"\",\"\",'Puljer runde 2'!K$17)","v":"Rønde"}]
[null,{"$f":"CONCATENATE(\"Hul \",C150)","v":"Hul 3"}]
[null,{"$f":"IF(C150+1 > 12,CONCATENATE(\"Hul \",C150 + 1 - 12),CONCATENATE(\"Hul \",C150 + 1))","v":"Hul 4"}]
[null,{"$f":"IF(C150+2 > 12,CONCATENATE(\"Hul \",C150 + 2 - 12),CONCATENATE(\"Hul \",C150 + 2))","v":"Hul 5"}]
[null,{"$f":"IF(C150+3 > 12,CONCATENATE(\"Hul \",C150 + 3 - 12),CONCATENATE(\"Hul \",C150 + 3))","v":"Hul 6"}]
[null,{"$f":"IF(C150+4 > 12,CONCATENATE(\"Hul \",C150 + 4 - 12),CONCATENATE(\"Hul \",C150 + 4))","v":"Hul 7"}]
[null,{"$f":"IF(C150+5 > 12,CONCATENATE(\"Hul \",C150 + 5 - 12),CONCATENATE(\"Hul \",C150 + 5))","v":"Hul 8"}]
[null,{"$f":"IF(C150+6 > 12,CONCATENATE(\"Hul \",C150 + 6 - 12),CONCATENATE(\"Hul \",C150 + 6))","v":"Hul 9"}]
[null,{"$f":"IF(C150+7 > 12,CONCATENATE(\"Hul \",C150 + 7 - 12),CONCATENATE(\"Hul \",C150 + 7))","v":"Hul 10"}]
[null,{"$f":"IF(C150+8 > 12,CONCATENATE(\"Hul \",C150 + 8 - 12),CONCATENATE(\"Hul \",C150 + 8))","v":"Hul 11"}]
[null,{"$f":"IF(C150+9 > 12,CONCATENATE(\"Hul \",C150 + 9 - 12),CONCATENATE(\"Hul \",C150 + 9))","v":"Hul 12"}]
[null,{"$f":"IF(C150+10 > 12,CONCATENATE(\"Hul \",C150 + 10 - 12),CONCATENATE(\"Hul \",C150 + 10))","v":"Hul 1"}]
[null,{"$f":"IF(C150+11 > 12,CONCATENATE(\"Hul \",C150 + 11 - 12),CONCATENATE(\"Hul \",C150 + 11))","v":"Hul 2"}]
[null,"I alt"]
[null,{"$f":"Setup!$B$8","v":0}]
[null,"Dommer:"]
[]
[]
[null,{"$f":"CONCATENATE(\"       \",'Puljer runde 2'!$A$18)","v":"       Bane 2"},null,{"$f":"Setup!$B$2","v":"Minitræf i Houlbjerg"},null,null,null,null,null,null,{"$f":"'Puljer runde 2'!$B$3","v":"Runde 2"},{"$f":"CONCATENATE('Puljer runde 2'!$A$15,\".\",'Puljer runde 2'!$M$18)","v":"Rød.3"}]
[null,"Til hul",{"$f":"'Puljer runde 2'!$L$18","v":5},null,null,null,null,null,null,null,{"$f":"Setup!$B$4","v":"29. juli 2015"}]
[null,null,{"$f":"IF('Puljer runde 2'!B$18=\"\",\"\",'Puljer runde 2'!B$18)","v":"Kirsten Nielsen"},null,{"$f":"IF('Puljer runde 2'!D$18=\"\",\"\",'Puljer runde 2'!D$18)","v":"Gerda Fogh"},null,{"$f":"IF('Puljer runde 2'!F$18=\"\",\"\",'Puljer runde 2'!F$18)","v":"Yrsa Sørensen"},null,{"$f":"IF('Puljer runde 2'!H$18=\"\",\"\",'Puljer runde 2'!H$18)","v":"Britta Axelsen"},null,{"$f":"IF('Puljer runde 2'!J$18=\"\",\"\",'Puljer runde 2'!J$18)","v":"Jørgen Bjerre"}]
[null,null,{"$f":"IF('Puljer runde 2'!C$18=\"\",\"\",'Puljer runde 2'!C$18)","v":"Thorsø"},null,{"$f":"IF('Puljer runde 2'!E$18=\"\",\"\",'Puljer runde 2'!E$18)","v":"Hammel"},null,{"$f":"IF('Puljer runde 2'!G$18=\"\",\"\",'Puljer runde 2'!G$18)","v":"Houlbjerg"},null,{"$f":"IF('Puljer runde 2'!I$18=\"\",\"\",'Puljer runde 2'!I$18)","v":"Høst"},null,{"$f":"IF('Puljer runde 2'!K$18=\"\",\"\",'Puljer runde 2'!K$18)","v":"Pindstrup"}]
[null,{"$f":"CONCATENATE(\"Hul \",C171)","v":"Hul 5"}]
[null,{"$f":"IF(C171+1 > 12,CONCATENATE(\"Hul \",C171 + 1 - 12),CONCATENATE(\"Hul \",C171 + 1))","v":"Hul 6"}]
[null,{"$f":"IF(C171+2 > 12,CONCATENATE(\"Hul \",C171 + 2 - 12),CONCATENATE(\"Hul \",C171 + 2))","v":"Hul 7"}]
[null,{"$f":"IF(C171+3 > 12,CONCATENATE(\"Hul \",C171 + 3 - 12),CONCATENATE(\"Hul \",C171 + 3))","v":"Hul 8"}]
[null,{"$f":"IF(C171+4 > 12,CONCATENATE(\"Hul \",C171 + 4 - 12),CONCATENATE(\"Hul \",C171 + 4))","v":"Hul 9"}]
[null,{"$f":"IF(C171+5 > 12,CONCATENATE(\"Hul \",C171 + 5 - 12),CONCATENATE(\"Hul \",C171 + 5))","v":"Hul 10"}]
[null,{"$f":"IF(C171+6 > 12,CONCATENATE(\"Hul \",C171 + 6 - 12),CONCATENATE(\"Hul \",C171 + 6))","v":"Hul 11"}]
[null,{"$f":"IF(C171+7 > 12,CONCATENATE(\"Hul \",C171 + 7 - 12),CONCATENATE(\"Hul \",C171 + 7))","v":"Hul 12"}]
[null,{"$f":"IF(C171+8 > 12,CONCATENATE(\"Hul \",C171 + 8 - 12),CONCATENATE(\"Hul \",C171 + 8))","v":"Hul 1"}]
[null,{"$f":"IF(C171+9 > 12,CONCATENATE(\"Hul \",C171 + 9 - 12),CONCATENATE(\"Hul \",C171 + 9))","v":"Hul 2"}]
[null,{"$f":"IF(C171+10 > 12,CONCATENATE(\"Hul \",C171 + 10 - 12),CONCATENATE(\"Hul \",C171 + 10))","v":"Hul 3"}]
[null,{"$f":"IF(C171+11 > 12,CONCATENATE(\"Hul \",C171 + 11 - 12),CONCATENATE(\"Hul \",C171 + 11))","v":"Hul 4"}]
[null,"I alt"]
[null,{"$f":"Setup!$B$8","v":0}]
[null,"Dommer:"]
[]
[]
[null,{"$f":"CONCATENATE(\"       \",'Puljer runde 2'!$A$19)","v":"       Bane 2"},null,{"$f":"Setup!$B$2","v":"Minitræf i Houlbjerg"},null,null,null,null,null,null,{"$f":"'Puljer runde 2'!$B$3","v":"Runde 2"},{"$f":"CONCATENATE('Puljer runde 2'!$A$15,\".\",'Puljer runde 2'!$M$19)","v":"Rød.4"}]
[null,"Til hul",{"$f":"'Puljer runde 2'!$L$19","v":7},null,null,null,null,null,null,null,{"$f":"Setup!$B$4","v":"29. juli 2015"}]
[null,null,{"$f":"IF('Puljer runde 2'!B$19=\"\",\"\",'Puljer runde 2'!B$19)","v":"Grethe Thomsen"},null,{"$f":"IF('Puljer runde 2'!D$19=\"\",\"\",'Puljer runde 2'!D$19)","v":"Birthe Rosenkvist"},null,{"$f":"IF('Puljer runde 2'!F$19=\"\",\"\",'Puljer runde 2'!F$19)","v":"Nanny Lægdsgaard"},null,{"$f":"IF('Puljer runde 2'!H$19=\"\",\"\",'Puljer runde 2'!H$19)","v":"Lis Lassen"},null,{"$f":"IF('Puljer runde 2'!J$19=\"\",\"\",'Puljer runde 2'!J$19)","v":"Tage Hansen"}]
[null,null,{"$f":"IF('Puljer runde 2'!C$19=\"\",\"\",'Puljer runde 2'!C$19)","v":"Thorsø"},null,{"$f":"IF('Puljer runde 2'!E$19=\"\",\"\",'Puljer runde 2'!E$19)","v":"Hammel"},null,{"$f":"IF('Puljer runde 2'!G$19=\"\",\"\",'Puljer runde 2'!G$19)","v":"Houlbjerg"},null,{"$f":"IF('Puljer runde 2'!I$19=\"\",\"\",'Puljer runde 2'!I$19)","v":"Lystrup"},null,{"$f":"IF('Puljer runde 2'!K$19=\"\",\"\",'Puljer runde 2'!K$19)","v":"Låsby"}]
[null,{"$f":"CONCATENATE(\"Hul \",C192)","v":"Hul 7"}]
[null,{"$f":"IF(C192+1 > 12,CONCATENATE(\"Hul \",C192 + 1 - 12),CONCATENATE(\"Hul \",C192 + 1))","v":"Hul 8"}]
[null,{"$f":"IF(C192+2 > 12,CONCATENATE(\"Hul \",C192 + 2 - 12),CONCATENATE(\"Hul \",C192 + 2))","v":"Hul 9"}]
[null,{"$f":"IF(C192+3 > 12,CONCATENATE(\"Hul \",C192 + 3 - 12),CONCATENATE(\"Hul \",C192 + 3))","v":"Hul 10"}]
[null,{"$f":"IF(C192+4 > 12,CONCATENATE(\"Hul \",C192 + 4 - 12),CONCATENATE(\"Hul \",C192 + 4))","v":"Hul 11"}]
[null,{"$f":"IF(C192+5 > 12,CONCATENATE(\"Hul \",C192 + 5 - 12),CONCATENATE(\"Hul \",C192 + 5))","v":"Hul 12"}]
[null,{"$f":"IF(C192+6 > 12,CONCATENATE(\"Hul \",C192 + 6 - 12),CONCATENATE(\"Hul \",C192 + 6))","v":"Hul 1"}]
[null,{"$f":"IF(C192+7 > 12,CONCATENATE(\"Hul \",C192 + 7 - 12),CONCATENATE(\"Hul \",C192 + 7))","v":"Hul 2"}]
[null,{"$f":"IF(C192+8 > 12,CONCATENATE(\"Hul \",C192 + 8 - 12),CONCATENATE(\"Hul \",C192 + 8))","v":"Hul 3"}]
[null,{"$f":"IF(C192+9 > 12,CONCATENATE(\"Hul \",C192 + 9 - 12),CONCATENATE(\"Hul \",C192 + 9))","v":"Hul 4"}]
[null,{"$f":"IF(C192+10 > 12,CONCATENATE(\"Hul \",C192 + 10 - 12),CONCATENATE(\"Hul \",C192 + 10))","v":"Hul 5"}]
[null,{"$f":"IF(C192+11 > 12,CONCATENATE(\"Hul \",C192 + 11 - 12),CONCATENATE(\"Hul \",C192 + 11))","v":"Hul 6"}]
[null,"I alt"]
[null,{"$f":"Setup!$B$8","v":0}]
[null,"Dommer:"]
[]
[]
[null,{"$f":"CONCATENATE(\"       \",'Puljer runde 2'!$A$20)","v":"       Bane 2"},null,{"$f":"Setup!$B$2","v":"Minitræf i Houlbjerg"},null,null,null,null,null,null,{"$f":"'Puljer runde 2'!$B$3","v":"Runde 2"},{"$f":"CONCATENATE('Puljer runde 2'!$A$15,\".\",'Puljer runde 2'!$M$20)","v":"Rød.5"}]
[null,"Til hul",{"$f":"'Puljer runde 2'!$L$20","v":9},null,null,null,null,null,null,null,{"$f":"Setup!$B$4","v":"29. juli 2015"}]
[null,null,{"$f":"IF('Puljer runde 2'!B$20=\"\",\"\",'Puljer runde 2'!B$20)","v":"Christian Norentoft"},null,{"$f":"IF('Puljer runde 2'!D$20=\"\",\"\",'Puljer runde 2'!D$20)","v":"Max Thomassen"},null,{"$f":"IF('Puljer runde 2'!F$20=\"\",\"\",'Puljer runde 2'!F$20)","v":"Lisbeth Sørensen"},null,{"$f":"IF('Puljer runde 2'!H$20=\"\",\"\",'Puljer runde 2'!H$20)","v":"Else-Marie Schmidt"},null,{"$f":"IF('Puljer runde 2'!J$20=\"\",\"\",'Puljer runde 2'!J$20)","v":"Henning Larsen"}]
[null,null,{"$f":"IF('Puljer runde 2'!C$20=\"\",\"\",'Puljer runde 2'!C$20)","v":"Thorsø"},null,{"$f":"IF('Puljer runde 2'!E$20=\"\",\"\",'Puljer runde 2'!E$20)","v":"Bjerregrav"},null,{"$f":"IF('Puljer runde 2'!G$20=\"\",\"\",'Puljer runde 2'!G$20)","v":"Houlbjerg"},null,{"$f":"IF('Puljer runde 2'!I$20=\"\",\"\",'Puljer runde 2'!I$20)","v":"Lystrup"},null,{"$f":"IF('Puljer runde 2'!K$20=\"\",\"\",'Puljer runde 2'!K$20)","v":"Silkeborg"}]
[null,{"$f":"CONCATENATE(\"Hul \",C213)","v":"Hul 9"}]
[null,{"$f":"IF(C213+1 > 12,CONCATENATE(\"Hul \",C213 + 1 - 12),CONCATENATE(\"Hul \",C213 + 1))","v":"Hul 10"}]
[null,{"$f":"IF(C213+2 > 12,CONCATENATE(\"Hul \",C213 + 2 - 12),CONCATENATE(\"Hul \",C213 + 2))","v":"Hul 11"}]
[null,{"$f":"IF(C213+3 > 12,CONCATENATE(\"Hul \",C213 + 3 - 12),CONCATENATE(\"Hul \",C213 + 3))","v":"Hul 12"}]
[null,{"$f":"IF(C213+4 > 12,CONCATENATE(\"Hul \",C213 + 4 - 12),CONCATENATE(\"Hul \",C213 + 4))","v":"Hul 1"}]
[null,{"$f":"IF(C213+5 > 12,CONCATENATE(\"Hul \",C213 + 5 - 12),CONCATENATE(\"Hul \",C213 + 5))","v":"Hul 2"}]
[null,{"$f":"IF(C213+6 > 12,CONCATENATE(\"Hul \",C213 + 6 - 12),CONCATENATE(\"Hul \",C213 + 6))","v":"Hul 3"}]
[null,{"$f":"IF(C213+7 > 12,CONCATENATE(\"Hul \",C213 + 7 - 12),CONCATENATE(\"Hul \",C213 + 7))","v":"Hul 4"}]
[null,{"$f":"IF(C213+8 > 12,CONCATENATE(\"Hul \",C213 + 8 - 12),CONCATENATE(\"Hul \",C213 + 8))","v":"Hul 5"}]
[null,{"$f":"IF(C213+9 > 12,CONCATENATE(\"Hul \",C213 + 9 - 12),CONCATENATE(\"Hul \",C213 + 9))","v":"Hul 6"}]
[null,{"$f":"IF(C213+10 > 12,CONCATENATE(\"Hul \",C213 + 10 - 12),CONCATENATE(\"Hul \",C213 + 10))","v":"Hul 7"}]
[null,{"$f":"IF(C213+11 > 12,CONCATENATE(\"Hul \",C213 + 11 - 12),CONCATENATE(\"Hul \",C213 + 11))","v":"Hul 8"}]
[null,"I alt"]
[null,{"$f":"Setup!$B$8","v":0}]
[null,"Dommer:"]
[]
[]
[null,{"$f":"CONCATENATE(\"       \",'Puljer runde 2'!$A$21)","v":"       Bane 2"},null,{"$f":"Setup!$B$2","v":"Minitræf i Houlbjerg"},null,null,null,null,null,null,{"$f":"'Puljer runde 2'!$B$3","v":"Runde 2"},{"$f":"CONCATENATE('Puljer runde 2'!$A$15,\".\",'Puljer runde 2'!$M$21)","v":"Rød.6"}]
[null,"Til hul",{"$f":"'Puljer runde 2'!$L$21","v":11},null,null,null,null,null,null,null,{"$f":"Setup!$B$4","v":"29. juli 2015"}]
[null,null,{"$f":"IF('Puljer runde 2'!B$21=\"\",\"\",'Puljer runde 2'!B$21)","v":"Lynge Madsen"},null,{"$f":"IF('Puljer runde 2'!D$21=\"\",\"\",'Puljer runde 2'!D$21)","v":"Maja Pedersen"},null,{"$f":"IF('Puljer runde 2'!F$21=\"\",\"\",'Puljer runde 2'!F$21)","v":"Juul Thomsen"},null,{"$f":"IF('Puljer runde 2'!H$21=\"\",\"\",'Puljer runde 2'!H$21)","v":"Ulla Bjerring"},null,{"$f":"IF('Puljer runde 2'!J$21=\"\",\"\",'Puljer runde 2'!J$21)","v":"Ann Gaardsvig"}]
[null,null,{"$f":"IF('Puljer runde 2'!C$21=\"\",\"\",'Puljer runde 2'!C$21)","v":"Silkeborg"},null,{"$f":"IF('Puljer runde 2'!E$21=\"\",\"\",'Puljer runde 2'!E$21)","v":"Auning"},null,{"$f":"IF('Puljer runde 2'!G$21=\"\",\"\",'Puljer runde 2'!G$21)","v":"Houlbjerg"},null,{"$f":"IF('Puljer runde 2'!I$21=\"\",\"\",'Puljer runde 2'!I$21)","v":"Høst"},null,{"$f":"IF('Puljer runde 2'!K$21=\"\",\"\",'Puljer runde 2'!K$21)","v":"Silkeborg"}]
[null,{"$f":"CONCATENATE(\"Hul \",C234)","v":"Hul 11"}]
[null,{"$f":"IF(C234+1 > 12,CONCATENATE(\"Hul \",C234 + 1 - 12),CONCATENATE(\"Hul \",C234 + 1))","v":"Hul 12"}]
[null,{"$f":"IF(C234+2 > 12,CONCATENATE(\"Hul \",C234 + 2 - 12),CONCATENATE(\"Hul \",C234 + 2))","v":"Hul 1"}]
[null,{"$f":"IF(C234+3 > 12,CONCATENATE(\"Hul \",C234 + 3 - 12),CONCATENATE(\"Hul \",C234 + 3))","v":"Hul 2"}]
[null,{"$f":"IF(C234+4 > 12,CONCATENATE(\"Hul \",C234 + 4 - 12),CONCATENATE(\"Hul \",C234 + 4))","v":"Hul 3"}]
[null,{"$f":"IF(C234+5 > 12,CONCATENATE(\"Hul \",C234 + 5 - 12),CONCATENATE(\"Hul \",C234 + 5))","v":"Hul 4"}]
[null,{"$f":"IF(C234+6 > 12,CONCATENATE(\"Hul \",C234 + 6 - 12),CONCATENATE(\"Hul \",C234 + 6))","v":"Hul 5"}]
[null,{"$f":"IF(C234+7 > 12,CONCATENATE(\"Hul \",C234 + 7 - 12),CONCATENATE(\"Hul \",C234 + 7))","v":"Hul 6"}]
[null,{"$f":"IF(C234+8 > 12,CONCATENATE(\"Hul \",C234 + 8 - 12),CONCATENATE(\"Hul \",C234 + 8))","v":"Hul 7"}]
[null,{"$f":"IF(C234+9 > 12,CONCATENATE(\"Hul \",C234 + 9 - 12),CONCATENATE(\"Hul \",C234 + 9))","v":"Hul 8"}]
[null,{"$f":"IF(C234+10 > 12,CONCATENATE(\"Hul \",C234 + 10 - 12),CONCATENATE(\"Hul \",C234 + 10))","v":"Hul 9"}]
[null,{"$f":"IF(C234+11 > 12,CONCATENATE(\"Hul \",C234 + 11 - 12),CONCATENATE(\"Hul \",C234 + 11))","v":"Hul 10"}]
[null,"I alt"]
[null,{"$f":"Setup!$B$8","v":0}]
[null,"Dommer:"]
[]
[]
[null,{"$f":"CONCATENATE(\"       \",'Puljer runde 2'!$A$26)","v":"       Bane 1"},null,{"$f":"Setup!$B$2","v":"Minitræf i Houlbjerg"},null,null,null,null,null,null,{"$f":"'Puljer runde 2'!$B$3","v":"Runde 2"},{"$f":"CONCATENATE('Puljer runde 2'!$A$25,\".\",'Puljer runde 2'!$M$26)","v":"Grøn.1"}]
[null,"Til hul",{"$f":"'Puljer runde 2'!$L$26","v":1},null,null,null,null,null,null,null,{"$f":"Setup!$B$4","v":"29. juli 2015"}]
[null,null,{"$f":"IF('Puljer runde 2'!B$26=\"\",\"\",'Puljer runde 2'!B$26)","v":"Ulla Ravn"},null,{"$f":"IF('Puljer runde 2'!D$26=\"\",\"\",'Puljer runde 2'!D$26)","v":"Henning Pedersen"},null,{"$f":"IF('Puljer runde 2'!F$26=\"\",\"\",'Puljer runde 2'!F$26)","v":"Jens Henrik Juhl-Larsen"},null,{"$f":"IF('Puljer runde 2'!H$26=\"\",\"\",'Puljer runde 2'!H$26)","v":"Margit Jensen"},null,{"$f":"IF('Puljer runde 2'!J$26=\"\",\"\",'Puljer runde 2'!J$26)","v":"Vagn F. Nielsen"}]
[null,null,{"$f":"IF('Puljer runde 2'!C$26=\"\",\"\",'Puljer runde 2'!C$26)","v":"Ulstrup"},null,{"$f":"IF('Puljer runde 2'!E$26=\"\",\"\",'Puljer runde 2'!E$26)","v":"Auning"},null,{"$f":"IF('Puljer runde 2'!G$26=\"\",\"\",'Puljer runde 2'!G$26)","v":"Houlbjerg"},null,{"$f":"IF('Puljer runde 2'!I$26=\"\",\"\",'Puljer runde 2'!I$26)","v":"Høst"},null,{"$f":"IF('Puljer runde 2'!K$26=\"\",\"\",'Puljer runde 2'!K$26)","v":"Rønde"}]
[null,{"$f":"CONCATENATE(\"Hul \",C255)","v":"Hul 1"}]
[null,{"$f":"IF(C255+1 > 12,CONCATENATE(\"Hul \",C255 + 1 - 12),CONCATENATE(\"Hul \",C255 + 1))","v":"Hul 2"}]
[null,{"$f":"IF(C255+2 > 12,CONCATENATE(\"Hul \",C255 + 2 - 12),CONCATENATE(\"Hul \",C255 + 2))","v":"Hul 3"}]
[null,{"$f":"IF(C255+3 > 12,CONCATENATE(\"Hul \",C255 + 3 - 12),CONCATENATE(\"Hul \",C255 + 3))","v":"Hul 4"}]
[null,{"$f":"IF(C255+4 > 12,CONCATENATE(\"Hul \",C255 + 4 - 12),CONCATENATE(\"Hul \",C255 + 4))","v":"Hul 5"}]
[null,{"$f":"IF(C255+5 > 12,CONCATENATE(\"Hul \",C255 + 5 - 12),CONCATENATE(\"Hul \",C255 + 5))","v":"Hul 6"}]
[null,{"$f":"IF(C255+6 > 12,CONCATENATE(\"Hul \",C255 + 6 - 12),CONCATENATE(\"Hul \",C255 + 6))","v":"Hul 7"}]
[null,{"$f":"IF(C255+7 > 12,CONCATENATE(\"Hul \",C255 + 7 - 12),CONCATENATE(\"Hul \",C255 + 7))","v":"Hul 8"}]
[null,{"$f":"IF(C255+8 > 12,CONCATENATE(\"Hul \",C255 + 8 - 12),CONCATENATE(\"Hul \",C255 + 8))","v":"Hul 9"}]
[null,{"$f":"IF(C255+9 > 12,CONCATENATE(\"Hul \",C255 + 9 - 12),CONCATENATE(\"Hul \",C255 + 9))","v":"Hul 10"}]
[null,{"$f":"IF(C255+10 > 12,CONCATENATE(\"Hul \",C255 + 10 - 12),CONCATENATE(\"Hul \",C255 + 10))","v":"Hul 11"}]
[null,{"$f":"IF(C255+11 > 12,CONCATENATE(\"Hul \",C255 + 11 - 12),CONCATENATE(\"Hul \",C255 + 11))","v":"Hul 12"}]
[null,"I alt"]
[null,{"$f":"Setup!$B$8","v":0}]
[null,"Dommer:"]
[]
[]
[null,{"$f":"CONCATENATE(\"       \",'Puljer runde 2'!$A$27)","v":"       Bane 1"},null,{"$f":"Setup!$B$2","v":"Minitræf i Houlbjerg"},null,null,null,null,null,null,{"$f":"'Puljer runde 2'!$B$3","v":"Runde 2"},{"$f":"CONCATENATE('Puljer runde 2'!$A$25,\".\",'Puljer runde 2'!$M$27)","v":"Grøn.2"}]
[null,"Til hul",{"$f":"'Puljer runde 2'!$L$27","v":3},null,null,null,null,null,null,null,{"$f":"Setup!$B$4","v":"29. juli 2015"}]
[null,null,{"$f":"IF('Puljer runde 2'!B$27=\"\",\"\",'Puljer runde 2'!B$27)","v":"Hans J. Christensen"},null,{"$f":"IF('Puljer runde 2'!D$27=\"\",\"\",'Puljer runde 2'!D$27)","v":"Børge Jensen"},null,{"$f":"IF('Puljer runde 2'!F$27=\"\",\"\",'Puljer runde 2'!F$27)","v":"Erik Lægdsgaard"},null,{"$f":"IF('Puljer runde 2'!H$27=\"\",\"\",'Puljer runde 2'!H$27)","v":"Knud Frederiksen"},null,{"$f":"IF('Puljer runde 2'!J$27=\"\",\"\",'Puljer runde 2'!J$27)","v":"Myrna Rasmussen"}]
[null,null,{"$f":"IF('Puljer runde 2'!C$27=\"\",\"\",'Puljer runde 2'!C$27)","v":"Ulstrup"},null,{"$f":"IF('Puljer runde 2'!E$27=\"\",\"\",'Puljer runde 2'!E$27)","v":"Houlbjerg"},null,{"$f":"IF('Puljer runde 2'!G$27=\"\",\"\",'Puljer runde 2'!G$27)","v":"Houlbjerg"},null,{"$f":"IF('Puljer runde 2'!I$27=\"\",\"\",'Puljer runde 2'!I$27)","v":"Høst"},null,{"$f":"IF('Puljer runde 2'!K$27=\"\",\"\",'Puljer runde 2'!K$27)","v":"Rønde"}]
[null,{"$f":"CONCATENATE(\"Hul \",C276)","v":"Hul 3"}]
[null,{"$f":"IF(C276+1 > 12,CONCATENATE(\"Hul \",C276 + 1 - 12),CONCATENATE(\"Hul \",C276 + 1))","v":"Hul 4"}]
[null,{"$f":"IF(C276+2 > 12,CONCATENATE(\"Hul \",C276 + 2 - 12),CONCATENATE(\"Hul \",C276 + 2))","v":"Hul 5"}]
[null,{"$f":"IF(C276+3 > 12,CONCATENATE(\"Hul \",C276 + 3 - 12),CONCATENATE(\"Hul \",C276 + 3))","v":"Hul 6"}]
[null,{"$f":"IF(C276+4 > 12,CONCATENATE(\"Hul \",C276 + 4 - 12),CONCATENATE(\"Hul \",C276 + 4))","v":"Hul 7"}]
[null,{"$f":"IF(C276+5 > 12,CONCATENATE(\"Hul \",C276 + 5 - 12),CONCATENATE(\"Hul \",C276 + 5))","v":"Hul 8"}]
[null,{"$f":"IF(C276+6 > 12,CONCATENATE(\"Hul \",C276 + 6 - 12),CONCATENATE(\"Hul \",C276 + 6))","v":"Hul 9"}]
[null,{"$f":"IF(C276+7 > 12,CONCATENATE(\"Hul \",C276 + 7 - 12),CONCATENATE(\"Hul \",C276 + 7))","v":"Hul 10"}]
[null,{"$f":"IF(C276+8 > 12,CONCATENATE(\"Hul \",C276 + 8 - 12),CONCATENATE(\"Hul \",C276 + 8))","v":"Hul 11"}]
[null,{"$f":"IF(C276+9 > 12,CONCATENATE(\"Hul \",C276 + 9 - 12),CONCATENATE(\"Hul \",C276 + 9))","v":"Hul 12"}]
[null,{"$f":"IF(C276+10 > 12,CONCATENATE(\"Hul \",C276 + 10 - 12),CONCATENATE(\"Hul \",C276 + 10))","v":"Hul 1"}]
[null,{"$f":"IF(C276+11 > 12,CONCATENATE(\"Hul \",C276 + 11 - 12),CONCATENATE(\"Hul \",C276 + 11))","v":"Hul 2"}]
[null,"I alt"]
[null,{"$f":"Setup!$B$8","v":0}]
[null,"Dommer:"]
[]
[]
[null,{"$f":"CONCATENATE(\"       \",'Puljer runde 2'!$A$28)","v":"       Bane 1"},null,{"$f":"Setup!$B$2","v":"Minitræf i Houlbjerg"},null,null,null,null,null,null,{"$f":"'Puljer runde 2'!$B$3","v":"Runde 2"},{"$f":"CONCATENATE('Puljer runde 2'!$A$25,\".\",'Puljer runde 2'!$M$28)","v":"Grøn.3"}]
[null,"Til hul",{"$f":"'Puljer runde 2'!$L$28","v":5},null,null,null,null,null,null,null,{"$f":"Setup!$B$4","v":"29. juli 2015"}]
[null,null,{"$f":"IF('Puljer runde 2'!B$28=\"\",\"\",'Puljer runde 2'!B$28)","v":"Niels Kofoed"},null,{"$f":"IF('Puljer runde 2'!D$28=\"\",\"\",'Puljer runde 2'!D$28)","v":"Jonna Kjeldsen"},null,{"$f":"IF('Puljer runde 2'!F$28=\"\",\"\",'Puljer runde 2'!F$28)","v":"Alice Madsen"},null,{"$f":"IF('Puljer runde 2'!H$28=\"\",\"\",'Puljer runde 2'!H$28)","v":"Erik Pedersen"},null,{"$f":"IF('Puljer runde 2'!J$28=\"\",\"\",'Puljer runde 2'!J$28)","v":"Jørgen Petersen"}]
[null,null,{"$f":"IF('Puljer runde 2'!C$28=\"\",\"\",'Puljer runde 2'!C$28)","v":"Tranbjerg"},null,{"$f":"IF('Puljer runde 2'!E$28=\"\",\"\",'Puljer runde 2'!E$28)","v":"Hammel"},null,{"$f":"IF('Puljer runde 2'!G$28=\"\",\"\",'Puljer runde 2'!G$28)","v":"Høst"},null,{"$f":"IF('Puljer runde 2'!I$28=\"\",\"\",'Puljer runde 2'!I$28)","v":"Høst"},null,{"$f":"IF('Puljer runde 2'!K$28=\"\",\"\",'Puljer runde 2'!K$28)","v":"Rønde"}]
[null,{"$f":"CONCATENATE(\"Hul \",C297)","v":"Hul 5"}]
[null,{"$f":"IF(C297+1 > 12,CONCATENATE(\"Hul \",C297 + 1 - 12),CONCATENATE(\"Hul \",C297 + 1))","v":"Hul 6"}]
[null,{"$f":"IF(C297+2 > 12,CONCATENATE(\"Hul \",C297 + 2 - 12),CONCATENATE(\"Hul \",C297 + 2))","v":"Hul 7"}]
[null,{"$f":"IF(C297+3 > 12,CONCATENATE(\"Hul \",C297 + 3 - 12),CONCATENATE(\"Hul \",C297 + 3))","v":"Hul 8"}]
[null,{"$f":"IF(C297+4 > 12,CONCATENATE(\"Hul \",C297 + 4 - 12),CONCATENATE(\"Hul \",C297 + 4))","v":"Hul 9"}]
[null,{"$f":"IF(C297+5 > 12,CONCATENATE(\"Hul \",C297 + 5 - 12),CONCATENATE(\"Hul \",C297 + 5))","v":"Hul 10"}]
[null,{"$f":"IF(C297+6 > 12,CONCATENATE(\"Hul \",C297 + 6 - 12),CONCATENATE(\"Hul \",C297 + 6))","v":"Hul 11"}]
[null,{"$f":"IF(C297+7 > 12,CONCATENATE(\"Hul \",C297 + 7 - 12),CONCATENATE(\"Hul \",C297 + 7))","v":"Hul 12"}]
[null,{"$f":"IF(C297+8 > 12,CONCATENATE(\"Hul \",C297 + 8 - 12),CONCATENATE(\"Hul \",C297 + 8))","v":"Hul 1"}]
[null,{"$f":"IF(C297+9 > 12,CONCATENATE(\"Hul \",C297 + 9 - 12),CONCATENATE(\"Hul \",C297 + 9))","v":"Hul 2"}]
[null,{"$f":"IF(C297+10 > 12,CONCATENATE(\"Hul \",C297 + 10 - 12),CONCATENATE(\"Hul \",C297 + 10))","v":"Hul 3"}]
[null,{"$f":"IF(C297+11 > 12,CONCATENATE(\"Hul \",C297 + 11 - 12),CONCATENATE(\"Hul \",C297 + 11))","v":"Hul 4"}]
[null,"I alt"]
[null,{"$f":"Setup!$B$8","v":0}]
[null,"Dommer:"]
[]
[]
[null,{"$f":"CONCATENATE(\"       \",'Puljer runde 2'!$A$29)","v":"       Bane 1"},null,{"$f":"Setup!$B$2","v":"Minitræf i Houlbjerg"},null,null,null,null,null,null,{"$f":"'Puljer runde 2'!$B$3","v":"Runde 2"},{"$f":"CONCATENATE('Puljer runde 2'!$A$25,\".\",'Puljer runde 2'!$M$29)","v":"Grøn.4"}]
[null,"Til hul",{"$f":"'Puljer runde 2'!$L$29","v":7},null,null,null,null,null,null,null,{"$f":"Setup!$B$4","v":"29. juli 2015"}]
[null,null,{"$f":"IF('Puljer runde 2'!B$29=\"\",\"\",'Puljer runde 2'!B$29)","v":"Grethe Thøgersen"},null,{"$f":"IF('Puljer runde 2'!D$29=\"\",\"\",'Puljer runde 2'!D$29)","v":"Erik Rosenkvist"},null,{"$f":"IF('Puljer runde 2'!F$29=\"\",\"\",'Puljer runde 2'!F$29)","v":"Poul Henriksen"},null,{"$f":"IF('Puljer runde 2'!H$29=\"\",\"\",'Puljer runde 2'!H$29)","v":"Alma Eriksen"},null,{"$f":"IF('Puljer runde 2'!J$29=\"\",\"\",'Puljer runde 2'!J$29)","v":"Hanne Bjerre"}]
[null,null,{"$f":"IF('Puljer runde 2'!C$29=\"\",\"\",'Puljer runde 2'!C$29)","v":"Thorsø"},null,{"$f":"IF('Puljer runde 2'!E$29=\"\",\"\",'Puljer runde 2'!E$29)","v":"Hammel"},null,{"$f":"IF('Puljer runde 2'!G$29=\"\",\"\",'Puljer runde 2'!G$29)","v":"Houlbjerg"},null,{"$f":"IF('Puljer runde 2'!I$29=\"\",\"\",'Puljer runde 2'!I$29)","v":"Låsby"},null,{"$f":"IF('Puljer runde 2'!K$29=\"\",\"\",'Puljer runde 2'!K$29)","v":"Pindstrup"}]
[null,{"$f":"CONCATENATE(\"Hul \",C318)","v":"Hul 7"}]
[null,{"$f":"IF(C318+1 > 12,CONCATENATE(\"Hul \",C318 + 1 - 12),CONCATENATE(\"Hul \",C318 + 1))","v":"Hul 8"}]
[null,{"$f":"IF(C318+2 > 12,CONCATENATE(\"Hul \",C318 + 2 - 12),CONCATENATE(\"Hul \",C318 + 2))","v":"Hul 9"}]
[null,{"$f":"IF(C318+3 > 12,CONCATENATE(\"Hul \",C318 + 3 - 12),CONCATENATE(\"Hul \",C318 + 3))","v":"Hul 10"}]
[null,{"$f":"IF(C318+4 > 12,CONCATENATE(\"Hul \",C318 + 4 - 12),CONCATENATE(\"Hul \",C318 + 4))","v":"Hul 11"}]
[null,{"$f":"IF(C318+5 > 12,CONCATENATE(\"Hul \",C318 + 5 - 12),CONCATENATE(\"Hul \",C318 + 5))","v":"Hul 12"}]
[null,{"$f":"IF(C318+6 > 12,CONCATENATE(\"Hul \",C318 + 6 - 12),CONCATENATE(\"Hul \",C318 + 6))","v":"Hul 1"}]
[null,{"$f":"IF(C318+7 > 12,CONCATENATE(\"Hul \",C318 + 7 - 12),CONCATENATE(\"Hul \",C318 + 7))","v":"Hul 2"}]
[null,{"$f":"IF(C318+8 > 12,CONCATENATE(\"Hul \",C318 + 8 - 12),CONCATENATE(\"Hul \",C318 + 8))","v":"Hul 3"}]
[null,{"$f":"IF(C318+9 > 12,CONCATENATE(\"Hul \",C318 + 9 - 12),CONCATENATE(\"Hul \",C318 + 9))","v":"Hul 4"}]
[null,{"$f":"IF(C318+10 > 12,CONCATENATE(\"Hul \",C318 + 10 - 12),CONCATENATE(\"Hul \",C318 + 10))","v":"Hul 5"}]
[null,{"$f":"IF(C318+11 > 12,CONCATENATE(\"Hul \",C318 + 11 - 12),CONCATENATE(\"Hul \",C318 + 11))","v":"Hul 6"}]
[null,"I alt"]
[null,{"$f":"Setup!$B$8","v":0}]
[null,"Dommer:"]
[]
[]
[null,{"$f":"CONCATENATE(\"       \",'Puljer runde 2'!$A$30)","v":"       Bane 1"},null,{"$f":"Setup!$B$2","v":"Minitræf i Houlbjerg"},null,null,null,null,null,null,{"$f":"'Puljer runde 2'!$B$3","v":"Runde 2"},{"$f":"CONCATENATE('Puljer runde 2'!$A$25,\".\",'Puljer runde 2'!$M$30)","v":"Grøn.5"}]
[null,"Til hul",{"$f":"'Puljer runde 2'!$L$30","v":9},null,null,null,null,null,null,null,{"$f":"Setup!$B$4","v":"29. juli 2015"}]
[null,null,{"$f":"IF('Puljer runde 2'!B$30=\"\",\"\",'Puljer runde 2'!B$30)","v":"Erik Thomsen"},null,{"$f":"IF('Puljer runde 2'!D$30=\"\",\"\",'Puljer runde 2'!D$30)","v":"Birgit Svoldgaard"},null,{"$f":"IF('Puljer runde 2'!F$30=\"\",\"\",'Puljer runde 2'!F$30)","v":"Lissi Thomsen"},null,{"$f":"IF('Puljer runde 2'!H$30=\"\",\"\",'Puljer runde 2'!H$30)","v":"Jens Tvi Holmsgaard"},null,{"$f":"IF('Puljer runde 2'!J$30=\"\",\"\",'Puljer runde 2'!J$30)","v":"Lilly Hansen"}]
[null,null,{"$f":"IF('Puljer runde 2'!C$30=\"\",\"\",'Puljer runde 2'!C$30)","v":"Thorsø"},null,{"$f":"IF('Puljer runde 2'!E$30=\"\",\"\",'Puljer runde 2'!E$30)","v":"Hammel"},null,{"$f":"IF('Puljer runde 2'!G$30=\"\",\"\",'Puljer runde 2'!G$30)","v":"Houlbjerg"},null,{"$f":"IF('Puljer runde 2'!I$30=\"\",\"\",'Puljer runde 2'!I$30)","v":"Lystrup"},null,{"$f":"IF('Puljer runde 2'!K$30=\"\",\"\",'Puljer runde 2'!K$30)","v":"Silkeborg"}]
[null,{"$f":"CONCATENATE(\"Hul \",C339)","v":"Hul 9"}]
[null,{"$f":"IF(C339+1 > 12,CONCATENATE(\"Hul \",C339 + 1 - 12),CONCATENATE(\"Hul \",C339 + 1))","v":"Hul 10"}]
[null,{"$f":"IF(C339+2 > 12,CONCATENATE(\"Hul \",C339 + 2 - 12),CONCATENATE(\"Hul \",C339 + 2))","v":"Hul 11"}]
[null,{"$f":"IF(C339+3 > 12,CONCATENATE(\"Hul \",C339 + 3 - 12),CONCATENATE(\"Hul \",C339 + 3))","v":"Hul 12"}]
[null,{"$f":"IF(C339+4 > 12,CONCATENATE(\"Hul \",C339 + 4 - 12),CONCATENATE(\"Hul \",C339 + 4))","v":"Hul 1"}]
[null,{"$f":"IF(C339+5 > 12,CONCATENATE(\"Hul \",C339 + 5 - 12),CONCATENATE(\"Hul \",C339 + 5))","v":"Hul 2"}]
[null,{"$f":"IF(C339+6 > 12,CONCATENATE(\"Hul \",C339 + 6 - 12),CONCATENATE(\"Hul \",C339 + 6))","v":"Hul 3"}]
[null,{"$f":"IF(C339+7 > 12,CONCATENATE(\"Hul \",C339 + 7 - 12),CONCATENATE(\"Hul \",C339 + 7))","v":"Hul 4"}]
[null,{"$f":"IF(C339+8 > 12,CONCATENATE(\"Hul \",C339 + 8 - 12),CONCATENATE(\"Hul \",C339 + 8))","v":"Hul 5"}]
[null,{"$f":"IF(C339+9 > 12,CONCATENATE(\"Hul \",C339 + 9 - 12),CONCATENATE(\"Hul \",C339 + 9))","v":"Hul 6"}]
[null,{"$f":"IF(C339+10 > 12,CONCATENATE(\"Hul \",C339 + 10 - 12),CONCATENATE(\"Hul \",C339 + 10))","v":"Hul 7"}]
[null,{"$f":"IF(C339+11 > 12,CONCATENATE(\"Hul \",C339 + 11 - 12),CONCATENATE(\"Hul \",C339 + 11))","v":"Hul 8"}]
[null,"I alt"]
[null,{"$f":"Setup!$B$8","v":0}]
[null,"Dommer:"]
[]
[]
[null,{"$f":"CONCATENATE(\"       \",'Puljer runde 2'!$A$31)","v":"       Bane 1"},null,{"$f":"Setup!$B$2","v":"Minitræf i Houlbjerg"},null,null,null,null,null,null,{"$f":"'Puljer runde 2'!$B$3","v":"Runde 2"},{"$f":"CONCATENATE('Puljer runde 2'!$A$25,\".\",'Puljer runde 2'!$M$31)","v":"Grøn.6"}]
[null,"Til hul",{"$f":"'Puljer runde 2'!$L$31","v":11},null,null,null,null,null,null,null,{"$f":"Setup!$B$4","v":"29. juli 2015"}]
[null,null,{"$f":"IF('Puljer runde 2'!B$31=\"\",\"\",'Puljer runde 2'!B$31)","v":"Bent Nielsen"},null,{"$f":"IF('Puljer runde 2'!D$31=\"\",\"\",'Puljer runde 2'!D$31)","v":"Bente Thomassen"},null,{"$f":"IF('Puljer runde 2'!F$31=\"\",\"\",'Puljer runde 2'!F$31)","v":"Kurt Thomsen"},null,{"$f":"IF('Puljer runde 2'!H$31=\"\",\"\",'Puljer runde 2'!H$31)","v":"Christen Jespersen"},null,{"$f":"IF('Puljer runde 2'!J$31=\"\",\"\",'Puljer runde 2'!J$31)","v":"Hanne Else Knudsen"}]
[null,null,{"$f":"IF('Puljer runde 2'!C$31=\"\",\"\",'Puljer runde 2'!C$31)","v":"Thorsø"},null,{"$f":"IF('Puljer runde 2'!E$31=\"\",\"\",'Puljer runde 2'!E$31)","v":"Bjerregrav"},null,{"$f":"IF('Puljer runde 2'!G$31=\"\",\"\",'Puljer runde 2'!G$31)","v":"Houlbjerg"},null,{"$f":"IF('Puljer runde 2'!I$31=\"\",\"\",'Puljer runde 2'!I$31)","v":"Lystrup"},null,{"$f":"IF('Puljer runde 2'!K$31=\"\",\"\",'Puljer runde 2'!K$31)","v":"Silkeborg"}]
[null,{"$f":"CONCATENATE(\"Hul \",C360)","v":"Hul 11"}]
[null,{"$f":"IF(C360+1 > 12,CONCATENATE(\"Hul \",C360 + 1 - 12),CONCATENATE(\"Hul \",C360 + 1))","v":"Hul 12"}]
[null,{"$f":"IF(C360+2 > 12,CONCATENATE(\"Hul \",C360 + 2 - 12),CONCATENATE(\"Hul \",C360 + 2))","v":"Hul 1"}]
[null,{"$f":"IF(C360+3 > 12,CONCATENATE(\"Hul \",C360 + 3 - 12),CONCATENATE(\"Hul \",C360 + 3))","v":"Hul 2"}]
[null,{"$f":"IF(C360+4 > 12,CONCATENATE(\"Hul \",C360 + 4 - 12),CONCATENATE(\"Hul \",C360 + 4))","v":"Hul 3"}]
[null,{"$f":"IF(C360+5 > 12,CONCATENATE(\"Hul \",C360 + 5 - 12),CONCATENATE(\"Hul \",C360 + 5))","v":"Hul 4"}]
[null,{"$f":"IF(C360+6 > 12,CONCATENATE(\"Hul \",C360 + 6 - 12),CONCATENATE(\"Hul \",C360 + 6))","v":"Hul 5"}]
[null,{"$f":"IF(C360+7 > 12,CONCATENATE(\"Hul \",C360 + 7 - 12),CONCATENATE(\"Hul \",C360 + 7))","v":"Hul 6"}]
[null,{"$f":"IF(C360+8 > 12,CONCATENATE(\"Hul \",C360 + 8 - 12),CONCATENATE(\"Hul \",C360 + 8))","v":"Hul 7"}]
[null,{"$f":"IF(C360+9 > 12,CONCATENATE(\"Hul \",C360 + 9 - 12),CONCATENATE(\"Hul \",C360 + 9))","v":"Hul 8"}]
[null,{"$f":"IF(C360+10 > 12,CONCATENATE(\"Hul \",C360 + 10 - 12),CONCATENATE(\"Hul \",C360 + 10))","v":"Hul 9"}]
[null,{"$f":"IF(C360+11 > 12,CONCATENATE(\"Hul \",C360 + 11 - 12),CONCATENATE(\"Hul \",C360 + 11))","v":"Hul 10"}]
[null,"I alt"]
[null,{"$f":"Setup!$B$8","v":0}]
[null,"Dommer:"]
[]
[]
[null,{"$f":"CONCATENATE(\"       \",'Puljer runde 2'!$A$36)","v":"       "},null,{"$f":"Setup!$B$2","v":"Minitræf i Houlbjerg"},null,null,null,null,null,null,{"$f":"'Puljer runde 2'!$B$3","v":"Runde 2"},{"$f":"CONCATENATE('Puljer runde 2'!$A$35,\".\",'Puljer runde 2'!$M$36)","v":"x.1"}]
[null,"Til hul",{"$f":"'Puljer runde 2'!$L$36","v":0},null,null,null,null,null,null,null,{"$f":"Setup!$B$4","v":"29. juli 2015"}]
[null,null,{"$f":"IF('Puljer runde 2'!B$36=\"\",\"\",'Puljer runde 2'!B$36)","v":""},null,{"$f":"IF('Puljer runde 2'!D$36=\"\",\"\",'Puljer runde 2'!D$36)","v":""},null,{"$f":"IF('Puljer runde 2'!F$36=\"\",\"\",'Puljer runde 2'!F$36)","v":""},null,{"$f":"IF('Puljer runde 2'!H$36=\"\",\"\",'Puljer runde 2'!H$36)","v":""},null,{"$f":"IF('Puljer runde 2'!J$36=\"\",\"\",'Puljer runde 2'!J$36)","v":""}]
[null,null,{"$f":"IF('Puljer runde 2'!C$36=\"\",\"\",'Puljer runde 2'!C$36)","v":""},null,{"$f":"IF('Puljer runde 2'!E$36=\"\",\"\",'Puljer runde 2'!E$36)","v":""},null,{"$f":"IF('Puljer runde 2'!G$36=\"\",\"\",'Puljer runde 2'!G$36)","v":""},null,{"$f":"IF('Puljer runde 2'!I$36=\"\",\"\",'Puljer runde 2'!I$36)","v":""},null,{"$f":"IF('Puljer runde 2'!K$36=\"\",\"\",'Puljer runde 2'!K$36)","v":""}]
[null,{"$f":"CONCATENATE(\"Hul \",C381)","v":"Hul 0"}]
[null,{"$f":"IF(C381+1 > 12,CONCATENATE(\"Hul \",C381 + 1 - 12),CONCATENATE(\"Hul \",C381 + 1))","v":"Hul 1"}]
[null,{"$f":"IF(C381+2 > 12,CONCATENATE(\"Hul \",C381 + 2 - 12),CONCATENATE(\"Hul \",C381 + 2))","v":"Hul 2"}]
[null,{"$f":"IF(C381+3 > 12,CONCATENATE(\"Hul \",C381 + 3 - 12),CONCATENATE(\"Hul \",C381 + 3))","v":"Hul 3"}]
[null,{"$f":"IF(C381+4 > 12,CONCATENATE(\"Hul \",C381 + 4 - 12),CONCATENATE(\"Hul \",C381 + 4))","v":"Hul 4"}]
[null,{"$f":"IF(C381+5 > 12,CONCATENATE(\"Hul \",C381 + 5 - 12),CONCATENATE(\"Hul \",C381 + 5))","v":"Hul 5"}]
[null,{"$f":"IF(C381+6 > 12,CONCATENATE(\"Hul \",C381 + 6 - 12),CONCATENATE(\"Hul \",C381 + 6))","v":"Hul 6"}]
[null,{"$f":"IF(C381+7 > 12,CONCATENATE(\"Hul \",C381 + 7 - 12),CONCATENATE(\"Hul \",C381 + 7))","v":"Hul 7"}]
[null,{"$f":"IF(C381+8 > 12,CONCATENATE(\"Hul \",C381 + 8 - 12),CONCATENATE(\"Hul \",C381 + 8))","v":"Hul 8"}]
[null,{"$f":"IF(C381+9 > 12,CONCATENATE(\"Hul \",C381 + 9 - 12),CONCATENATE(\"Hul \",C381 + 9))","v":"Hul 9"}]
[null,{"$f":"IF(C381+10 > 12,CONCATENATE(\"Hul \",C381 + 10 - 12),CONCATENATE(\"Hul \",C381 + 10))","v":"Hul 10"}]
[null,{"$f":"IF(C381+11 > 12,CONCATENATE(\"Hul \",C381 + 11 - 12),CONCATENATE(\"Hul \",C381 + 11))","v":"Hul 11"}]
[null,"I alt"]
[null,{"$f":"Setup!$B$8","v":0}]
[null,"Dommer:"]
[]
[]
[null,{"$f":"CONCATENATE(\"       \",'Puljer runde 2'!$A$37)","v":"       "},null,{"$f":"Setup!$B$2","v":"Minitræf i Houlbjerg"},null,null,null,null,null,null,{"$f":"'Puljer runde 2'!$B$3","v":"Runde 2"},{"$f":"CONCATENATE('Puljer runde 2'!$A$35,\".\",'Puljer runde 2'!$M$37)","v":"x.2"}]
[null,"Til hul",{"$f":"'Puljer runde 2'!$L$37","v":0},null,null,null,null,null,null,null,{"$f":"Setup!$B$4","v":"29. juli 2015"}]
[null,null,{"$f":"IF('Puljer runde 2'!B$37=\"\",\"\",'Puljer runde 2'!B$37)","v":""},null,{"$f":"IF('Puljer runde 2'!D$37=\"\",\"\",'Puljer runde 2'!D$37)","v":""},null,{"$f":"IF('Puljer runde 2'!F$37=\"\",\"\",'Puljer runde 2'!F$37)","v":""},null,{"$f":"IF('Puljer runde 2'!H$37=\"\",\"\",'Puljer runde 2'!H$37)","v":""},null,{"$f":"IF('Puljer runde 2'!J$37=\"\",\"\",'Puljer runde 2'!J$37)","v":""}]
[null,null,{"$f":"IF('Puljer runde 2'!C$37=\"\",\"\",'Puljer runde 2'!C$37)","v":""},null,{"$f":"IF('Puljer runde 2'!E$37=\"\",\"\",'Puljer runde 2'!E$37)","v":""},null,{"$f":"IF('Puljer runde 2'!G$37=\"\",\"\",'Puljer runde 2'!G$37)","v":""},null,{"$f":"IF('Puljer runde 2'!I$37=\"\",\"\",'Puljer runde 2'!I$37)","v":""},null,{"$f":"IF('Puljer runde 2'!K$37=\"\",\"\",'Puljer runde 2'!K$37)","v":""}]
[null,{"$f":"CONCATENATE(\"Hul \",C402)","v":"Hul 0"}]
[null,{"$f":"IF(C402+1 > 12,CONCATENATE(\"Hul \",C402 + 1 - 12),CONCATENATE(\"Hul \",C402 + 1))","v":"Hul 1"}]
[null,{"$f":"IF(C402+2 > 12,CONCATENATE(\"Hul \",C402 + 2 - 12),CONCATENATE(\"Hul \",C402 + 2))","v":"Hul 2"}]
[null,{"$f":"IF(C402+3 > 12,CONCATENATE(\"Hul \",C402 + 3 - 12),CONCATENATE(\"Hul \",C402 + 3))","v":"Hul 3"}]
[null,{"$f":"IF(C402+4 > 12,CONCATENATE(\"Hul \",C402 + 4 - 12),CONCATENATE(\"Hul \",C402 + 4))","v":"Hul 4"}]
[null,{"$f":"IF(C402+5 > 12,CONCATENATE(\"Hul \",C402 + 5 - 12),CONCATENATE(\"Hul \",C402 + 5))","v":"Hul 5"}]
[null,{"$f":"IF(C402+6 > 12,CONCATENATE(\"Hul \",C402 + 6 - 12),CONCATENATE(\"Hul \",C402 + 6))","v":"Hul 6"}]
[null,{"$f":"IF(C402+7 > 12,CONCATENATE(\"Hul \",C402 + 7 - 12),CONCATENATE(\"Hul \",C402 + 7))","v":"Hul 7"}]
[null,{"$f":"IF(C402+8 > 12,CONCATENATE(\"Hul \",C402 + 8 - 12),CONCATENATE(\"Hul \",C402 + 8))","v":"Hul 8"}]
[null,{"$f":"IF(C402+9 > 12,CONCATENATE(\"Hul \",C402 + 9 - 12),CONCATENATE(\"Hul \",C402 + 9))","v":"Hul 9"}]
[null,{"$f":"IF(C402+10 > 12,CONCATENATE(\"Hul \",C402 + 10 - 12),CONCATENATE(\"Hul \",C402 + 10))","v":"Hul 10"}]
[null,{"$f":"IF(C402+11 > 12,CONCATENATE(\"Hul \",C402 + 11 - 12),CONCATENATE(\"Hul \",C402 + 11))","v":"Hul 11"}]
[null,"I alt"]
[null,{"$f":"Setup!$B$8","v":0}]
[null,"Dommer:"]
[]
[]
[null,{"$f":"CONCATENATE(\"       \",'Puljer runde 2'!$A$38)","v":"       "},null,{"$f":"Setup!$B$2","v":"Minitræf i Houlbjerg"},null,null,null,null,null,null,{"$f":"'Puljer runde 2'!$B$3","v":"Runde 2"},{"$f":"CONCATENATE('Puljer runde 2'!$A$35,\".\",'Puljer runde 2'!$M$38)","v":"x.3"}]
[null,"Til hul",{"$f":"'Puljer runde 2'!$L$38","v":0},null,null,null,null,null,null,null,{"$f":"Setup!$B$4","v":"29. juli 2015"}]
[null,null,{"$f":"IF('Puljer runde 2'!B$38=\"\",\"\",'Puljer runde 2'!B$38)","v":""},null,{"$f":"IF('Puljer runde 2'!D$38=\"\",\"\",'Puljer runde 2'!D$38)","v":""},null,{"$f":"IF('Puljer runde 2'!F$38=\"\",\"\",'Puljer runde 2'!F$38)","v":""},null,{"$f":"IF('Puljer runde 2'!H$38=\"\",\"\",'Puljer runde 2'!H$38)","v":""},null,{"$f":"IF('Puljer runde 2'!J$38=\"\",\"\",'Puljer runde 2'!J$38)","v":""}]
[null,null,{"$f":"IF('Puljer runde 2'!C$38=\"\",\"\",'Puljer runde 2'!C$38)","v":""},null,{"$f":"IF('Puljer runde 2'!E$38=\"\",\"\",'Puljer runde 2'!E$38)","v":""},null,{"$f":"IF('Puljer runde 2'!G$38=\"\",\"\",'Puljer runde 2'!G$38)","v":""},null,{"$f":"IF('Puljer runde 2'!I$38=\"\",\"\",'Puljer runde 2'!I$38)","v":""},null,{"$f":"IF('Puljer runde 2'!K$38=\"\",\"\",'Puljer runde 2'!K$38)","v":""}]
[null,{"$f":"CONCATENATE(\"Hul \",C423)","v":"Hul 0"}]
[null,{"$f":"IF(C423+1 > 12,CONCATENATE(\"Hul \",C423 + 1 - 12),CONCATENATE(\"Hul \",C423 + 1))","v":"Hul 1"}]
[null,{"$f":"IF(C423+2 > 12,CONCATENATE(\"Hul \",C423 + 2 - 12),CONCATENATE(\"Hul \",C423 + 2))","v":"Hul 2"}]
[null,{"$f":"IF(C423+3 > 12,CONCATENATE(\"Hul \",C423 + 3 - 12),CONCATENATE(\"Hul \",C423 + 3))","v":"Hul 3"}]
[null,{"$f":"IF(C423+4 > 12,CONCATENATE(\"Hul \",C423 + 4 - 12),CONCATENATE(\"Hul \",C423 + 4))","v":"Hul 4"}]
[null,{"$f":"IF(C423+5 > 12,CONCATENATE(\"Hul \",C423 + 5 - 12),CONCATENATE(\"Hul \",C423 + 5))","v":"Hul 5"}]
[null,{"$f":"IF(C423+6 > 12,CONCATENATE(\"Hul \",C423 + 6 - 12),CONCATENATE(\"Hul \",C423 + 6))","v":"Hul 6"}]
[null,{"$f":"IF(C423+7 > 12,CONCATENATE(\"Hul \",C423 + 7 - 12),CONCATENATE(\"Hul \",C423 + 7))","v":"Hul 7"}]
[null,{"$f":"IF(C423+8 > 12,CONCATENATE(\"Hul \",C423 + 8 - 12),CONCATENATE(\"Hul \",C423 + 8))","v":"Hul 8"}]
[null,{"$f":"IF(C423+9 > 12,CONCATENATE(\"Hul \",C423 + 9 - 12),CONCATENATE(\"Hul \",C423 + 9))","v":"Hul 9"}]
[null,{"$f":"IF(C423+10 > 12,CONCATENATE(\"Hul \",C423 + 10 - 12),CONCATENATE(\"Hul \",C423 + 10))","v":"Hul 10"}]
[null,{"$f":"IF(C423+11 > 12,CONCATENATE(\"Hul \",C423 + 11 - 12),CONCATENATE(\"Hul \",C423 + 11))","v":"Hul 11"}]
[null,"I alt"]
[null,{"$f":"Setup!$B$8","v":0}]
[null,"Dommer:"]
[]
[]
[null,{"$f":"CONCATENATE(\"       \",'Puljer runde 2'!$A$39)","v":"       "},null,{"$f":"Setup!$B$2","v":"Minitræf i Houlbjerg"},null,null,null,null,null,null,{"$f":"'Puljer runde 2'!$B$3","v":"Runde 2"},{"$f":"CONCATENATE('Puljer runde 2'!$A$35,\".\",'Puljer runde 2'!$M$39)","v":"x.4"}]
[null,"Til hul",{"$f":"'Puljer runde 2'!$L$39","v":0},null,null,null,null,null,null,null,{"$f":"Setup!$B$4","v":"29. juli 2015"}]
[null,null,{"$f":"IF('Puljer runde 2'!B$39=\"\",\"\",'Puljer runde 2'!B$39)","v":""},null,{"$f":"IF('Puljer runde 2'!D$39=\"\",\"\",'Puljer runde 2'!D$39)","v":""},null,{"$f":"IF('Puljer runde 2'!F$39=\"\",\"\",'Puljer runde 2'!F$39)","v":""},null,{"$f":"IF('Puljer runde 2'!H$39=\"\",\"\",'Puljer runde 2'!H$39)","v":""},null,{"$f":"IF('Puljer runde 2'!J$39=\"\",\"\",'Puljer runde 2'!J$39)","v":""}]
[null,null,{"$f":"IF('Puljer runde 2'!C$39=\"\",\"\",'Puljer runde 2'!C$39)","v":""},null,{"$f":"IF('Puljer runde 2'!E$39=\"\",\"\",'Puljer runde 2'!E$39)","v":""},null,{"$f":"IF('Puljer runde 2'!G$39=\"\",\"\",'Puljer runde 2'!G$39)","v":""},null,{"$f":"IF('Puljer runde 2'!I$39=\"\",\"\",'Puljer runde 2'!I$39)","v":""},null,{"$f":"IF('Puljer runde 2'!K$39=\"\",\"\",'Puljer runde 2'!K$39)","v":""}]
[null,{"$f":"CONCATENATE(\"Hul \",C444)","v":"Hul 0"}]
[null,{"$f":"IF(C444+1 > 12,CONCATENATE(\"Hul \",C444 + 1 - 12),CONCATENATE(\"Hul \",C444 + 1))","v":"Hul 1"}]
[null,{"$f":"IF(C444+2 > 12,CONCATENATE(\"Hul \",C444 + 2 - 12),CONCATENATE(\"Hul \",C444 + 2))","v":"Hul 2"}]
[null,{"$f":"IF(C444+3 > 12,CONCATENATE(\"Hul \",C444 + 3 - 12),CONCATENATE(\"Hul \",C444 + 3))","v":"Hul 3"}]
[null,{"$f":"IF(C444+4 > 12,CONCATENATE(\"Hul \",C444 + 4 - 12),CONCATENATE(\"Hul \",C444 + 4))","v":"Hul 4"}]
[null,{"$f":"IF(C444+5 > 12,CONCATENATE(\"Hul \",C444 + 5 - 12),CONCATENATE(\"Hul \",C444 + 5))","v":"Hul 5"}]
[null,{"$f":"IF(C444+6 > 12,CONCATENATE(\"Hul \",C444 + 6 - 12),CONCATENATE(\"Hul \",C444 + 6))","v":"Hul 6"}]
[null,{"$f":"IF(C444+7 > 12,CONCATENATE(\"Hul \",C444 + 7 - 12),CONCATENATE(\"Hul \",C444 + 7))","v":"Hul 7"}]
[null,{"$f":"IF(C444+8 > 12,CONCATENATE(\"Hul \",C444 + 8 - 12),CONCATENATE(\"Hul \",C444 + 8))","v":"Hul 8"}]
[null,{"$f":"IF(C444+9 > 12,CONCATENATE(\"Hul \",C444 + 9 - 12),CONCATENATE(\"Hul \",C444 + 9))","v":"Hul 9"}]
[null,{"$f":"IF(C444+10 > 12,CONCATENATE(\"Hul \",C444 + 10 - 12),CONCATENATE(\"Hul \",C444 + 10))","v":"Hul 10"}]
[null,{"$f":"IF(C444+11 > 12,CONCATENATE(\"Hul \",C444 + 11 - 12),CONCATENATE(\"Hul \",C444 + 11))","v":"Hul 11"}]
[null,"I alt"]
[null,{"$f":"Setup!$B$8","v":0}]
[null,"Dommer:"]
[]
[]
[null,{"$f":"CONCATENATE(\"       \",'Puljer runde 2'!$A$40)","v":"       "},null,{"$f":"Setup!$B$2","v":"Minitræf i Houlbjerg"},null,null,null,null,null,null,{"$f":"'Puljer runde 2'!$B$3","v":"Runde 2"},{"$f":"CONCATENATE('Puljer runde 2'!$A$35,\".\",'Puljer runde 2'!$M$40)","v":"x.5"}]
[null,"Til hul",{"$f":"'Puljer runde 2'!$L$40","v":0},null,null,null,null,null,null,null,{"$f":"Setup!$B$4","v":"29. juli 2015"}]
[null,null,{"$f":"IF('Puljer runde 2'!B$40=\"\",\"\",'Puljer runde 2'!B$40)","v":""},null,{"$f":"IF('Puljer runde 2'!D$40=\"\",\"\",'Puljer runde 2'!D$40)","v":""},null,{"$f":"IF('Puljer runde 2'!F$40=\"\",\"\",'Puljer runde 2'!F$40)","v":""},null,{"$f":"IF('Puljer runde 2'!H$40=\"\",\"\",'Puljer runde 2'!H$40)","v":""},null,{"$f":"IF('Puljer runde 2'!J$40=\"\",\"\",'Puljer runde 2'!J$40)","v":""}]
[null,null,{"$f":"IF('Puljer runde 2'!C$40=\"\",\"\",'Puljer runde 2'!C$40)","v":""},null,{"$f":"IF('Puljer runde 2'!E$40=\"\",\"\",'Puljer runde 2'!E$40)","v":""},null,{"$f":"IF('Puljer runde 2'!G$40=\"\",\"\",'Puljer runde 2'!G$40)","v":""},null,{"$f":"IF('Puljer runde 2'!I$40=\"\",\"\",'Puljer runde 2'!I$40)","v":""},null,{"$f":"IF('Puljer runde 2'!K$40=\"\",\"\",'Puljer runde 2'!K$40)","v":""}]
[null,{"$f":"CONCATENATE(\"Hul \",C465)","v":"Hul 0"}]
[null,{"$f":"IF(C465+1 > 12,CONCATENATE(\"Hul \",C465 + 1 - 12),CONCATENATE(\"Hul \",C465 + 1))","v":"Hul 1"}]
[null,{"$f":"IF(C465+2 > 12,CONCATENATE(\"Hul \",C465 + 2 - 12),CONCATENATE(\"Hul \",C465 + 2))","v":"Hul 2"}]
[null,{"$f":"IF(C465+3 > 12,CONCATENATE(\"Hul \",C465 + 3 - 12),CONCATENATE(\"Hul \",C465 + 3))","v":"Hul 3"}]
[null,{"$f":"IF(C465+4 > 12,CONCATENATE(\"Hul \",C465 + 4 - 12),CONCATENATE(\"Hul \",C465 + 4))","v":"Hul 4"}]
[null,{"$f":"IF(C465+5 > 12,CONCATENATE(\"Hul \",C465 + 5 - 12),CONCATENATE(\"Hul \",C465 + 5))","v":"Hul 5"}]
[null,{"$f":"IF(C465+6 > 12,CONCATENATE(\"Hul \",C465 + 6 - 12),CONCATENATE(\"Hul \",C465 + 6))","v":"Hul 6"}]
[null,{"$f":"IF(C465+7 > 12,CONCATENATE(\"Hul \",C465 + 7 - 12),CONCATENATE(\"Hul \",C465 + 7))","v":"Hul 7"}]
[null,{"$f":"IF(C465+8 > 12,CONCATENATE(\"Hul \",C465 + 8 - 12),CONCATENATE(\"Hul \",C465 + 8))","v":"Hul 8"}]
[null,{"$f":"IF(C465+9 > 12,CONCATENATE(\"Hul \",C465 + 9 - 12),CONCATENATE(\"Hul \",C465 + 9))","v":"Hul 9"}]
[null,{"$f":"IF(C465+10 > 12,CONCATENATE(\"Hul \",C465 + 10 - 12),CONCATENATE(\"Hul \",C465 + 10))","v":"Hul 10"}]
[null,{"$f":"IF(C465+11 > 12,CONCATENATE(\"Hul \",C465 + 11 - 12),CONCATENATE(\"Hul \",C465 + 11))","v":"Hul 11"}]
[null,"I alt"]
[null,{"$f":"Setup!$B$8","v":0}]
[null,"Dommer:"]
[]
[]
[null,{"$f":"CONCATENATE(\"       \",'Puljer runde 2'!$A$41)","v":"       "},null,{"$f":"Setup!$B$2","v":"Minitræf i Houlbjerg"},null,null,null,null,null,null,{"$f":"'Puljer runde 2'!$B$3","v":"Runde 2"},{"$f":"CONCATENATE('Puljer runde 2'!$A$35,\".\",'Puljer runde 2'!$M$41)","v":"x.6"}]
[null,"Til hul",{"$f":"'Puljer runde 2'!$L$41","v":0},null,null,null,null,null,null,null,{"$f":"Setup!$B$4","v":"29. juli 2015"}]
[null,null,{"$f":"IF('Puljer runde 2'!B$41=\"\",\"\",'Puljer runde 2'!B$41)","v":""},null,{"$f":"IF('Puljer runde 2'!D$41=\"\",\"\",'Puljer runde 2'!D$41)","v":""},null,{"$f":"IF('Puljer runde 2'!F$41=\"\",\"\",'Puljer runde 2'!F$41)","v":""},null,{"$f":"IF('Puljer runde 2'!H$41=\"\",\"\",'Puljer runde 2'!H$41)","v":""},null,{"$f":"IF('Puljer runde 2'!J$41=\"\",\"\",'Puljer runde 2'!J$41)","v":""}]
[null,null,{"$f":"IF('Puljer runde 2'!C$41=\"\",\"\",'Puljer runde 2'!C$41)","v":""},null,{"$f":"IF('Puljer runde 2'!E$41=\"\",\"\",'Puljer runde 2'!E$41)","v":""},null,{"$f":"IF('Puljer runde 2'!G$41=\"\",\"\",'Puljer runde 2'!G$41)","v":""},null,{"$f":"IF('Puljer runde 2'!I$41=\"\",\"\",'Puljer runde 2'!I$41)","v":""},null,{"$f":"IF('Puljer runde 2'!K$41=\"\",\"\",'Puljer runde 2'!K$41)","v":""}]
[null,{"$f":"CONCATENATE(\"Hul \",C486)","v":"Hul 0"}]
[null,{"$f":"IF(C486+1 > 12,CONCATENATE(\"Hul \",C486 + 1 - 12),CONCATENATE(\"Hul \",C486 + 1))","v":"Hul 1"}]
[null,{"$f":"IF(C486+2 > 12,CONCATENATE(\"Hul \",C486 + 2 - 12),CONCATENATE(\"Hul \",C486 + 2))","v":"Hul 2"}]
[null,{"$f":"IF(C486+3 > 12,CONCATENATE(\"Hul \",C486 + 3 - 12),CONCATENATE(\"Hul \",C486 + 3))","v":"Hul 3"}]
[null,{"$f":"IF(C486+4 > 12,CONCATENATE(\"Hul \",C486 + 4 - 12),CONCATENATE(\"Hul \",C486 + 4))","v":"Hul 4"}]
[null,{"$f":"IF(C486+5 > 12,CONCATENATE(\"Hul \",C486 + 5 - 12),CONCATENATE(\"Hul \",C486 + 5))","v":"Hul 5"}]
[null,{"$f":"IF(C486+6 > 12,CONCATENATE(\"Hul \",C486 + 6 - 12),CONCATENATE(\"Hul \",C486 + 6))","v":"Hul 6"}]
[null,{"$f":"IF(C486+7 > 12,CONCATENATE(\"Hul \",C486 + 7 - 12),CONCATENATE(\"Hul \",C486 + 7))","v":"Hul 7"}]
[null,{"$f":"IF(C486+8 > 12,CONCATENATE(\"Hul \",C486 + 8 - 12),CONCATENATE(\"Hul \",C486 + 8))","v":"Hul 8"}]
[null,{"$f":"IF(C486+9 > 12,CONCATENATE(\"Hul \",C486 + 9 - 12),CONCATENATE(\"Hul \",C486 + 9))","v":"Hul 9"}]
[null,{"$f":"IF(C486+10 > 12,CONCATENATE(\"Hul \",C486 + 10 - 12),CONCATENATE(\"Hul \",C486 + 10))","v":"Hul 10"}]
[null,{"$f":"IF(C486+11 > 12,CONCATENATE(\"Hul \",C486 + 11 - 12),CONCATENATE(\"Hul \",C486 + 11))","v":"Hul 11"}]
[null,"I alt"]
[null,{"$f":"Setup!$B$8","v":0}]
[null,"Dommer:"]

{"sheet":"Kampsedler 3","index":11,"n_rows":503,"n_cols":12,"rows_kept":503,"cut":false,"hidden":false,"merged":[[487,4,487,5],[487,6,487,7],[487,8,487,9],[487,10,487,11],[501,1,501,11],[502,1,502,2],[502,3,502,11],[484,1,484,2],[484,3,485,9],[485,10,485,11],[486,1,487,1],[486,2,486,3],[486,4,486,5],[486,6,486,7],[486,8,486,9],[486,10,486,11],[487,2,487,3],[466,4,466,5],[466,6,466,7],[466,8,466,9],[466,10,466,11],[480,1,480,11],[481,1,481,2],[481,3,481,11],[463,1,463,2],[463,3,464,9],[464,10,464,11],[465,1,466,1],[465,2,465,3],[465,4,465,5],[465,6,465,7],[465,8,465,9],[465,10,465,11],[466,2,466,3],[445,4,445,5],[445,6,445,7],[445,8,445,9],[445,10,445,11],[459,1,459,11],[460,1,460,2],[460,3,460,11],[442,1,442,2],[442,3,443,9],[443,10,443,11],[444,1,445,1],[444,2,444,3],[444,4,444,5],[444,6,444,7],[444,8,444,9],[444,10,444,11],[445,2,445,3],[424,4,424,5],[424,6,424,7],[424,8,424,9],[424,10,424,11],[438,1,438,11],[439,1,439,2],[439,3,439,11],[421,1,421,2],[421,3,422,9],[422,10,422,11],[423,1,424,1],[423,2,423,3],[423,4,423,5],[423,6,423,7],[423,8,423,9],[423,10,423,11],[424,2,424,3],[403,4,403,5],[403,6,403,7],[403,8,403,9],[403,10,403,11],[417,1,417,11],[418,1,418,2],[418,3,418,11],[400,1,400,2],[400,3,401,9],[401,10,401,11],[402,1,403,1],[402,2,402,3],[402,4,402,5],[402,6,402,7],[402,8,402,9],[402,10,402,11],[403,2,403,3],[382,4,382,5],[382,6,382,7],[382,8,382,9],[382,10,382,11],[396,1,396,11],[397,1,397,2],[397,3,397,11],[379,1,379,2],[379,3,380,9],[380,10,380,11],[381,1,382,1],[381,2,381,3],[381,4,381,5],[381,6,381,7],[381,8,381,9],[381,10,381,11],[382,2,382,3],[361,4,361,5],[361,6,361,7],[361,8,361,9],[361,10,361,11],[375,1,375,11],[376,1,376,2],[376,3,376,11],[358,1,358,2],[358,3,359,9],[359,10,359,11],[360,1,361,1],[360,2,360,3],[360,4,360,5],[360,6,360,7],[360,8,360,9],[360,10,360,11],[361,2,361,3],[340,4,340,5],[340,6,340,7],[340,8,340,9],[340,10,340,11],[354,1,354,11],[355,1,355,2],[355,3,355,11],[337,1,337,2],[337,3,338,9],[338,10,338,11],[339,1,340,1],[339,2,339,3],[339,4,339,5],[339,6,339,7],[339,8,339,9],[339,10,339,11],[340,2,340,3],[319,4,319,5],[319,6,319,7],[319,8,319,9],[319,10,319,11],[333,1,333,11],[334,1,334,2],[334,3,334,11],[316,1,316,2],[316,3,317,9],[317,10,317,11],[318,1,319,1],[318,2,318,3],[318,4,318,5],[318,6,318,7],[318,8,318,9],[318,10,318,11],[319,2,319,3],[298,4,298,5],[298,6,298,7],[298,8,298,9],[298,10,298,11],[312,1,312,11],[313,1,313,2],[313,3,313,11],[295,1,295,2],[295,3,296,9],[296,10,296,11],[297,1,298,1],[297,2,297,3],[297,4,297,5],[297,6,297,7],[297,8,297,9],[297,10,297,11],[298,2,298,3],[277,4,277,5],[277,6,277,7],[277,8,277,9],[277,10,277,11],[291,1,291,11],[292,1,292,2],[292,3,292,11],[274,1,274,2],[274,3,275,9],[275,10,275,11],[276,1,277,1],[276,2,276,3],[276,4,276,5],[276,6,276,7],[276,8,276,9],[276,10,276,11],[277,2,277,3],[256,4,256,5],[256,6,256,7],[256,8,256,9],[256,10,256,11],[270,1,270,11],[271,1,271,2],[271,3,271,11],[253,1,253,2],[253,3,254,9],[254,10,254,11],[255,1,256,1],[255,2,255,3],[255,4,255,5],[255,6,255,7],[255,8,255,9],[255,10,255,11],[256,2,256,3],[235,4,235,5],[235,6,235,7],[235,8,235,9],[235,10,235,11],[249,1,249,11],[250,1,250,2],[250,3,250,11],[232,1,232,2],[232,3,233,9],[233,10,233,11],[234,1,235,1],[234,2,234,3],[234,4,234,5],[234,6,234,7],[234,8,234,9],[234,10,234,11],[235,2,235,3],[214,4,214,5],[214,6,214,7],[214,8,214,9],[214,10,214,11],[228,1,228,11],[229,1,229,2],[229,3,229,11],[211,1,211,2],[211,3,212,9],[212,10,212,11],[213,1,214,1],[213,2,213,3],[213,4,213,5],[213,6,213,7],[213,8,213,9],[213,10,213,11],[214,2,214,3],[193,4,193,5],[193,6,193,7],[193,8,193,9],[193,10,193,11],[207,1,207,11],[208,1,208,2],[208,3,208,11],[190,1,190,2],[190,3,191,9],[191,10,191,11],[192,1,193,1],[192,2,192,3],[192,4,192,5],[192,6,192,7],[192,8,192,9],[192,10,192,11],[193,2,193,3],[172,4,172,5],[172,6,172,7],[172,8,172,9],[172,10,172,11],[186,1,186,11],[187,1,187,2],[187,3,187,11],[169,1,169,2],[169,3,170,9],[170,10,170,11],[171,1,172,1],[171,2,171,3],[171,4,171,5],[171,6,171,7],[171,8,171,9],[171,10,171,11],[172,2,172,3],[151,4,151,5],[151,6,151,7],[151,8,151,9],[151,10,151,11],[165,1,165,11],[166,1,166,2],[166,3,166,11],[148,1,148,2],[148,3,149,9],[149,10,149,11],[150,1,151,1],[150,2,150,3],[150,4,150,5],[150,6,150,7],[150,8,150,9],[150,10,150,11],[151,2,151,3],[130,4,130,5],[130,6,130,7],[130,8,130,9],[130,10,130,11],[144,1,144,11],[145,1,145,2],[145,3,145,11],[127,1,127,2],[127,3,128,9],[128,10,128,11],[129,1,130,1],[129,2,129,3],[129,4,129,5],[129,6,129,7],[129,8,129,9],[129,10,129,11],[130,2,130,3],[109,4,109,5],[109,6,109,7],[109,8,109,9],[109,10,109,11],[123,1,123,11],[124,1,124,2],[124,3,124,11],[106,1,106,2],[106,3,107,9],[107,10,107,11],[108,1,109,1],[108,2,108,3],[108,4,108,5],[108,6,108,7],[108,8,108,9],[108,10,108,11],[109,2,109,3],[88,4,88,5],[88,6,88,7],[88,8,88,9],[88,10,88,11],[102,1,102,11],[103,1,103,2],[103,3,103,11],[85,1,85,2],[85,3,86,9],[86,10,86,11],[87,1,88,1],[87,2,87,3],[87,4,87,5],[87,6,87,7],[87,8,87,9],[87,10,87,11],[88,2,88,3],[67,4,67,5],[67,6,67,7],[67,8,67,9],[67,10,67,11],[81,1,81,11],[82,1,82,2],[82,3,82,11],[64,1,64,2],[64,3,65,9],[65,10,65,11],[66,1,67,1],[66,2,66,3],[66,4,66,5],[66,6,66,7],[66,8,66,9],[66,10,66,11],[67,2,67,3],[46,4,46,5],[46,6,46,7],[46,8,46,9],[46,10,46,11],[60,1,60,11],[61,1,61,2],[61,3,61,11],[43,1,43,2],[43,3,44,9],[44,10,44,11],[45,1,46,1],[45,2,45,3],[45,4,45,5],[45,6,45,7],[45,8,45,9],[45,10,45,11],[46,2,46,3],[25,4,25,5],[25,6,25,7],[25,8,25,9],[25,10,25,11],[39,1,39,11],[40,1,40,2],[40,3,40,11],[22,1,22,2],[22,3,23,9],[23,10,23,11],[24,1,25,1],[24,2,24,3],[24,4,24,5],[24,6,24,7],[24,8,24,9],[24,10,24,11],[25,2,25,3],[4,4,4,5],[4,6,4,7],[4,8,4,9],[4,10,4,11],[18,1,18,11],[19,1,19,2],[19,3,19,11],[1,1,1,2],[1,3,2,9],[2,10,2,11],[3,1,4,1],[3,2,3,3],[3,4,3,5],[3,6,3,7],[3,8,3,9],[3,10,3,11],[4,2,4,3]]}
[]
[null,{"$f":"CONCATENATE(\"       \",'Puljer runde 3'!$A$6)","v":"       Bane 1"},null,{"$f":"Setup!$B$2","v":"Minitræf i Houlbjerg"},null,null,null,null,null,null,{"$f":"'Puljer runde 3'!$B$3","v":"Runde 3"},{"$f":"CONCATENATE('Puljer runde 3'!$A$5,\".\",'Puljer runde 3'!$M$6)","v":"x.1"}]
[null,"Til hul",{"$f":"'Puljer runde 3'!$L$6","v":0},null,null,null,null,null,null,null,{"$f":"Setup!$B$4","v":"29. juli 2015"}]
[null,null,{"$f":"IF('Puljer runde 3'!B$6=\"\",\"\",'Puljer runde 3'!B$6)","v":""},null,{"$f":"IF('Puljer runde 3'!D$6=\"\",\"\",'Puljer runde 3'!D$6)","v":""},null,{"$f":"IF('Puljer runde 3'!F$6=\"\",\"\",'Puljer runde 3'!F$6)","v":""},null,{"$f":"IF('Puljer runde 3'!H$6=\"\",\"\",'Puljer runde 3'!H$6)","v":""},null,{"$f":"IF('Puljer runde 3'!J$6=\"\",\"\",'Puljer runde 3'!J$6)","v":""}]
[null,null,{"$f":"IF('Puljer runde 3'!C$6=\"\",\"\",'Puljer runde 3'!C$6)","v":""},null,{"$f":"IF('Puljer runde 3'!E$6=\"\",\"\",'Puljer runde 3'!E$6)","v":""},null,{"$f":"IF('Puljer runde 3'!G$6=\"\",\"\",'Puljer runde 3'!G$6)","v":""},null,{"$f":"IF('Puljer runde 3'!I$6=\"\",\"\",'Puljer runde 3'!I$6)","v":""},null,{"$f":"IF('Puljer runde 3'!K$6=\"\",\"\",'Puljer runde 3'!K$6)","v":""}]
[null,{"$f":"CONCATENATE(\"Hul \",C3)","v":"Hul 0"}]
[null,{"$f":"IF(C3+1 > 12,CONCATENATE(\"Hul \",C3 + 1 - 12),CONCATENATE(\"Hul \",C3 + 1))","v":"Hul 1"}]
[null,{"$f":"IF(C3+2 > 12,CONCATENATE(\"Hul \",C3 + 2 - 12),CONCATENATE(\"Hul \",C3 + 2))","v":"Hul 2"}]
[null,{"$f":"IF(C3+3 > 12,CONCATENATE(\"Hul \",C3 + 3 - 12),CONCATENATE(\"Hul \",C3 + 3))","v":"Hul 3"}]
[null,{"$f":"IF(C3+4 > 12,CONCATENATE(\"Hul \",C3 + 4 - 12),CONCATENATE(\"Hul \",C3 + 4))","v":"Hul 4"}]
[null,{"$f":"IF(C3+5 > 12,CONCATENATE(\"Hul \",C3 + 5 - 12),CONCATENATE(\"Hul \",C3 + 5))","v":"Hul 5"}]
[null,{"$f":"IF(C3+6 > 12,CONCATENATE(\"Hul \",C3 + 6 - 12),CONCATENATE(\"Hul \",C3 + 6))","v":"Hul 6"}]
[null,{"$f":"IF(C3+7 > 12,CONCATENATE(\"Hul \",C3 + 7 - 12),CONCATENATE(\"Hul \",C3 + 7))","v":"Hul 7"}]
[null,{"$f":"IF(C3+8 > 12,CONCATENATE(\"Hul \",C3 + 8 - 12),CONCATENATE(\"Hul \",C3 + 8))","v":"Hul 8"}]
[null,{"$f":"IF(C3+9 > 12,CONCATENATE(\"Hul \",C3 + 9 - 12),CONCATENATE(\"Hul \",C3 + 9))","v":"Hul 9"}]
[null,{"$f":"IF(C3+10 > 12,CONCATENATE(\"Hul \",C3 + 10 - 12),CONCATENATE(\"Hul \",C3 + 10))","v":"Hul 10"}]
[null,{"$f":"IF(C3+11 > 12,CONCATENATE(\"Hul \",C3 + 11 - 12),CONCATENATE(\"Hul \",C3 + 11))","v":"Hul 11"}]
[null,"I alt"]
[null,{"$f":"Setup!$B$8","v":0}]
[null,"Dommer:"]
[]
[]
[null,{"$f":"CONCATENATE(\"       \",'Puljer runde 3'!$A$7)","v":"       Bane 1"},null,{"$f":"Setup!$B$2","v":"Minitræf i Houlbjerg"},null,null,null,null,null,null,{"$f":"'Puljer runde 3'!$B$3","v":"Runde 3"},{"$f":"CONCATENATE('Puljer runde 3'!$A$5,\".\",'Puljer runde 3'!$M$7)","v":"x.2"}]
[null,"Til hul",{"$f":"'Puljer runde 3'!$L$7","v":0},null,null,null,null,null,null,null,{"$f":"Setup!$B$4","v":"29. juli 2015"}]
[null,null,{"$f":"IF('Puljer runde 3'!B$7=\"\",\"\",'Puljer runde 3'!B$7)","v":""},null,{"$f":"IF('Puljer runde 3'!D$7=\"\",\"\",'Puljer runde 3'!D$7)","v":""},null,{"$f":"IF('Puljer runde 3'!F$7=\"\",\"\",'Puljer runde 3'!F$7)","v":""},null,{"$f":"IF('Puljer runde 3'!H$7=\"\",\"\",'Puljer runde 3'!H$7)","v":""},null,{"$f":"IF('Puljer runde 3'!J$7=\"\",\"\",'Puljer runde 3'!J$7)","v":""}]
[null,null,{"$f":"IF('Puljer runde 3'!C$7=\"\",\"\",'Puljer runde 3'!C$7)","v":""},null,{"$f":"IF('Puljer runde 3'!E$7=\"\",\"\",'Puljer runde 3'!E$7)","v":""},null,{"$f":"IF('Puljer runde 3'!G$7=\"\",\"\",'Puljer runde 3'!G$7)","v":""},null,{"$f":"IF('Puljer runde 3'!I$7=\"\",\"\",'Puljer runde 3'!I$7)","v":""},null,{"$f":"IF('Puljer runde 3'!K$7=\"\",\"\",'Puljer runde 3'!K$7)","v":""}]
[null,{"$f":"CONCATENATE(\"Hul \",C24)","v":"Hul 0"}]
[null,{"$f":"IF(C24+1 > 12,CONCATENATE(\"Hul \",C24 + 1 - 12),CONCATENATE(\"Hul \",C24 + 1))","v":"Hul 1"}]
[null,{"$f":"IF(C24+2 > 12,CONCATENATE(\"Hul \",C24 + 2 - 12),CONCATENATE(\"Hul \",C24 + 2))","v":"Hul 2"}]
[null,{"$f":"IF(C24+3 > 12,CONCATENATE(\"Hul \",C24 + 3 - 12),CONCATENATE(\"Hul \",C24 + 3))","v":"Hul 3"}]
[null,{"$f":"IF(C24+4 > 12,CONCATENATE(\"Hul \",C24 + 4 - 12),CONCATENATE(\"Hul \",C24 + 4))","v":"Hul 4"}]
[null,{"$f":"IF(C24+5 > 12,CONCATENATE(\"Hul \",C24 + 5 - 12),CONCATENATE(\"Hul \",C24 + 5))","v":"Hul 5"}]
[null,{"$f":"IF(C24+6 > 12,CONCATENATE(\"Hul \",C24 + 6 - 12),CONCATENATE(\"Hul \",C24 + 6))","v":"Hul 6"}]
[null,{"$f":"IF(C24+7 > 12,CONCATENATE(\"Hul \",C24 + 7 - 12),CONCATENATE(\"Hul \",C24 + 7))","v":"Hul 7"}]
[null,{"$f":"IF(C24+8 > 12,CONCATENATE(\"Hul \",C24 + 8 - 12),CONCATENATE(\"Hul \",C24 + 8))","v":"Hul 8"}]
[null,{"$f":"IF(C24+9 > 12,CONCATENATE(\"Hul \",C24 + 9 - 12),CONCATENATE(\"Hul \",C24 + 9))","v":"Hul 9"}]
[null,{"$f":"IF(C24+10 > 12,CONCATENATE(\"Hul \",C24 + 10 - 12),CONCATENATE(\"Hul \",C24 + 10))","v":"Hul 10"}]
[null,{"$f":"IF(C24+11 > 12,CONCATENATE(\"Hul \",C24 + 11 - 12),CONCATENATE(\"Hul \",C24 + 11))","v":"Hul 11"}]
[null,"I alt"]
[null,{"$f":"Setup!$B$8","v":0}]
[null,"Dommer:"]
[]
[]
[null,{"$f":"CONCATENATE(\"       \",'Puljer runde 3'!$A$8)","v":"       Bane 1"},null,{"$f":"Setup!$B$2","v":"Minitræf i Houlbjerg"},null,null,null,null,null,null,{"$f":"'Puljer runde 3'!$B$3","v":"Runde 3"},{"$f":"CONCATENATE('Puljer runde 3'!$A$5,\".\",'Puljer runde 3'!$M$8)","v":"x.3"}]
[null,"Til hul",{"$f":"'Puljer runde 3'!$L$8","v":0},null,null,null,null,null,null,null,{"$f":"Setup!$B$4","v":"29. juli 2015"}]
[null,null,{"$f":"IF('Puljer runde 3'!B$8=\"\",\"\",'Puljer runde 3'!B$8)","v":""},null,{"$f":"IF('Puljer runde 3'!D$8=\"\",\"\",'Puljer runde 3'!D$8)","v":""},null,{"$f":"IF('Puljer runde 3'!F$8=\"\",\"\",'Puljer runde 3'!F$8)","v":""},null,{"$f":"IF('Puljer runde 3'!H$8=\"\",\"\",'Puljer runde 3'!H$8)","v":""},null,{"$f":"IF('Puljer runde 3'!J$8=\"\",\"\",'Puljer runde 3'!J$8)","v":""}]
[null,null,{"$f":"IF('Puljer runde 3'!C$8=\"\",\"\",'Puljer runde 3'!C$8)","v":""},null,{"$f":"IF('Puljer runde 3'!E$8=\"\",\"\",'Puljer runde 3'!E$8)","v":""},null,{"$f":"IF('Puljer runde 3'!G$8=\"\",\"\",'Puljer runde 3'!G$8)","v":""},null,{"$f":"IF('Puljer runde 3'!I$8=\"\",\"\",'Puljer runde 3'!I$8)","v":""},null,{"$f":"IF('Puljer runde 3'!K$8=\"\",\"\",'Puljer runde 3'!K$8)","v":""}]
[null,{"$f":"CONCATENATE(\"Hul \",C45)","v":"Hul 0"}]
[null,{"$f":"IF(C45+1 > 12,CONCATENATE(\"Hul \",C45 + 1 - 12),CONCATENATE(\"Hul \",C45 + 1))","v":"Hul 1"}]
[null,{"$f":"IF(C45+2 > 12,CONCATENATE(\"Hul \",C45 + 2 - 12),CONCATENATE(\"Hul \",C45 + 2))","v":"Hul 2"}]
[null,{"$f":"IF(C45+3 > 12,CONCATENATE(\"Hul \",C45 + 3 - 12),CONCATENATE(\"Hul \",C45 + 3))","v":"Hul 3"}]
[null,{"$f":"IF(C45+4 > 12,CONCATENATE(\"Hul \",C45 + 4 - 12),CONCATENATE(\"Hul \",C45 + 4))","v":"Hul 4"}]
[null,{"$f":"IF(C45+5 > 12,CONCATENATE(\"Hul \",C45 + 5 - 12),CONCATENATE(\"Hul \",C45 + 5))","v":"Hul 5"}]
[null,{"$f":"IF(C45+6 > 12,CONCATENATE(\"Hul \",C45 + 6 - 12),CONCATENATE(\"Hul \",C45 + 6))","v":"Hul 6"}]
[null,{"$f":"IF(C45+7 > 12,CONCATENATE(\"Hul \",C45 + 7 - 12),CONCATENATE(\"Hul \",C45 + 7))","v":"Hul 7"}]
[null,{"$f":"IF(C45+8 > 12,CONCATENATE(\"Hul \",C45 + 8 - 12),CONCATENATE(\"Hul \",C45 + 8))","v":"Hul 8"}]
[null,{"$f":"IF(C45+9 > 12,CONCATENATE(\"Hul \",C45 + 9 - 12),CONCATENATE(\"Hul \",C45 + 9))","v":"Hul 9"}]
[null,{"$f":"IF(C45+10 > 12,CONCATENATE(\"Hul \",C45 + 10 - 12),CONCATENATE(\"Hul \",C45 + 10))","v":"Hul 10"}]
[null,{"$f":"IF(C45+11 > 12,CONCATENATE(\"Hul \",C45 + 11 - 12),CONCATENATE(\"Hul \",C45 + 11))","v":"Hul 11"}]
[null,"I alt"]
[null,{"$f":"Setup!$B$8","v":0}]
[null,"Dommer:"]
[]
[]
[null,{"$f":"CONCATENATE(\"       \",'Puljer runde 3'!$A$9)","v":"       Bane 1"},null,{"$f":"Setup!$B$2","v":"Minitræf i Houlbjerg"},null,null,null,null,null,null,{"$f":"'Puljer runde 3'!$B$3","v":"Runde 3"},{"$f":"CONCATENATE('Puljer runde 3'!$A$5,\".\",'Puljer runde 3'!$M$9)","v":"x.4"}]
[null,"Til hul",{"$f":"'Puljer runde 3'!$L$9","v":0},null,null,null,null,null,null,null,{"$f":"Setup!$B$4","v":"29. juli 2015"}]
[null,null,{"$f":"IF('Puljer runde 3'!B$9=\"\",\"\",'Puljer runde 3'!B$9)","v":""},null,{"$f":"IF('Puljer runde 3'!D$9=\"\",\"\",'Puljer runde 3'!D$9)","v":""},null,{"$f":"IF('Puljer runde 3'!F$9=\"\",\"\",'Puljer runde 3'!F$9)","v":""},null,{"$f":"IF('Puljer runde 3'!H$9=\"\",\"\",'Puljer runde 3'!H$9)","v":""},null,{"$f":"IF('Puljer runde 3'!J$9=\"\",\"\",'Puljer runde 3'!J$9)","v":""}]
[null,null,{"$f":"IF('Puljer runde 3'!C$9=\"\",\"\",'Puljer runde 3'!C$9)","v":""},null,{"$f":"IF('Puljer runde 3'!E$9=\"\",\"\",'Puljer runde 3'!E$9)","v":""},null,{"$f":"IF('Puljer runde 3'!G$9=\"\",\"\",'Puljer runde 3'!G$9)","v":""},null,{"$f":"IF('Puljer runde 3'!I$9=\"\",\"\",'Puljer runde 3'!I$9)","v":""},null,{"$f":"IF('Puljer runde 3'!K$9=\"\",\"\",'Puljer runde 3'!K$9)","v":""}]
[null,{"$f":"CONCATENATE(\"Hul \",C66)","v":"Hul 0"}]
[null,{"$f":"IF(C66+1 > 12,CONCATENATE(\"Hul \",C66 + 1 - 12),CONCATENATE(\"Hul \",C66 + 1))","v":"Hul 1"}]
[null,{"$f":"IF(C66+2 > 12,CONCATENATE(\"Hul \",C66 + 2 - 12),CONCATENATE(\"Hul \",C66 + 2))","v":"Hul 2"}]
[null,{"$f":"IF(C66+3 > 12,CONCATENATE(\"Hul \",C66 + 3 - 12),CONCATENATE(\"Hul \",C66 + 3))","v":"Hul 3"}]
[null,{"$f":"IF(C66+4 > 12,CONCATENATE(\"Hul \",C66 + 4 - 12),CONCATENATE(\"Hul \",C66 + 4))","v":"Hul 4"}]
[null,{"$f":"IF(C66+5 > 12,CONCATENATE(\"Hul \",C66 + 5 - 12),CONCATENATE(\"Hul \",C66 + 5))","v":"Hul 5"}]
[null,{"$f":"IF(C66+6 > 12,CONCATENATE(\"Hul \",C66 + 6 - 12),CONCATENATE(\"Hul \",C66 + 6))","v":"Hul 6"}]
[null,{"$f":"IF(C66+7 > 12,CONCATENATE(\"Hul \",C66 + 7 - 12),CONCATENATE(\"Hul \",C66 + 7))","v":"Hul 7"}]
[null,{"$f":"IF(C66+8 > 12,CONCATENATE(\"Hul \",C66 + 8 - 12),CONCATENATE(\"Hul \",C66 + 8))","v":"Hul 8"}]
[null,{"$f":"IF(C66+9 > 12,CONCATENATE(\"Hul \",C66 + 9 - 12),CONCATENATE(\"Hul \",C66 + 9))","v":"Hul 9"}]
[null,{"$f":"IF(C66+10 > 12,CONCATENATE(\"Hul \",C66 + 10 - 12),CONCATENATE(\"Hul \",C66 + 10))","v":"Hul 10"}]
[null,{"$f":"IF(C66+11 > 12,CONCATENATE(\"Hul \",C66 + 11 - 12),CONCATENATE(\"Hul \",C66 + 11))","v":"Hul 11"}]
[null,"I alt"]
[null,{"$f":"Setup!$B$8","v":0}]
[null,"Dommer:"]
[]
[]
[null,{"$f":"CONCATENATE(\"       \",'Puljer runde 3'!$A$10)","v":"       Bane 1"},null,{"$f":"Setup!$B$2","v":"Minitræf i Houlbjerg"},null,null,null,null,null,null,{"$f":"'Puljer runde 3'!$B$3","v":"Runde 3"},{"$f":"CONCATENATE('Puljer runde 3'!$A$5,\".\",'Puljer runde 3'!$M$10)","v":"x.5"}]
[null,"Til hul",{"$f":"'Puljer runde 3'!$L$10","v":0},null,null,null,null,null,null,null,{"$f":"Setup!$B$4","v":"29. juli 2015"}]
[null,null,{"$f":"IF('Puljer runde 3'!B$10=\"\",\"\",'Puljer runde 3'!B$10)","v":""},null,{"$f":"IF('Puljer runde 3'!D$10=\"\",\"\",'Puljer runde 3'!D$10)","v":""},null,{"$f":"IF('Puljer runde 3'!F$10=\"\",\"\",'Puljer runde 3'!F$10)","v":""},null,{"$f":"IF('Puljer runde 3'!H$10=\"\",\"\",'Puljer runde 3'!H$10)","v":""},null,{"$f":"IF('Puljer runde 3'!J$10=\"\",\"\",'Puljer runde 3'!J$10)","v":""}]
[null,null,{"$f":"IF('Puljer runde 3'!C$10=\"\",\"\",'Puljer runde 3'!C$10)","v":""},null,{"$f":"IF('Puljer runde 3'!E$10=\"\",\"\",'Puljer runde 3'!E$10)","v":""},null,{"$f":"IF('Puljer runde 3'!G$10=\"\",\"\",'Puljer runde 3'!G$10)","v":""},null,{"$f":"IF('Puljer runde 3'!I$10=\"\",\"\",'Puljer runde 3'!I$10)","v":""},null,{"$f":"IF('Puljer runde 3'!K$10=\"\",\"\",'Puljer runde 3'!K$10)","v":""}]
[null,{"$f":"CONCATENATE(\"Hul \",C87)","v":"Hul 0"}]
[null,{"$f":"IF(C87+1 > 12,CONCATENATE(\"Hul \",C87 + 1 - 12),CONCATENATE(\"Hul \",C87 + 1))","v":"Hul 1"}]
[null,{"$f":"IF(C87+2 > 12,CONCATENATE(\"Hul \",C87 + 2 - 12),CONCATENATE(\"Hul \",C87 + 2))","v":"Hul 2"}]
[null,{"$f":"IF(C87+3 > 12,CONCATENATE(\"Hul \",C87 + 3 - 12),CONCATENATE(\"Hul \",C87 + 3))","v":"Hul 3"}]
[null,{"$f":"IF(C87+4 > 12,CONCATENATE(\"Hul \",C87 + 4 - 12),CONCATENATE(\"Hul \",C87 + 4))","v":"Hul 4"}]
[null,{"$f":"IF(C87+5 > 12,CONCATENATE(\"Hul \",C87 + 5 - 12),CONCATENATE(\"Hul \",C87 + 5))","v":"Hul 5"}]
[null,{"$f":"IF(C87+6 > 12,CONCATENATE(\"Hul \",C87 + 6 - 12),CONCATENATE(\"Hul \",C87 + 6))","v":"Hul 6"}]
[null,{"$f":"IF(C87+7 > 12,CONCATENATE(\"Hul \",C87 + 7 - 12),CONCATENATE(\"Hul \",C87 + 7))","v":"Hul 7"}]
[null,{"$f":"IF(C87+8 > 12,CONCATENATE(\"Hul \",C87 + 8 - 12),CONCATENATE(\"Hul \",C87 + 8))","v":"Hul 8"}]
[null,{"$f":"IF(C87+9 > 12,CONCATENATE(\"Hul \",C87 + 9 - 12),CONCATENATE(\"Hul \",C87 + 9))","v":"Hul 9"}]
[null,{"$f":"IF(C87+10 > 12,CONCATENATE(\"Hul \",C87 + 10 - 12),CONCATENATE(\"Hul \",C87 + 10))","v":"Hul 10"}]
[null,{"$f":"IF(C87+11 > 12,CONCATENATE(\"Hul \",C87 + 11 - 12),CONCATENATE(\"Hul \",C87 + 11))","v":"Hul 11"}]
[null,"I alt"]
[null,{"$f":"Setup!$B$8","v":0}]
[null,"Dommer:"]
[]
[]
[null,{"$f":"CONCATENATE(\"       \",'Puljer runde 3'!$A$11)","v":"       Bane 1"},null,{"$f":"Setup!$B$2","v":"Minitræf i Houlbjerg"},null,null,null,null,null,null,{"$f":"'Puljer runde 3'!$B$3","v":"Runde 3"},{"$f":"CONCATENATE('Puljer runde 3'!$A$5,\".\",'Puljer runde 3'!$M$11)","v":"x.6"}]
[null,"Til hul",{"$f":"'Puljer runde 3'!$L$11","v":0},null,null,null,null,null,null,null,{"$f":"Setup!$B$4","v":"29. juli 2015"}]
[null,null,{"$f":"IF('Puljer runde 3'!B$11=\"\",\"\",'Puljer runde 3'!B$11)","v":""},null,{"$f":"IF('Puljer runde 3'!D$11=\"\",\"\",'Puljer runde 3'!D$11)","v":""},null,{"$f":"IF('Puljer runde 3'!F$11=\"\",\"\",'Puljer runde 3'!F$11)","v":""},null,{"$f":"IF('Puljer runde 3'!H$11=\"\",\"\",'Puljer runde 3'!H$11)","v":""},null,{"$f":"IF('Puljer runde 3'!J$11=\"\",\"\",'Puljer runde 3'!J$11)","v":""}]
[null,null,{"$f":"IF('Puljer runde 3'!C$11=\"\",\"\",'Puljer runde 3'!C$11)","v":""},null,{"$f":"IF('Puljer runde 3'!E$11=\"\",\"\",'Puljer runde 3'!E$11)","v":""},null,{"$f":"IF('Puljer runde 3'!G$11=\"\",\"\",'Puljer runde 3'!G$11)","v":""},null,{"$f":"IF('Puljer runde 3'!I$11=\"\",\"\",'Puljer runde 3'!I$11)","v":""},null,{"$f":"IF('Puljer runde 3'!K$11=\"\",\"\",'Puljer runde 3'!K$11)","v":""}]
[null,{"$f":"CONCATENATE(\"Hul \",C108)","v":"Hul 0"}]
[null,{"$f":"IF(C108+1 > 12,CONCATENATE(\"Hul \",C108 + 1 - 12),CONCATENATE(\"Hul \",C108 + 1))","v":"Hul 1"}]
[null,{"$f":"IF(C108+2 > 12,CONCATENATE(\"Hul \",C108 + 2 - 12),CONCATENATE(\"Hul \",C108 + 2))","v":"Hul 2"}]
[null,{"$f":"IF(C108+3 > 12,CONCATENATE(\"Hul \",C108 + 3 - 12),CONCATENATE(\"Hul \",C108 + 3))","v":"Hul 3"}]
[null,{"$f":"IF(C108+4 > 12,CONCATENATE(\"Hul \",C108 + 4 - 12),CONCATENATE(\"Hul \",C108 + 4))","v":"Hul 4"}]
[null,{"$f":"IF(C108+5 > 12,CONCATENATE(\"Hul \",C108 + 5 - 12),CONCATENATE(\"Hul \",C108 + 5))","v":"Hul 5"}]
[null,{"$f":"IF(C108+6 > 12,CONCATENATE(\"Hul \",C108 + 6 - 12),CONCATENATE(\"Hul \",C108 + 6))","v":"Hul 6"}]
[null,{"$f":"IF(C108+7 > 12,CONCATENATE(\"Hul \",C108 + 7 - 12),CONCATENATE(\"Hul \",C108 + 7))","v":"Hul 7"}]
[null,{"$f":"IF(C108+8 > 12,CONCATENATE(\"Hul \",C108 + 8 - 12),CONCATENATE(\"Hul \",C108 + 8))","v":"Hul 8"}]
[null,{"$f":"IF(C108+9 > 12,CONCATENATE(\"Hul \",C108 + 9 - 12),CONCATENATE(\"Hul \",C108 + 9))","v":"Hul 9"}]
[null,{"$f":"IF(C108+10 > 12,CONCATENATE(\"Hul \",C108 + 10 - 12),CONCATENATE(\"Hul \",C108 + 10))","v":"Hul 10"}]
[null,{"$f":"IF(C108+11 > 12,CONCATENATE(\"Hul \",C108 + 11 - 12),CONCATENATE(\"Hul \",C108 + 11))","v":"Hul 11"}]
[null,"I alt"]
[null,{"$f":"Setup!$B$8","v":0}]
[null,"Dommer:"]
[]
[]
[null,{"$f":"CONCATENATE(\"       \",'Puljer runde 3'!$A$16)","v":"       Bane 2"},null,{"$f":"Setup!$B$2","v":"Minitræf i Houlbjerg"},null,null,null,null,null,null,{"$f":"'Puljer runde 3'!$B$3","v":"Runde 3"},{"$f":"CONCATENATE('Puljer runde 3'!$A$15,\".\",'Puljer runde 3'!$M$16)","v":"x.1"}]
[null,"Til hul",{"$f":"'Puljer runde 3'!$L$16","v":0},null,null,null,null,null,null,null,{"$f":"Setup!$B$4","v":"29. juli 2015"}]
[null,null,{"$f":"IF('Puljer runde 3'!B$16=\"\",\"\",'Puljer runde 3'!B$16)","v":""},null,{"$f":"IF('Puljer runde 3'!D$16=\"\",\"\",'Puljer runde 3'!D$16)","v":""},null,{"$f":"IF('Puljer runde 3'!F$16=\"\",\"\",'Puljer runde 3'!F$16)","v":""},null,{"$f":"IF('Puljer runde 3'!H$16=\"\",\"\",'Puljer runde 3'!H$16)","v":""},null,{"$f":"IF('Puljer runde 3'!J$16=\"\",\"\",'Puljer runde 3'!J$16)","v":""}]
[null,null,{"$f":"IF('Puljer runde 3'!C$16=\"\",\"\",'Puljer runde 3'!C$16)","v":""},null,{"$f":"IF('Puljer runde 3'!E$16=\"\",\"\",'Puljer runde 3'!E$16)","v":""},null,{"$f":"IF('Puljer runde 3'!G$16=\"\",\"\",'Puljer runde 3'!G$16)","v":""},null,{"$f":"IF('Puljer runde 3'!I$16=\"\",\"\",'Puljer runde 3'!I$16)","v":""},null,{"$f":"IF('Puljer runde 3'!K$16=\"\",\"\",'Puljer runde 3'!K$16)","v":""}]
[null,{"$f":"CONCATENATE(\"Hul \",C129)","v":"Hul 0"}]
[null,{"$f":"IF(C129+1 > 12,CONCATENATE(\"Hul \",C129 + 1 - 12),CONCATENATE(\"Hul \",C129 + 1))","v":"Hul 1"}]
[null,{"$f":"IF(C129+2 > 12,CONCATENATE(\"Hul \",C129 + 2 - 12),CONCATENATE(\"Hul \",C129 + 2))","v":"Hul 2"}]
[null,{"$f":"IF(C129+3 > 12,CONCATENATE(\"Hul \",C129 + 3 - 12),CONCATENATE(\"Hul \",C129 + 3))","v":"Hul 3"}]
[null,{"$f":"IF(C129+4 > 12,CONCATENATE(\"Hul \",C129 + 4 - 12),CONCATENATE(\"Hul \",C129 + 4))","v":"Hul 4"}]
[null,{"$f":"IF(C129+5 > 12,CONCATENATE(\"Hul \",C129 + 5 - 12),CONCATENATE(\"Hul \",C129 + 5))","v":"Hul 5"}]
[null,{"$f":"IF(C129+6 > 12,CONCATENATE(\"Hul \",C129 + 6 - 12),CONCATENATE(\"Hul \",C129 + 6))","v":"Hul 6"}]
[null,{"$f":"IF(C129+7 > 12,CONCATENATE(\"Hul \",C129 + 7 - 12),CONCATENATE(\"Hul \",C129 + 7))","v":"Hul 7"}]
[null,{"$f":"IF(C129+8 > 12,CONCATENATE(\"Hul \",C129 + 8 - 12),CONCATENATE(\"Hul \",C129 + 8))","v":"Hul 8"}]
[null,{"$f":"IF(C129+9 > 12,CONCATENATE(\"Hul \",C129 + 9 - 12),CONCATENATE(\"Hul \",C129 + 9))","v":"Hul 9"}]
[null,{"$f":"IF(C129+10 > 12,CONCATENATE(\"Hul \",C129 + 10 - 12),CONCATENATE(\"Hul \",C129 + 10))","v":"Hul 10"}]
[null,{"$f":"IF(C129+11 > 12,CONCATENATE(\"Hul \",C129 + 11 - 12),CONCATENATE(\"Hul \",C129 + 11))","v":"Hul 11"}]
[null,"I alt"]
[null,{"$f":"Setup!$B$8","v":0}]
[null,"Dommer:"]
[]
[]
[null,{"$f":"CONCATENATE(\"       \",'Puljer runde 3'!$A$17)","v":"       Bane 2"},null,{"$f":"Setup!$B$2","v":"Minitræf i Houlbjerg"},null,null,null,null,null,null,{"$f":"'Puljer runde 3'!$B$3","v":"Runde 3"},{"$f":"CONCATENATE('Puljer runde 3'!$A$15,\".\",'Puljer runde 3'!$M$17)","v":"x.2"}]
[null,"Til hul",{"$f":"'Puljer runde 3'!$L$17","v":0},null,null,null,null,null,null,null,{"$f":"Setup!$B$4","v":"29. juli 2015"}]
[null,null,{"$f":"IF('Puljer runde 3'!B$17=\"\",\"\",'Puljer runde 3'!B$17)","v":""},null,{"$f":"IF('Puljer runde 3'!D$17=\"\",\"\",'Puljer runde 3'!D$17)","v":""},null,{"$f":"IF('Puljer runde 3'!F$17=\"\",\"\",'Puljer runde 3'!F$17)","v":""},null,{"$f":"IF('Puljer runde 3'!H$17=\"\",\"\",'Puljer runde 3'!H$17)","v":""},null,{"$f":"IF('Puljer runde 3'!J$17=\"\",\"\",'Puljer runde 3'!J$17)","v":""}]
[null,null,{"$f":"IF('Puljer runde 3'!C$17=\"\",\"\",'Puljer runde 3'!C$17)","v":""},null,{"$f":"IF('Puljer runde 3'!E$17=\"\",\"\",'Puljer runde 3'!E$17)","v":""},null,{"$f":"IF('Puljer runde 3'!G$17=\"\",\"\",'Puljer runde 3'!G$17)","v":""},null,{"$f":"IF('Puljer runde 3'!I$17=\"\",\"\",'Puljer runde 3'!I$17)","v":""},null,{"$f":"IF('Puljer runde 3'!K$17=\"\",\"\",'Puljer runde 3'!K$17)","v":""}]
[null,{"$f":"CONCATENATE(\"Hul \",C150)","v":"Hul 0"}]
[null,{"$f":"IF(C150+1 > 12,CONCATENATE(\"Hul \",C150 + 1 - 12),CONCATENATE(\"Hul \",C150 + 1))","v":"Hul 1"}]
[null,{"$f":"IF(C150+2 > 12,CONCATENATE(\"Hul \",C150 + 2 - 12),CONCATENATE(\"Hul \",C150 + 2))","v":"Hul 2"}]
[null,{"$f":"IF(C150+3 > 12,CONCATENATE(\"Hul \",C150 + 3 - 12),CONCATENATE(\"Hul \",C150 + 3))","v":"Hul 3"}]
[null,{"$f":"IF(C150+4 > 12,CONCATENATE(\"Hul \",C150 + 4 - 12),CONCATENATE(\"Hul \",C150 + 4))","v":"Hul 4"}]
[null,{"$f":"IF(C150+5 > 12,CONCATENATE(\"Hul \",C150 + 5 - 12),CONCATENATE(\"Hul \",C150 + 5))","v":"Hul 5"}]
[null,{"$f":"IF(C150+6 > 12,CONCATENATE(\"Hul \",C150 + 6 - 12),CONCATENATE(\"Hul \",C150 + 6))","v":"Hul 6"}]
[null,{"$f":"IF(C150+7 > 12,CONCATENATE(\"Hul \",C150 + 7 - 12),CONCATENATE(\"Hul \",C150 + 7))","v":"Hul 7"}]
[null,{"$f":"IF(C150+8 > 12,CONCATENATE(\"Hul \",C150 + 8 - 12),CONCATENATE(\"Hul \",C150 + 8))","v":"Hul 8"}]
[null,{"$f":"IF(C150+9 > 12,CONCATENATE(\"Hul \",C150 + 9 - 12),CONCATENATE(\"Hul \",C150 + 9))","v":"Hul 9"}]
[null,{"$f":"IF(C150+10 > 12,CONCATENATE(\"Hul \",C150 + 10 - 12),CONCATENATE(\"Hul \",C150 + 10))","v":"Hul 10"}]
[null,{"$f":"IF(C150+11 > 12,CONCATENATE(\"Hul \",C150 + 11 - 12),CONCATENATE(\"Hul \",C150 + 11))","v":"Hul 11"}]
[null,"I alt"]
[null,{"$f":"Setup!$B$8","v":0}]
[null,"Dommer:"]
[]
[]
[null,{"$f":"CONCATENATE(\"       \",'Puljer runde 3'!$A$18)","v":"       Bane 2"},null,{"$f":"Setup!$B$2","v":"Minitræf i Houlbjerg"},null,null,null,null,null,null,{"$f":"'Puljer runde 3'!$B$3","v":"Runde 3"},{"$f":"CONCATENATE('Puljer runde 3'!$A$15,\".\",'Puljer runde 3'!$M$18)","v":"x.3"}]
[null,"Til hul",{"$f":"'Puljer runde 3'!$L$18","v":0},null,null,null,null,null,null,null,{"$f":"Setup!$B$4","v":"29. juli 2015"}]
[null,null,{"$f":"IF('Puljer runde 3'!B$18=\"\",\"\",'Puljer runde 3'!B$18)","v":""},null,{"$f":"IF('Puljer runde 3'!D$18=\"\",\"\",'Puljer runde 3'!D$18)","v":""},null,{"$f":"IF('Puljer runde 3'!F$18=\"\",\"\",'Puljer runde 3'!F$18)","v":""},null,{"$f":"IF('Puljer runde 3'!H$18=\"\",\"\",'Puljer runde 3'!H$18)","v":""},null,{"$f":"IF('Puljer runde 3'!J$18=\"\",\"\",'Puljer runde 3'!J$18)","v":""}]
[null,null,{"$f":"IF('Puljer runde 3'!C$18=\"\",\"\",'Puljer runde 3'!C$18)","v":""},null,{"$f":"IF('Puljer runde 3'!E$18=\"\",\"\",'Puljer runde 3'!E$18)","v":""},null,{"$f":"IF('Puljer runde 3'!G$18=\"\",\"\",'Puljer runde 3'!G$18)","v":""},null,{"$f":"IF('Puljer runde 3'!I$18=\"\",\"\",'Puljer runde 3'!I$18)","v":""},null,{"$f":"IF('Puljer runde 3'!K$18=\"\",\"\",'Puljer runde 3'!K$18)","v":""}]
[null,{"$f":"CONCATENATE(\"Hul \",C171)","v":"Hul 0"}]
[null,{"$f":"IF(C171+1 > 12,CONCATENATE(\"Hul \",C171 + 1 - 12),CONCATENATE(\"Hul \",C171 + 1))","v":"Hul 1"}]
[null,{"$f":"IF(C171+2 > 12,CONCATENATE(\"Hul \",C171 + 2 - 12),CONCATENATE(\"Hul \",C171 + 2))","v":"Hul 2"}]
[null,{"$f":"IF(C171+3 > 12,CONCATENATE(\"Hul \",C171 + 3 - 12),CONCATENATE(\"Hul \",C171 + 3))","v":"Hul 3"}]
[null,{"$f":"IF(C171+4 > 12,CONCATENATE(\"Hul \",C171 + 4 - 12),CONCATENATE(\"Hul \",C171 + 4))","v":"Hul 4"}]
[null,{"$f":"IF(C171+5 > 12,CONCATENATE(\"Hul \",C171 + 5 - 12),CONCATENATE(\"Hul \",C171 + 5))","v":"Hul 5"}]
[null,{"$f":"IF(C171+6 > 12,CONCATENATE(\"Hul \",C171 + 6 - 12),CONCATENATE(\"Hul \",C171 + 6))","v":"Hul 6"}]
[null,{"$f":"IF(C171+7 > 12,CONCATENATE(\"Hul \",C171 + 7 - 12),CONCATENATE(\"Hul \",C171 + 7))","v":"Hul 7"}]
[null,{"$f":"IF(C171+8 > 12,CONCATENATE(\"Hul \",C171 + 8 - 12),CONCATENATE(\"Hul \",C171 + 8))","v":"Hul 8"}]
[null,{"$f":"IF(C171+9 > 12,CONCATENATE(\"Hul \",C171 + 9 - 12),CONCATENATE(\"Hul \",C171 + 9))","v":"Hul 9"}]
[null,{"$f":"IF(C171+10 > 12,CONCATENATE(\"Hul \",C171 + 10 - 12),CONCATENATE(\"Hul \",C171 + 10))","v":"Hul 10"}]
[null,{"$f":"IF(C171+11 > 12,CONCATENATE(\"Hul \",C171 + 11 - 12),CONCATENATE(\"Hul \",C171 + 11))","v":"Hul 11"}]
[null,"I alt"]
[null,{"$f":"Setup!$B$8","v":0}]
[null,"Dommer:"]
[]
[]
[null,{"$f":"CONCATENATE(\"       \",'Puljer runde 3'!$A$19)","v":"       Bane 2"},null,{"$f":"Setup!$B$2","v":"Minitræf i Houlbjerg"},null,null,null,null,null,null,{"$f":"'Puljer runde 3'!$B$3","v":"Runde 3"},{"$f":"CONCATENATE('Puljer runde 3'!$A$15,\".\",'Puljer runde 3'!$M$19)","v":"x.4"}]
[null,"Til hul",{"$f":"'Puljer runde 3'!$L$19","v":0},null,null,null,null,null,null,null,{"$f":"Setup!$B$4","v":"29. juli 2015"}]
[null,null,{"$f":"IF('Puljer runde 3'!B$19=\"\",\"\",'Puljer runde 3'!B$19)","v":""},null,{"$f":"IF('Puljer runde 3'!D$19=\"\",\"\",'Puljer runde 3'!D$19)","v":""},null,{"$f":"IF('Puljer runde 3'!F$19=\"\",\"\",'Puljer runde 3'!F$19)","v":""},null,{"$f":"IF('Puljer runde 3'!H$19=\"\",\"\",'Puljer runde 3'!H$19)","v":""},null,{"$f":"IF('Puljer runde 3'!J$19=\"\",\"\",'Puljer runde 3'!J$19)","v":""}]
[null,null,{"$f":"IF('Puljer runde 3'!C$19=\"\",\"\",'Puljer runde 3'!C$19)","v":""},null,{"$f":"IF('Puljer runde 3'!E$19=\"\",\"\",'Puljer runde 3'!E$19)","v":""},null,{"$f":"IF('Puljer runde 3'!G$19=\"\",\"\",'Puljer runde 3'!G$19)","v":""},null,{"$f":"IF('Puljer runde 3'!I$19=\"\",\"\",'Puljer runde 3'!I$19)","v":""},null,{"$f":"IF('Puljer runde 3'!K$19=\"\",\"\",'Puljer runde 3'!K$19)","v":""}]
[null,{"$f":"CONCATENATE(\"Hul \",C192)","v":"Hul 0"}]
[null,{"$f":"IF(C192+1 > 12,CONCATENATE(\"Hul \",C192 + 1 - 12),CONCATENATE(\"Hul \",C192 + 1))","v":"Hul 1"}]
[null,{"$f":"IF(C192+2 > 12,CONCATENATE(\"Hul \",C192 + 2 - 12),CONCATENATE(\"Hul \",C192 + 2))","v":"Hul 2"}]
[null,{"$f":"IF(C192+3 > 12,CONCATENATE(\"Hul \",C192 + 3 - 12),CONCATENATE(\"Hul \",C192 + 3))","v":"Hul 3"}]
[null,{"$f":"IF(C192+4 > 12,CONCATENATE(\"Hul \",C192 + 4 - 12),CONCATENATE(\"Hul \",C192 + 4))","v":"Hul 4"}]
[null,{"$f":"IF(C192+5 > 12,CONCATENATE(\"Hul \",C192 + 5 - 12),CONCATENATE(\"Hul \",C192 + 5))","v":"Hul 5"}]
[null,{"$f":"IF(C192+6 > 12,CONCATENATE(\"Hul \",C192 + 6 - 12),CONCATENATE(\"Hul \",C192 + 6))","v":"Hul 6"}]
[null,{"$f":"IF(C192+7 > 12,CONCATENATE(\"Hul \",C192 + 7 - 12),CONCATENATE(\"Hul \",C192 + 7))","v":"Hul 7"}]
[null,{"$f":"IF(C192+8 > 12,CONCATENATE(\"Hul \",C192 + 8 - 12),CONCATENATE(\"Hul \",C192 + 8))","v":"Hul 8"}]
[null,{"$f":"IF(C192+9 > 12,CONCATENATE(\"Hul \",C192 + 9 - 12),CONCATENATE(\"Hul \",C192 + 9))","v":"Hul 9"}]
[null,{"$f":"IF(C192+10 > 12,CONCATENATE(\"Hul \",C192 + 10 - 12),CONCATENATE(\"Hul \",C192 + 10))","v":"Hul 10"}]
[null,{"$f":"IF(C192+11 > 12,CONCATENATE(\"Hul \",C192 + 11 - 12),CONCATENATE(\"Hul \",C192 + 11))","v":"Hul 11"}]
[null,"I alt"]
[null,{"$f":"Setup!$B$8","v":0}]
[null,"Dommer:"]
[]
[]
[null,{"$f":"CONCATENATE(\"       \",'Puljer runde 3'!$A$20)","v":"       Bane 2"},null,{"$f":"Setup!$B$2","v":"Minitræf i Houlbjerg"},null,null,null,null,null,null,{"$f":"'Puljer runde 3'!$B$3","v":"Runde 3"},{"$f":"CONCATENATE('Puljer runde 3'!$A$15,\".\",'Puljer runde 3'!$M$20)","v":"x.5"}]
[null,"Til hul",{"$f":"'Puljer runde 3'!$L$20","v":0},null,null,null,null,null,null,null,{"$f":"Setup!$B$4","v":"29. juli 2015"}]
[null,null,{"$f":"IF('Puljer runde 3'!B$20=\"\",\"\",'Puljer runde 3'!B$20)","v":""},null,{"$f":"IF('Puljer runde 3'!D$20=\"\",\"\",'Puljer runde 3'!D$20)","v":""},null,{"$f":"IF('Puljer runde 3'!F$20=\"\",\"\",'Puljer runde 3'!F$20)","v":""},null,{"$f":"IF('Puljer runde 3'!H$20=\"\",\"\",'Puljer runde 3'!H$20)","v":""},null,{"$f":"IF('Puljer runde 3'!J$20=\"\",\"\",'Puljer runde 3'!J$20)","v":""}]
[null,null,{"$f":"IF('Puljer runde 3'!C$20=\"\",\"\",'Puljer runde 3'!C$20)","v":""},null,{"$f":"IF('Puljer runde 3'!E$20=\"\",\"\",'Puljer runde 3'!E$20)","v":""},null,{"$f":"IF('Puljer runde 3'!G$20=\"\",\"\",'Puljer runde 3'!G$20)","v":""},null,{"$f":"IF('Puljer runde 3'!I$20=\"\",\"\",'Puljer runde 3'!I$20)","v":""},null,{"$f":"IF('Puljer runde 3'!K$20=\"\",\"\",'Puljer runde 3'!K$20)","v":""}]
[null,{"$f":"CONCATENATE(\"Hul \",C213)","v":"Hul 0"}]
[null,{"$f":"IF(C213+1 > 12,CONCATENATE(\"Hul \",C213 + 1 - 12),CONCATENATE(\"Hul \",C213 + 1))","v":"Hul 1"}]
[null,{"$f":"IF(C213+2 > 12,CONCATENATE(\"Hul \",C213 + 2 - 12),CONCATENATE(\"Hul \",C213 + 2))","v":"Hul 2"}]
[null,{"$f":"IF(C213+3 > 12,CONCATENATE(\"Hul \",C213 + 3 - 12),CONCATENATE(\"Hul \",C213 + 3))","v":"Hul 3"}]
[null,{"$f":"IF(C213+4 > 12,CONCATENATE(\"Hul \",C213 + 4 - 12),CONCATENATE(\"Hul \",C213 + 4))","v":"Hul 4"}]
[null,{"$f":"IF(C213+5 > 12,CONCATENATE(\"Hul \",C213 + 5 - 12),CONCATENATE(\"Hul \",C213 + 5))","v":"Hul 5"}]
[null,{"$f":"IF(C213+6 > 12,CONCATENATE(\"Hul \",C213 + 6 - 12),CONCATENATE(\"Hul \",C213 + 6))","v":"Hul 6"}]
[null,{"$f":"IF(C213+7 > 12,CONCATENATE(\"Hul \",C213 + 7 - 12),CONCATENATE(\"Hul \",C213 + 7))","v":"Hul 7"}]
[null,{"$f":"IF(C213+8 > 12,CONCATENATE(\"Hul \",C213 + 8 - 12),CONCATENATE(\"Hul \",C213 + 8))","v":"Hul 8"}]
[null,{"$f":"IF(C213+9 > 12,CONCATENATE(\"Hul \",C213 + 9 - 12),CONCATENATE(\"Hul \",C213 + 9))","v":"Hul 9"}]
[null,{"$f":"IF(C213+10 > 12,CONCATENATE(\"Hul \",C213 + 10 - 12),CONCATENATE(\"Hul \",C213 + 10))","v":"Hul 10"}]
[null,{"$f":"IF(C213+11 > 12,CONCATENATE(\"Hul \",C213 + 11 - 12),CONCATENATE(\"Hul \",C213 + 11))","v":"Hul 11"}]
[null,"I alt"]
[null,{"$f":"Setup!$B$8","v":0}]
[null,"Dommer:"]
[]
[]
[null,{"$f":"CONCATENATE(\"       \",'Puljer runde 3'!$A$21)","v":"       Bane 2"},null,{"$f":"Setup!$B$2","v":"Minitræf i Houlbjerg"},null,null,null,null,null,null,{"$f":"'Puljer runde 3'!$B$3","v":"Runde 3"},{"$f":"CONCATENATE('Puljer runde 3'!$A$15,\".\",'Puljer runde 3'!$M$21)","v":"x.6"}]
[null,"Til hul",{"$f":"'Puljer runde 3'!$L$21","v":0},null,null,null,null,null,null,null,{"$f":"Setup!$B$4","v":"29. juli 2015"}]
[null,null,{"$f":"IF('Puljer runde 3'!B$21=\"\",\"\",'Puljer runde 3'!B$21)","v":""},null,{"$f":"IF('Puljer runde 3'!D$21=\"\",\"\",'Puljer runde 3'!D$21)","v":""},null,{"$f":"IF('Puljer runde 3'!F$21=\"\",\"\",'Puljer runde 3'!F$21)","v":""},null,{"$f":"IF('Puljer runde 3'!H$21=\"\",\"\",'Puljer runde 3'!H$21)","v":""},null,{"$f":"IF('Puljer runde 3'!J$21=\"\",\"\",'Puljer runde 3'!J$21)","v":""}]
[null,null,{"$f":"IF('Puljer runde 3'!C$21=\"\",\"\",'Puljer runde 3'!C$21)","v":""},null,{"$f":"IF('Puljer runde 3'!E$21=\"\",\"\",'Puljer runde 3'!E$21)","v":""},null,{"$f":"IF('Puljer runde 3'!G$21=\"\",\"\",'Puljer runde 3'!G$21)","v":""},null,{"$f":"IF('Puljer runde 3'!I$21=\"\",\"\",'Puljer runde 3'!I$21)","v":""},null,{"$f":"IF('Puljer runde 3'!K$21=\"\",\"\",'Puljer runde 3'!K$21)","v":""}]
[null,{"$f":"CONCATENATE(\"Hul \",C234)","v":"Hul 0"}]
[null,{"$f":"IF(C234+1 > 12,CONCATENATE(\"Hul \",C234 + 1 - 12),CONCATENATE(\"Hul \",C234 + 1))","v":"Hul 1"}]
[null,{"$f":"IF(C234+2 > 12,CONCATENATE(\"Hul \",C234 + 2 - 12),CONCATENATE(\"Hul \",C234 + 2))","v":"Hul 2"}]
[null,{"$f":"IF(C234+3 > 12,CONCATENATE(\"Hul \",C234 + 3 - 12),CONCATENATE(\"Hul \",C234 + 3))","v":"Hul 3"}]
[null,{"$f":"IF(C234+4 > 12,CONCATENATE(\"Hul \",C234 + 4 - 12),CONCATENATE(\"Hul \",C234 + 4))","v":"Hul 4"}]
[null,{"$f":"IF(C234+5 > 12,CONCATENATE(\"Hul \",C234 + 5 - 12),CONCATENATE(\"Hul \",C234 + 5))","v":"Hul 5"}]
[null,{"$f":"IF(C234+6 > 12,CONCATENATE(\"Hul \",C234 + 6 - 12),CONCATENATE(\"Hul \",C234 + 6))","v":"Hul 6"}]
[null,{"$f":"IF(C234+7 > 12,CONCATENATE(\"Hul \",C234 + 7 - 12),CONCATENATE(\"Hul \",C234 + 7))","v":"Hul 7"}]
[null,{"$f":"IF(C234+8 > 12,CONCATENATE(\"Hul \",C234 + 8 - 12),CONCATENATE(\"Hul \",C234 + 8))","v":"Hul 8"}]
[null,{"$f":"IF(C234+9 > 12,CONCATENATE(\"Hul \",C234 + 9 - 12),CONCATENATE(\"Hul \",C234 + 9))","v":"Hul 9"}]
[null,{"$f":"IF(C234+10 > 12,CONCATENATE(\"Hul \",C234 + 10 - 12),CONCATENATE(\"Hul \",C234 + 10))","v":"Hul 10"}]
[null,{"$f":"IF(C234+11 > 12,CONCATENATE(\"Hul \",C234 + 11 - 12),CONCATENATE(\"Hul \",C234 + 11))","v":"Hul 11"}]
[null,"I alt"]
[null,{"$f":"Setup!$B$8","v":0}]
[null,"Dommer:"]
[]
[]
[null,{"$f":"CONCATENATE(\"       \",'Puljer runde 3'!$A$26)","v":"       0"},null,{"$f":"Setup!$B$2","v":"Minitræf i Houlbjerg"},null,null,null,null,null,null,{"$f":"'Puljer runde 3'!$B$3","v":"Runde 3"},{"$f":"CONCATENATE('Puljer runde 3'!$A$25,\".\",'Puljer runde 3'!$M$26)","v":"x.1"}]
[null,"Til hul",{"$f":"'Puljer runde 3'!$L$26","v":0},null,null,null,null,null,null,null,{"$f":"Setup!$B$4","v":"29. juli 2015"}]
[null,null,{"$f":"IF('Puljer runde 3'!B$26=\"\",\"\",'Puljer runde 3'!B$26)","v":"Else-Marie Schmidt"},null,{"$f":"IF('Puljer runde 3'!D$26=\"\",\"\",'Puljer runde 3'!D$26)","v":"Kaj Storgaard"},null,{"$f":"IF('Puljer runde 3'!F$26=\"\",\"\",'Puljer runde 3'!F$26)","v":"Doris Thomsen"},null,{"$f":"IF('Puljer runde 3'!H$26=\"\",\"\",'Puljer runde 3'!H$26)","v":"Jørgen Bjerre"},null,{"$f":"IF('Puljer runde 3'!J$26=\"\",\"\",'Puljer runde 3'!J$26)","v":"Max Thomassen"}]
[null,null,{"$f":"IF('Puljer runde 3'!C$26=\"\",\"\",'Puljer runde 3'!C$26)","v":"Lystrup"},null,{"$f":"IF('Puljer runde 3'!E$26=\"\",\"\",'Puljer runde 3'!E$26)","v":"Ulstrup"},null,{"$f":"IF('Puljer runde 3'!G$26=\"\",\"\",'Puljer runde 3'!G$26)","v":"Houlbjerg"},null,{"$f":"IF('Puljer runde 3'!I$26=\"\",\"\",'Puljer runde 3'!I$26)","v":"Pindstrup"},null,{"$f":"IF('Puljer runde 3'!K$26=\"\",\"\",'Puljer runde 3'!K$26)","v":"Bjerregrav"}]
[null,{"$f":"CONCATENATE(\"Hul \",C255)","v":"Hul 0"}]
[null,{"$f":"IF(C255+1 > 12,CONCATENATE(\"Hul \",C255 + 1 - 12),CONCATENATE(\"Hul \",C255 + 1))","v":"Hul 1"}]
[null,{"$f":"IF(C255+2 > 12,CONCATENATE(\"Hul \",C255 + 2 - 12),CONCATENATE(\"Hul \",C255 + 2))","v":"Hul 2"}]
[null,{"$f":"IF(C255+3 > 12,CONCATENATE(\"Hul \",C255 + 3 - 12),CONCATENATE(\"Hul \",C255 + 3))","v":"Hul 3"}]
[null,{"$f":"IF(C255+4 > 12,CONCATENATE(\"Hul \",C255 + 4 - 12),CONCATENATE(\"Hul \",C255 + 4))","v":"Hul 4"}]
[null,{"$f":"IF(C255+5 > 12,CONCATENATE(\"Hul \",C255 + 5 - 12),CONCATENATE(\"Hul \",C255 + 5))","v":"Hul 5"}]
[null,{"$f":"IF(C255+6 > 12,CONCATENATE(\"Hul \",C255 + 6 - 12),CONCATENATE(\"Hul \",C255 + 6))","v":"Hul 6"}]
[null,{"$f":"IF(C255+7 > 12,CONCATENATE(\"Hul \",C255 + 7 - 12),CONCATENATE(\"Hul \",C255 + 7))","v":"Hul 7"}]
[null,{"$f":"IF(C255+8 > 12,CONCATENATE(\"Hul \",C255 + 8 - 12),CONCATENATE(\"Hul \",C255 + 8))","v":"Hul 8"}]
[null,{"$f":"IF(C255+9 > 12,CONCATENATE(\"Hul \",C255 + 9 - 12),CONCATENATE(\"Hul \",C255 + 9))","v":"Hul 9"}]
[null,{"$f":"IF(C255+10 > 12,CONCATENATE(\"Hul \",C255 + 10 - 12),CONCATENATE(\"Hul \",C255 + 10))","v":"Hul 10"}]
[null,{"$f":"IF(C255+11 > 12,CONCATENATE(\"Hul \",C255 + 11 - 12),CONCATENATE(\"Hul \",C255 + 11))","v":"Hul 11"}]
[null,"I alt"]
[null,{"$f":"Setup!$B$8","v":0}]
[null,"Dommer:"]
[]
[]
[null,{"$f":"CONCATENATE(\"       \",'Puljer runde 3'!$A$27)","v":"       0"},null,{"$f":"Setup!$B$2","v":"Minitræf i Houlbjerg"},null,null,null,null,null,null,{"$f":"'Puljer runde 3'!$B$3","v":"Runde 3"},{"$f":"CONCATENATE('Puljer runde 3'!$A$25,\".\",'Puljer runde 3'!$M$27)","v":"x.2"}]
[null,"Til hul",{"$f":"'Puljer runde 3'!$L$27","v":0},null,null,null,null,null,null,null,{"$f":"Setup!$B$4","v":"29. juli 2015"}]
[null,null,{"$f":"IF('Puljer runde 3'!B$27=\"\",\"\",'Puljer runde 3'!B$27)","v":"Ulla Bjerring"},null,{"$f":"IF('Puljer runde 3'!D$27=\"\",\"\",'Puljer runde 3'!D$27)","v":"Ester Storgaard"},null,{"$f":"IF('Puljer runde 3'!F$27=\"\",\"\",'Puljer runde 3'!F$27)","v":"Yrsa Sørensen"},null,{"$f":"IF('Puljer runde 3'!H$27=\"\",\"\",'Puljer runde 3'!H$27)","v":"Tage Hansen"},null,{"$f":"IF('Puljer runde 3'!J$27=\"\",\"\",'Puljer runde 3'!J$27)","v":"Maja Pedersen"}]
[null,null,{"$f":"IF('Puljer runde 3'!C$27=\"\",\"\",'Puljer runde 3'!C$27)","v":"Høst"},null,{"$f":"IF('Puljer runde 3'!E$27=\"\",\"\",'Puljer runde 3'!E$27)","v":"Ulstrup"},null,{"$f":"IF('Puljer runde 3'!G$27=\"\",\"\",'Puljer runde 3'!G$27)","v":"Houlbjerg"},null,{"$f":"IF('Puljer runde 3'!I$27=\"\",\"\",'Puljer runde 3'!I$27)","v":"Låsby"},null,{"$f":"IF('Puljer runde 3'!K$27=\"\",\"\",'Puljer runde 3'!K$27)","v":"Auning"}]
[null,{"$f":"CONCATENATE(\"Hul \",C276)","v":"Hul 0"}]
[null,{"$f":"IF(C276+1 > 12,CONCATENATE(\"Hul \",C276 + 1 - 12),CONCATENATE(\"Hul \",C276 + 1))","v":"Hul 1"}]
[null,{"$f":"IF(C276+2 > 12,CONCATENATE(\"Hul \",C276 + 2 - 12),CONCATENATE(\"Hul \",C276 + 2))","v":"Hul 2"}]
[null,{"$f":"IF(C276+3 > 12,CONCATENATE(\"Hul \",C276 + 3 - 12),CONCATENATE(\"Hul \",C276 + 3))","v":"Hul 3"}]
[null,{"$f":"IF(C276+4 > 12,CONCATENATE(\"Hul \",C276 + 4 - 12),CONCATENATE(\"Hul \",C276 + 4))","v":"Hul 4"}]
[null,{"$f":"IF(C276+5 > 12,CONCATENATE(\"Hul \",C276 + 5 - 12),CONCATENATE(\"Hul \",C276 + 5))","v":"Hul 5"}]
[null,{"$f":"IF(C276+6 > 12,CONCATENATE(\"Hul \",C276 + 6 - 12),CONCATENATE(\"Hul \",C276 + 6))","v":"Hul 6"}]
[null,{"$f":"IF(C276+7 > 12,CONCATENATE(\"Hul \",C276 + 7 - 12),CONCATENATE(\"Hul \",C276 + 7))","v":"Hul 7"}]
[null,{"$f":"IF(C276+8 > 12,CONCATENATE(\"Hul \",C276 + 8 - 12),CONCATENATE(\"Hul \",C276 + 8))","v":"Hul 8"}]
[null,{"$f":"IF(C276+9 > 12,CONCATENATE(\"Hul \",C276 + 9 - 12),CONCATENATE(\"Hul \",C276 + 9))","v":"Hul 9"}]
[null,{"$f":"IF(C276+10 > 12,CONCATENATE(\"Hul \",C276 + 10 - 12),CONCATENATE(\"Hul \",C276 + 10))","v":"Hul 10"}]
[null,{"$f":"IF(C276+11 > 12,CONCATENATE(\"Hul \",C276 + 11 - 12),CONCATENATE(\"Hul \",C276 + 11))","v":"Hul 11"}]
[null,"I alt"]
[null,{"$f":"Setup!$B$8","v":0}]
[null,"Dommer:"]
[]
[]
[null,{"$f":"CONCATENATE(\"       \",'Puljer runde 3'!$A$28)","v":"       0"},null,{"$f":"Setup!$B$2","v":"Minitræf i Houlbjerg"},null,null,null,null,null,null,{"$f":"'Puljer runde 3'!$B$3","v":"Runde 3"},{"$f":"CONCATENATE('Puljer runde 3'!$A$25,\".\",'Puljer runde 3'!$M$28)","v":"x.3"}]
[null,"Til hul",{"$f":"'Puljer runde 3'!$L$28","v":0},null,null,null,null,null,null,null,{"$f":"Setup!$B$4","v":"29. juli 2015"}]
[null,null,{"$f":"IF('Puljer runde 3'!B$28=\"\",\"\",'Puljer runde 3'!B$28)","v":"Kurt Rasmussen"},null,{"$f":"IF('Puljer runde 3'!D$28=\"\",\"\",'Puljer runde 3'!D$28)","v":"Kirsten Nielsen"},null,{"$f":"IF('Puljer runde 3'!F$28=\"\",\"\",'Puljer runde 3'!F$28)","v":"Nanny Lægdsgaard"},null,{"$f":"IF('Puljer runde 3'!H$28=\"\",\"\",'Puljer runde 3'!H$28)","v":"Henning Larsen"},null,{"$f":"IF('Puljer runde 3'!J$28=\"\",\"\",'Puljer runde 3'!J$28)","v":"Bente Nordmann"}]
[null,null,{"$f":"IF('Puljer runde 3'!C$28=\"\",\"\",'Puljer runde 3'!C$28)","v":"Høst"},null,{"$f":"IF('Puljer runde 3'!E$28=\"\",\"\",'Puljer runde 3'!E$28)","v":"Thorsø"},null,{"$f":"IF('Puljer runde 3'!G$28=\"\",\"\",'Puljer runde 3'!G$28)","v":"Houlbjerg"},null,{"$f":"IF('Puljer runde 3'!I$28=\"\",\"\",'Puljer runde 3'!I$28)","v":"Silkeborg"},null,{"$f":"IF('Puljer runde 3'!K$28=\"\",\"\",'Puljer runde 3'!K$28)","v":"Auning"}]
[null,{"$f":"CONCATENATE(\"Hul \",C297)","v":"Hul 0"}]
[null,{"$f":"IF(C297+1 > 12,CONCATENATE(\"Hul \",C297 + 1 - 12),CONCATENATE(\"Hul \",C297 + 1))","v":"Hul 1"}]
[null,{"$f":"IF(C297+2 > 12,CONCATENATE(\"Hul \",C297 + 2 - 12),CONCATENATE(\"Hul \",C297 + 2))","v":"Hul 2"}]
[null,{"$f":"IF(C297+3 > 12,CONCATENATE(\"Hul \",C297 + 3 - 12),CONCATENATE(\"Hul \",C297 + 3))","v":"Hul 3"}]
[null,{"$f":"IF(C297+4 > 12,CONCATENATE(\"Hul \",C297 + 4 - 12),CONCATENATE(\"Hul \",C297 + 4))","v":"Hul 4"}]
[null,{"$f":"IF(C297+5 > 12,CONCATENATE(\"Hul \",C297 + 5 - 12),CONCATENATE(\"Hul \",C297 + 5))","v":"Hul 5"}]
[null,{"$f":"IF(C297+6 > 12,CONCATENATE(\"Hul \",C297 + 6 - 12),CONCATENATE(\"Hul \",C297 + 6))","v":"Hul 6"}]
[null,{"$f":"IF(C297+7 > 12,CONCATENATE(\"Hul \",C297 + 7 - 12),CONCATENATE(\"Hul \",C297 + 7))","v":"Hul 7"}]
[null,{"$f":"IF(C297+8 > 12,CONCATENATE(\"Hul \",C297 + 8 - 12),CONCATENATE(\"Hul \",C297 + 8))","v":"Hul 8"}]
[null,{"$f":"IF(C297+9 > 12,CONCATENATE(\"Hul \",C297 + 9 - 12),CONCATENATE(\"Hul \",C297 + 9))","v":"Hul 9"}]
[null,{"$f":"IF(C297+10 > 12,CONCATENATE(\"Hul \",C297 + 10 - 12),CONCATENATE(\"Hul \",C297 + 10))","v":"Hul 10"}]
[null,{"$f":"IF(C297+11 > 12,CONCATENATE(\"Hul \",C297 + 11 - 12),CONCATENATE(\"Hul \",C297 + 11))","v":"Hul 11"}]
[null,"I alt"]
[null,{"$f":"Setup!$B$8","v":0}]
[null,"Dommer:"]
[]
[]
[null,{"$f":"CONCATENATE(\"       \",'Puljer runde 3'!$A$29)","v":"       0"},null,{"$f":"Setup!$B$2","v":"Minitræf i Houlbjerg"},null,null,null,null,null,null,{"$f":"'Puljer runde 3'!$B$3","v":"Runde 3"},{"$f":"CONCATENATE('Puljer runde 3'!$A$25,\".\",'Puljer runde 3'!$M$29)","v":"x.4"}]
[null,"Til hul",{"$f":"'Puljer runde 3'!$L$29","v":0},null,null,null,null,null,null,null,{"$f":"Setup!$B$4","v":"29. juli 2015"}]
[null,null,{"$f":"IF('Puljer runde 3'!B$29=\"\",\"\",'Puljer runde 3'!B$29)","v":"Inger Rasmussen"},null,{"$f":"IF('Puljer runde 3'!D$29=\"\",\"\",'Puljer runde 3'!D$29)","v":"Grethe Thomsen"},null,{"$f":"IF('Puljer runde 3'!F$29=\"\",\"\",'Puljer runde 3'!F$29)","v":"Lisbeth Sørensen"},null,{"$f":"IF('Puljer runde 3'!H$29=\"\",\"\",'Puljer runde 3'!H$29)","v":"Ann Gaardsvig"},null,{"$f":"IF('Puljer runde 3'!J$29=\"\",\"\",'Puljer runde 3'!J$29)","v":"Rosa Højgaard"}]
[null,null,{"$f":"IF('Puljer runde 3'!C$29=\"\",\"\",'Puljer runde 3'!C$29)","v":"Høst"},null,{"$f":"IF('Puljer runde 3'!E$29=\"\",\"\",'Puljer runde 3'!E$29)","v":"Thorsø"},null,{"$f":"IF('Puljer runde 3'!G$29=\"\",\"\",'Puljer runde 3'!G$29)","v":"Houlbjerg"},null,{"$f":"IF('Puljer runde 3'!I$29=\"\",\"\",'Puljer runde 3'!I$29)","v":"Silkeborg"},null,{"$f":"IF('Puljer runde 3'!K$29=\"\",\"\",'Puljer runde 3'!K$29)","v":"Hammel"}]
[null,{"$f":"CONCATENATE(\"Hul \",C318)","v":"Hul 0"}]
[null,{"$f":"IF(C318+1 > 12,CONCATENATE(\"Hul \",C318 + 1 - 12),CONCATENATE(\"Hul \",C318 + 1))","v":"Hul 1"}]
[null,{"$f":"IF(C318+2 > 12,CONCATENATE(\"Hul \",C318 + 2 - 12),CONCATENATE(\"Hul \",C318 + 2))","v":"Hul 2"}]
[null,{"$f":"IF(C318+3 > 12,CONCATENATE(\"Hul \",C318 + 3 - 12),CONCATENATE(\"Hul \",C318 + 3))","v":"Hul 3"}]
[null,{"$f":"IF(C318+4 > 12,CONCATENATE(\"Hul \",C318 + 4 - 12),CONCATENATE(\"Hul \",C318 + 4))","v":"Hul 4"}]
[null,{"$f":"IF(C318+5 > 12,CONCATENATE(\"Hul \",C318 + 5 - 12),CONCATENATE(\"Hul \",C318 + 5))","v":"Hul 5"}]
[null,{"$f":"IF(C318+6 > 12,CONCATENATE(\"Hul \",C318 + 6 - 12),CONCATENATE(\"Hul \",C318 + 6))","v":"Hul 6"}]
[null,{"$f":"IF(C318+7 > 12,CONCATENATE(\"Hul \",C318 + 7 - 12),CONCATENATE(\"Hul \",C318 + 7))","v":"Hul 7"}]
[null,{"$f":"IF(C318+8 > 12,CONCATENATE(\"Hul \",C318 + 8 - 12),CONCATENATE(\"Hul \",C318 + 8))","v":"Hul 8"}]
[null,{"$f":"IF(C318+9 > 12,CONCATENATE(\"Hul \",C318 + 9 - 12),CONCATENATE(\"Hul \",C318 + 9))","v":"Hul 9"}]
[null,{"$f":"IF(C318+10 > 12,CONCATENATE(\"Hul \",C318 + 10 - 12),CONCATENATE(\"Hul \",C318 + 10))","v":"Hul 10"}]
[null,{"$f":"IF(C318+11 > 12,CONCATENATE(\"Hul \",C318 + 11 - 12),CONCATENATE(\"Hul \",C318 + 11))","v":"Hul 11"}]
[null,"I alt"]
[null,{"$f":"Setup!$B$8","v":0}]
[null,"Dommer:"]
[]
[]
[null,{"$f":"CONCATENATE(\"       \",'Puljer runde 3'!$A$30)","v":"       0"},null,{"$f":"Setup!$B$2","v":"Minitræf i Houlbjerg"},null,null,null,null,null,null,{"$f":"'Puljer runde 3'!$B$3","v":"Runde 3"},{"$f":"CONCATENATE('Puljer runde 3'!$A$25,\".\",'Puljer runde 3'!$M$30)","v":"x.5"}]
[null,"Til hul",{"$f":"'Puljer runde 3'!$L$30","v":0},null,null,null,null,null,null,null,{"$f":"Setup!$B$4","v":"29. juli 2015"}]
[null,null,{"$f":"IF('Puljer runde 3'!B$30=\"\",\"\",'Puljer runde 3'!B$30)","v":"Britta Axelsen"},null,{"$f":"IF('Puljer runde 3'!D$30=\"\",\"\",'Puljer runde 3'!D$30)","v":"Christian Norentoft"},null,{"$f":"IF('Puljer runde 3'!F$30=\"\",\"\",'Puljer runde 3'!F$30)","v":"Juul Thomsen"},null,{"$f":"IF('Puljer runde 3'!H$30=\"\",\"\",'Puljer runde 3'!H$30)","v":"Svend B. G. Laursen"},null,{"$f":"IF('Puljer runde 3'!J$30=\"\",\"\",'Puljer runde 3'!J$30)","v":"Gerda Fogh"}]
[null,null,{"$f":"IF('Puljer runde 3'!C$30=\"\",\"\",'Puljer runde 3'!C$30)","v":"Høst"},null,{"$f":"IF('Puljer runde 3'!E$30=\"\",\"\",'Puljer runde 3'!E$30)","v":"Thorsø"},null,{"$f":"IF('Puljer runde 3'!G$30=\"\",\"\",'Puljer runde 3'!G$30)","v":"Houlbjerg"},null,{"$f":"IF('Puljer runde 3'!I$30=\"\",\"\",'Puljer runde 3'!I$30)","v":"Rønde"},null,{"$f":"IF('Puljer runde 3'!K$30=\"\",\"\",'Puljer runde 3'!K$30)","v":"Hammel"}]
[null,{"$f":"CONCATENATE(\"Hul \",C339)","v":"Hul 0"}]
[null,{"$f":"IF(C339+1 > 12,CONCATENATE(\"Hul \",C339 + 1 - 12),CONCATENATE(\"Hul \",C339 + 1))","v":"Hul 1"}]
[null,{"$f":"IF(C339+2 > 12,CONCATENATE(\"Hul \",C339 + 2 - 12),CONCATENATE(\"Hul \",C339 + 2))","v":"Hul 2"}]
[null,{"$f":"IF(C339+3 > 12,CONCATENATE(\"Hul \",C339 + 3 - 12),CONCATENATE(\"Hul \",C339 + 3))","v":"Hul 3"}]
[null,{"$f":"IF(C339+4 > 12,CONCATENATE(\"Hul \",C339 + 4 - 12),CONCATENATE(\"Hul \",C339 + 4))","v":"Hul 4"}]
[null,{"$f":"IF(C339+5 > 12,CONCATENATE(\"Hul \",C339 + 5 - 12),CONCATENATE(\"Hul \",C339 + 5))","v":"Hul 5"}]
[null,{"$f":"IF(C339+6 > 12,CONCATENATE(\"Hul \",C339 + 6 - 12),CONCATENATE(\"Hul \",C339 + 6))","v":"Hul 6"}]
[null,{"$f":"IF(C339+7 > 12,CONCATENATE(\"Hul \",C339 + 7 - 12),CONCATENATE(\"Hul \",C339 + 7))","v":"Hul 7"}]
[null,{"$f":"IF(C339+8 > 12,CONCATENATE(\"Hul \",C339 + 8 - 12),CONCATENATE(\"Hul \",C339 + 8))","v":"Hul 8"}]
[null,{"$f":"IF(C339+9 > 12,CONCATENATE(\"Hul \",C339 + 9 - 12),CONCATENATE(\"Hul \",C339 + 9))","v":"Hul 9"}]
[null,{"$f":"IF(C339+10 > 12,CONCATENATE(\"Hul \",C339 + 10 - 12),CONCATENATE(\"Hul \",C339 + 10))","v":"Hul 10"}]
[null,{"$f":"IF(C339+11 > 12,CONCATENATE(\"Hul \",C339 + 11 - 12),CONCATENATE(\"Hul \",C339 + 11))","v":"Hul 11"}]
[null,"I alt"]
[null,{"$f":"Setup!$B$8","v":0}]
[null,"Dommer:"]
[]
[]
[null,{"$f":"CONCATENATE(\"       \",'Puljer runde 3'!$A$31)","v":"       0"},null,{"$f":"Setup!$B$2","v":"Minitræf i Houlbjerg"},null,null,null,null,null,null,{"$f":"'Puljer runde 3'!$B$3","v":"Runde 3"},{"$f":"CONCATENATE('Puljer runde 3'!$A$25,\".\",'Puljer runde 3'!$M$31)","v":"x.6"}]
[null,"Til hul",{"$f":"'Puljer runde 3'!$L$31","v":0},null,null,null,null,null,null,null,{"$f":"Setup!$B$4","v":"29. juli 2015"}]
[null,null,{"$f":"IF('Puljer runde 3'!B$31=\"\",\"\",'Puljer runde 3'!B$31)","v":"Lis Lassen"},null,{"$f":"IF('Puljer runde 3'!D$31=\"\",\"\",'Puljer runde 3'!D$31)","v":"Lynge Madsen"},null,{"$f":"IF('Puljer runde 3'!F$31=\"\",\"\",'Puljer runde 3'!F$31)","v":"Grethe Gregersen"},null,{"$f":"IF('Puljer runde 3'!H$31=\"\",\"\",'Puljer runde 3'!H$31)","v":"Marie Petersen"},null,{"$f":"IF('Puljer runde 3'!J$31=\"\",\"\",'Puljer runde 3'!J$31)","v":"Birthe Rosenkvist"}]
[null,null,{"$f":"IF('Puljer runde 3'!C$31=\"\",\"\",'Puljer runde 3'!C$31)","v":"Lystrup"},null,{"$f":"IF('Puljer runde 3'!E$31=\"\",\"\",'Puljer runde 3'!E$31)","v":"Silkeborg"},null,{"$f":"IF('Puljer runde 3'!G$31=\"\",\"\",'Puljer runde 3'!G$31)","v":"Houlbjerg"},null,{"$f":"IF('Puljer runde 3'!I$31=\"\",\"\",'Puljer runde 3'!I$31)","v":"Rønde"},null,{"$f":"IF('Puljer runde 3'!K$31=\"\",\"\",'Puljer runde 3'!K$31)","v":"Hammel"}]
[null,{"$f":"CONCATENATE(\"Hul \",C360)","v":"Hul 0"}]
[null,{"$f":"IF(C360+1 > 12,CONCATENATE(\"Hul \",C360 + 1 - 12),CONCATENATE(\"Hul \",C360 + 1))","v":"Hul 1"}]
[null,{"$f":"IF(C360+2 > 12,CONCATENATE(\"Hul \",C360 + 2 - 12),CONCATENATE(\"Hul \",C360 + 2))","v":"Hul 2"}]
[null,{"$f":"IF(C360+3 > 12,CONCATENATE(\"Hul \",C360 + 3 - 12),CONCATENATE(\"Hul \",C360 + 3))","v":"Hul 3"}]
[null,{"$f":"IF(C360+4 > 12,CONCATENATE(\"Hul \",C360 + 4 - 12),CONCATENATE(\"Hul \",C360 + 4))","v":"Hul 4"}]
[null,{"$f":"IF(C360+5 > 12,CONCATENATE(\"Hul \",C360 + 5 - 12),CONCATENATE(\"Hul \",C360 + 5))","v":"Hul 5"}]
[null,{"$f":"IF(C360+6 > 12,CONCATENATE(\"Hul \",C360 + 6 - 12),CONCATENATE(\"Hul \",C360 + 6))","v":"Hul 6"}]
[null,{"$f":"IF(C360+7 > 12,CONCATENATE(\"Hul \",C360 + 7 - 12),CONCATENATE(\"Hul \",C360 + 7))","v":"Hul 7"}]
[null,{"$f":"IF(C360+8 > 12,CONCATENATE(\"Hul \",C360 + 8 - 12),CONCATENATE(\"Hul \",C360 + 8))","v":"Hul 8"}]
[null,{"$f":"IF(C360+9 > 12,CONCATENATE(\"Hul \",C360 + 9 - 12),CONCATENATE(\"Hul \",C360 + 9))","v":"Hul 9"}]
[null,{"$f":"IF(C360+10 > 12,CONCATENATE(\"Hul \",C360 + 10 - 12),CONCATENATE(\"Hul \",C360 + 10))","v":"Hul 10"}]
[null,{"$f":"IF(C360+11 > 12,CONCATENATE(\"Hul \",C360 + 11 - 12),CONCATENATE(\"Hul \",C360 + 11))","v":"Hul 11"}]
[null,"I alt"]
[null,{"$f":"Setup!$B$8","v":0}]
[null,"Dommer:"]
[]
[]
[null,{"$f":"CONCATENATE(\"       \",'Puljer runde 3'!$A$36)","v":"       "},null,{"$f":"Setup!$B$2","v":"Minitræf i Houlbjerg"},null,null,null,null,null,null,{"$f":"'Puljer runde 3'!$B$3","v":"Runde 3"},{"$f":"CONCATENATE('Puljer runde 3'!$A$35,\".\",'Puljer runde 3'!$M$36)","v":"x.1"}]
[null,"Til hul",{"$f":"'Puljer runde 3'!$L$36","v":0},null,null,null,null,null,null,null,{"$f":"Setup!$B$4","v":"29. juli 2015"}]
[null,null,{"$f":"IF('Puljer runde 3'!B$36=\"\",\"\",'Puljer runde 3'!B$36)","v":"Jens Tvi Holmsgaard"},null,{"$f":"IF('Puljer runde 3'!D$36=\"\",\"\",'Puljer runde 3'!D$36)","v":"Ulla Ravn"},null,{"$f":"IF('Puljer runde 3'!F$36=\"\",\"\",'Puljer runde 3'!F$36)","v":"Erik Lægdsgaard"},null,{"$f":"IF('Puljer runde 3'!H$36=\"\",\"\",'Puljer runde 3'!H$36)","v":"Jørgen Petersen"},null,{"$f":"IF('Puljer runde 3'!J$36=\"\",\"\",'Puljer runde 3'!J$36)","v":"Birgit Svoldgaard"}]
[null,null,{"$f":"IF('Puljer runde 3'!C$36=\"\",\"\",'Puljer runde 3'!C$36)","v":"Lystrup"},null,{"$f":"IF('Puljer runde 3'!E$36=\"\",\"\",'Puljer runde 3'!E$36)","v":"Ulstrup"},null,{"$f":"IF('Puljer runde 3'!G$36=\"\",\"\",'Puljer runde 3'!G$36)","v":"Houlbjerg"},null,{"$f":"IF('Puljer runde 3'!I$36=\"\",\"\",'Puljer runde 3'!I$36)","v":"Rønde"},null,{"$f":"IF('Puljer runde 3'!K$36=\"\",\"\",'Puljer runde 3'!K$36)","v":"Hammel"}]
[null,{"$f":"CONCATENATE(\"Hul \",C381)","v":"Hul 0"}]
[null,{"$f":"IF(C381+1 > 12,CONCATENATE(\"Hul \",C381 + 1 - 12),CONCATENATE(\"Hul \",C381 + 1))","v":"Hul 1"}]
[null,{"$f":"IF(C381+2 > 12,CONCATENATE(\"Hul \",C381 + 2 - 12),CONCATENATE(\"Hul \",C381 + 2))","v":"Hul 2"}]
[null,{"$f":"IF(C381+3 > 12,CONCATENATE(\"Hul \",C381 + 3 - 12),CONCATENATE(\"Hul \",C381 + 3))","v":"Hul 3"}]
[null,{"$f":"IF(C381+4 > 12,CONCATENATE(\"Hul \",C381 + 4 - 12),CONCATENATE(\"Hul \",C381 + 4))","v":"Hul 4"}]
[null,{"$f":"IF(C381+5 > 12,CONCATENATE(\"Hul \",C381 + 5 - 12),CONCATENATE(\"Hul \",C381 + 5))","v":"Hul 5"}]
[null,{"$f":"IF(C381+6 > 12,CONCATENATE(\"Hul \",C381 + 6 - 12),CONCATENATE(\"Hul \",C381 + 6))","v":"Hul 6"}]
[null,{"$f":"IF(C381+7 > 12,CONCATENATE(\"Hul \",C381 + 7 - 12),CONCATENATE(\"Hul \",C381 + 7))","v":"Hul 7"}]
[null,{"$f":"IF(C381+8 > 12,CONCATENATE(\"Hul \",C381 + 8 - 12),CONCATENATE(\"Hul \",C381 + 8))","v":"Hul 8"}]
[null,{"$f":"IF(C381+9 > 12,CONCATENATE(\"Hul \",C381 + 9 - 12),CONCATENATE(\"Hul \",C381 + 9))","v":"Hul 9"}]
[null,{"$f":"IF(C381+10 > 12,CONCATENATE(\"Hul \",C381 + 10 - 12),CONCATENATE(\"Hul \",C381 + 10))","v":"Hul 10"}]
[null,{"$f":"IF(C381+11 > 12,CONCATENATE(\"Hul \",C381 + 11 - 12),CONCATENATE(\"Hul \",C381 + 11))","v":"Hul 11"}]
[null,"I alt"]
[null,{"$f":"Setup!$B$8","v":0}]
[null,"Dommer:"]
[]
[]
[null,{"$f":"CONCATENATE(\"       \",'Puljer runde 3'!$A$37)","v":"       "},null,{"$f":"Setup!$B$2","v":"Minitræf i Houlbjerg"},null,null,null,null,null,null,{"$f":"'Puljer runde 3'!$B$3","v":"Runde 3"},{"$f":"CONCATENATE('Puljer runde 3'!$A$35,\".\",'Puljer runde 3'!$M$37)","v":"x.2"}]
[null,"Til hul",{"$f":"'Puljer runde 3'!$L$37","v":0},null,null,null,null,null,null,null,{"$f":"Setup!$B$4","v":"29. juli 2015"}]
[null,null,{"$f":"IF('Puljer runde 3'!B$37=\"\",\"\",'Puljer runde 3'!B$37)","v":"Christen Jespersen"},null,{"$f":"IF('Puljer runde 3'!D$37=\"\",\"\",'Puljer runde 3'!D$37)","v":"Hans J. Christensen"},null,{"$f":"IF('Puljer runde 3'!F$37=\"\",\"\",'Puljer runde 3'!F$37)","v":"Alice Madsen"},null,{"$f":"IF('Puljer runde 3'!H$37=\"\",\"\",'Puljer runde 3'!H$37)","v":"Hanne Bjerre"},null,{"$f":"IF('Puljer runde 3'!J$37=\"\",\"\",'Puljer runde 3'!J$37)","v":"Bente Thomassen"}]
[null,null,{"$f":"IF('Puljer runde 3'!C$37=\"\",\"\",'Puljer runde 3'!C$37)","v":"Lystrup"},null,{"$f":"IF('Puljer runde 3'!E$37=\"\",\"\",'Puljer runde 3'!E$37)","v":"Ulstrup"},null,{"$f":"IF('Puljer runde 3'!G$37=\"\",\"\",'Puljer runde 3'!G$37)","v":"Høst"},null,{"$f":"IF('Puljer runde 3'!I$37=\"\",\"\",'Puljer runde 3'!I$37)","v":"Pindstrup"},null,{"$f":"IF('Puljer runde 3'!K$37=\"\",\"\",'Puljer runde 3'!K$37)","v":"Bjerregrav"}]
[null,{"$f":"CONCATENATE(\"Hul \",C402)","v":"Hul 0"}]
[null,{"$f":"IF(C402+1 > 12,CONCATENATE(\"Hul \",C402 + 1 - 12),CONCATENATE(\"Hul \",C402 + 1))","v":"Hul 1"}]
[null,{"$f":"IF(C402+2 > 12,CONCATENATE(\"Hul \",C402 + 2 - 12),CONCATENATE(\"Hul \",C402 + 2))","v":"Hul 2"}]
[null,{"$f":"IF(C402+3 > 12,CONCATENATE(\"Hul \",C402 + 3 - 12),CONCATENATE(\"Hul \",C402 + 3))","v":"Hul 3"}]
[null,{"$f":"IF(C402+4 > 12,CONCATENATE(\"Hul \",C402 + 4 - 12),CONCATENATE(\"Hul \",C402 + 4))","v":"Hul 4"}]
[null,{"$f":"IF(C402+5 > 12,CONCATENATE(\"Hul \",C402 + 5 - 12),CONCATENATE(\"Hul \",C402 + 5))","v":"Hul 5"}]
[null,{"$f":"IF(C402+6 > 12,CONCATENATE(\"Hul \",C402 + 6 - 12),CONCATENATE(\"Hul \",C402 + 6))","v":"Hul 6"}]
[null,{"$f":"IF(C402+7 > 12,CONCATENATE(\"Hul \",C402 + 7 - 12),CONCATENATE(\"Hul \",C402 + 7))","v":"Hul 7"}]
[null,{"$f":"IF(C402+8 > 12,CONCATENATE(\"Hul \",C402 + 8 - 12),CONCATENATE(\"Hul \",C402 + 8))","v":"Hul 8"}]
[null,{"$f":"IF(C402+9 > 12,CONCATENATE(\"Hul \",C402 + 9 - 12),CONCATENATE(\"Hul \",C402 + 9))","v":"Hul 9"}]
[null,{"$f":"IF(C402+10 > 12,CONCATENATE(\"Hul \",C402 + 10 - 12),CONCATENATE(\"Hul \",C402 + 10))","v":"Hul 10"}]
[null,{"$f":"IF(C402+11 > 12,CONCATENATE(\"Hul \",C402 + 11 - 12),CONCATENATE(\"Hul \",C402 + 11))","v":"Hul 11"}]
[null,"I alt"]
[null,{"$f":"Setup!$B$8","v":0}]
[null,"Dommer:"]
[]
[]
[null,{"$f":"CONCATENATE(\"       \",'Puljer runde 3'!$A$38)","v":"       "},null,{"$f":"Setup!$B$2","v":"Minitræf i Houlbjerg"},null,null,null,null,null,null,{"$f":"'Puljer runde 3'!$B$3","v":"Runde 3"},{"$f":"CONCATENATE('Puljer runde 3'!$A$35,\".\",'Puljer runde 3'!$M$38)","v":"x.3"}]
[null,"Til hul",{"$f":"'Puljer runde 3'!$L$38","v":0},null,null,null,null,null,null,null,{"$f":"Setup!$B$4","v":"29. juli 2015"}]
[null,null,{"$f":"IF('Puljer runde 3'!B$38=\"\",\"\",'Puljer runde 3'!B$38)","v":"Margit Jensen"},null,{"$f":"IF('Puljer runde 3'!D$38=\"\",\"\",'Puljer runde 3'!D$38)","v":"Niels Kofoed"},null,{"$f":"IF('Puljer runde 3'!F$38=\"\",\"\",'Puljer runde 3'!F$38)","v":"Poul Henriksen"},null,{"$f":"IF('Puljer runde 3'!H$38=\"\",\"\",'Puljer runde 3'!H$38)","v":"Lilly Hansen"},null,{"$f":"IF('Puljer runde 3'!J$38=\"\",\"\",'Puljer runde 3'!J$38)","v":"Henning Pedersen"}]
[null,null,{"$f":"IF('Puljer runde 3'!C$38=\"\",\"\",'Puljer runde 3'!C$38)","v":"Høst"},null,{"$f":"IF('Puljer runde 3'!E$38=\"\",\"\",'Puljer runde 3'!E$38)","v":"Tranbjerg"},null,{"$f":"IF('Puljer runde 3'!G$38=\"\",\"\",'Puljer runde 3'!G$38)","v":"Houlbjerg"},null,{"$f":"IF('Puljer runde 3'!I$38=\"\",\"\",'Puljer runde 3'!I$38)","v":"Silkeborg"},null,{"$f":"IF('Puljer runde 3'!K$38=\"\",\"\",'Puljer runde 3'!K$38)","v":"Auning"}]
[null,{"$f":"CONCATENATE(\"Hul \",C423)","v":"Hul 0"}]
[null,{"$f":"IF(C423+1 > 12,CONCATENATE(\"Hul \",C423 + 1 - 12),CONCATENATE(\"Hul \",C423 + 1))","v":"Hul 1"}]
[null,{"$f":"IF(C423+2 > 12,CONCATENATE(\"Hul \",C423 + 2 - 12),CONCATENATE(\"Hul \",C423 + 2))","v":"Hul 2"}]
[null,{"$f":"IF(C423+3 > 12,CONCATENATE(\"Hul \",C423 + 3 - 12),CONCATENATE(\"Hul \",C423 + 3))","v":"Hul 3"}]
[null,{"$f":"IF(C423+4 > 12,CONCATENATE(\"Hul \",C423 + 4 - 12),CONCATENATE(\"Hul \",C423 + 4))","v":"Hul 4"}]
[null,{"$f":"IF(C423+5 > 12,CONCATENATE(\"Hul \",C423 + 5 - 12),CONCATENATE(\"Hul \",C423 + 5))","v":"Hul 5"}]
[null,{"$f":"IF(C423+6 > 12,CONCATENATE(\"Hul \",C423 + 6 - 12),CONCATENATE(\"Hul \",C423 + 6))","v":"Hul 6"}]
[null,{"$f":"IF(C423+7 > 12,CONCATENATE(\"Hul \",C423 + 7 - 12),CONCATENATE(\"Hul \",C423 + 7))","v":"Hul 7"}]
[null,{"$f":"IF(C423+8 > 12,CONCATENATE(\"Hul \",C423 + 8 - 12),CONCATENATE(\"Hul \",C423 + 8))","v":"Hul 8"}]
[null,{"$f":"IF(C423+9 > 12,CONCATENATE(\"Hul \",C423 + 9 - 12),CONCATENATE(\"Hul \",C423 + 9))","v":"Hul 9"}]
[null,{"$f":"IF(C423+10 > 12,CONCATENATE(\"Hul \",C423 + 10 - 12),CONCATENATE(\"Hul \",C423 + 10))","v":"Hul 10"}]
[null,{"$f":"IF(C423+11 > 12,CONCATENATE(\"Hul \",C423 + 11 - 12),CONCATENATE(\"Hul \",C423 + 11))","v":"Hul 11"}]
[null,"I alt"]
[null,{"$f":"Setup!$B$8","v":0}]
[null,"Dommer:"]
[]
[]
[null,{"$f":"CONCATENATE(\"       \",'Puljer runde 3'!$A$39)","v":"       "},null,{"$f":"Setup!$B$2","v":"Minitræf i Houlbjerg"},null,null,null,null,null,null,{"$f":"'Puljer runde 3'!$B$3","v":"Runde 3"},{"$f":"CONCATENATE('Puljer runde 3'!$A$35,\".\",'Puljer runde 3'!$M$39)","v":"x.4"}]
[null,"Til hul",{"$f":"'Puljer runde 3'!$L$39","v":0},null,null,null,null,null,null,null,{"$f":"Setup!$B$4","v":"29. juli 2015"}]
[null,null,{"$f":"IF('Puljer runde 3'!B$39=\"\",\"\",'Puljer runde 3'!B$39)","v":"Knud Frederiksen"},null,{"$f":"IF('Puljer runde 3'!D$39=\"\",\"\",'Puljer runde 3'!D$39)","v":"Grethe Thøgersen"},null,{"$f":"IF('Puljer runde 3'!F$39=\"\",\"\",'Puljer runde 3'!F$39)","v":"Lissi Thomsen"},null,{"$f":"IF('Puljer runde 3'!H$39=\"\",\"\",'Puljer runde 3'!H$39)","v":"Hanne Else Knudsen"},null,{"$f":"IF('Puljer runde 3'!J$39=\"\",\"\",'Puljer runde 3'!J$39)","v":"Børge Jensen"}]
[null,null,{"$f":"IF('Puljer runde 3'!C$39=\"\",\"\",'Puljer runde 3'!C$39)","v":"Høst"},null,{"$f":"IF('Puljer runde 3'!E$39=\"\",\"\",'Puljer runde 3'!E$39)","v":"Thorsø"},null,{"$f":"IF('Puljer runde 3'!G$39=\"\",\"\",'Puljer runde 3'!G$39)","v":"Houlbjerg"},null,{"$f":"IF('Puljer runde 3'!I$39=\"\",\"\",'Puljer runde 3'!I$39)","v":"Silkeborg"},null,{"$f":"IF('Puljer runde 3'!K$39=\"\",\"\",'Puljer runde 3'!K$39)","v":"Houlbjerg"}]
[null,{"$f":"CONCATENATE(\"Hul \",C444)","v":"Hul 0"}]
[null,{"$f":"IF(C444+1 > 12,CONCATENATE(\"Hul \",C444 + 1 - 12),CONCATENATE(\"Hul \",C444 + 1))","v":"Hul 1"}]
[null,{"$f":"IF(C444+2 > 12,CONCATENATE(\"Hul \",C444 + 2 - 12),CONCATENATE(\"Hul \",C444 + 2))","v":"Hul 2"}]
[null,{"$f":"IF(C444+3 > 12,CONCATENATE(\"Hul \",C444 + 3 - 12),CONCATENATE(\"Hul \",C444 + 3))","v":"Hul 3"}]
[null,{"$f":"IF(C444+4 > 12,CONCATENATE(\"Hul \",C444 + 4 - 12),CONCATENATE(\"Hul \",C444 + 4))","v":"Hul 4"}]
[null,{"$f":"IF(C444+5 > 12,CONCATENATE(\"Hul \",C444 + 5 - 12),CONCATENATE(\"Hul \",C444 + 5))","v":"Hul 5"}]
[null,{"$f":"IF(C444+6 > 12,CONCATENATE(\"Hul \",C444 + 6 - 12),CONCATENATE(\"Hul \",C444 + 6))","v":"Hul 6"}]
[null,{"$f":"IF(C444+7 > 12,CONCATENATE(\"Hul \",C444 + 7 - 12),CONCATENATE(\"Hul \",C444 + 7))","v":"Hul 7"}]
[null,{"$f":"IF(C444+8 > 12,CONCATENATE(\"Hul \",C444 + 8 - 12),CONCATENATE(\"Hul \",C444 + 8))","v":"Hul 8"}]
[null,{"$f":"IF(C444+9 > 12,CONCATENATE(\"Hul \",C444 + 9 - 12),CONCATENATE(\"Hul \",C444 + 9))","v":"Hul 9"}]
[null,{"$f":"IF(C444+10 > 12,CONCATENATE(\"Hul \",C444 + 10 - 12),CONCATENATE(\"Hul \",C444 + 10))","v":"Hul 10"}]
[null,{"$f":"IF(C444+11 > 12,CONCATENATE(\"Hul \",C444 + 11 - 12),CONCATENATE(\"Hul \",C444 + 11))","v":"Hul 11"}]
[null,"I alt"]
[null,{"$f":"Setup!$B$8","v":0}]
[null,"Dommer:"]
[]
[]
[null,{"$f":"CONCATENATE(\"       \",'Puljer runde 3'!$A$40)","v":"       "},null,{"$f":"Setup!$B$2","v":"Minitræf i Houlbjerg"},null,null,null,null,null,null,{"$f":"'Puljer runde 3'!$B$3","v":"Runde 3"},{"$f":"CONCATENATE('Puljer runde 3'!$A$35,\".\",'Puljer runde 3'!$M$40)","v":"x.5"}]
[null,"Til hul",{"$f":"'Puljer runde 3'!$L$40","v":0},null,null,null,null,null,null,null,{"$f":"Setup!$B$4","v":"29. juli 2015"}]
[null,null,{"$f":"IF('Puljer runde 3'!B$40=\"\",\"\",'Puljer runde 3'!B$40)","v":"Erik Pedersen"},null,{"$f":"IF('Puljer runde 3'!D$40=\"\",\"\",'Puljer runde 3'!D$40)","v":"Erik Thomsen"},null,{"$f":"IF('Puljer runde 3'!F$40=\"\",\"\",'Puljer runde 3'!F$40)","v":"Kurt Thomsen"},null,{"$f":"IF('Puljer runde 3'!H$40=\"\",\"\",'Puljer runde 3'!H$40)","v":"Vagn F. Nielsen"},null,{"$f":"IF('Puljer runde 3'!J$40=\"\",\"\",'Puljer runde 3'!J$40)","v":"Jonna Kjeldsen"}]
[null,null,{"$f":"IF('Puljer runde 3'!C$40=\"\",\"\",'Puljer runde 3'!C$40)","v":"Høst"},null,{"$f":"IF('Puljer runde 3'!E$40=\"\",\"\",'Puljer runde 3'!E$40)","v":"Thorsø"},null,{"$f":"IF('Puljer runde 3'!G$40=\"\",\"\",'Puljer runde 3'!G$40)","v":"Houlbjerg"},null,{"$f":"IF('Puljer runde 3'!I$40=\"\",\"\",'Puljer runde 3'!I$40)","v":"Rønde"},null,{"$f":"IF('Puljer runde 3'!K$40=\"\",\"\",'Puljer runde 3'!K$40)","v":"Hammel"}]
[null,{"$f":"CONCATENATE(\"Hul \",C465)","v":"Hul 0"}]
[null,{"$f":"IF(C465+1 > 12,CONCATENATE(\"Hul \",C465 + 1 - 12),CONCATENATE(\"Hul \",C465 + 1))","v":"Hul 1"}]
[null,{"$f":"IF(C465+2 > 12,CONCATENATE(\"Hul \",C465 + 2 - 12),CONCATENATE(\"Hul \",C465 + 2))","v":"Hul 2"}]
[null,{"$f":"IF(C465+3 > 12,CONCATENATE(\"Hul \",C465 + 3 - 12),CONCATENATE(\"Hul \",C465 + 3))","v":"Hul 3"}]
[null,{"$f":"IF(C465+4 > 12,CONCATENATE(\"Hul \",C465 + 4 - 12),CONCATENATE(\"Hul \",C465 + 4))","v":"Hul 4"}]
[null,{"$f":"IF(C465+5 > 12,CONCATENATE(\"Hul \",C465 + 5 - 12),CONCATENATE(\"Hul \",C465 + 5))","v":"Hul 5"}]
[null,{"$f":"IF(C465+6 > 12,CONCATENATE(\"Hul \",C465 + 6 - 12),CONCATENATE(\"Hul \",C465 + 6))","v":"Hul 6"}]
[null,{"$f":"IF(C465+7 > 12,CONCATENATE(\"Hul \",C465 + 7 - 12),CONCATENATE(\"Hul \",C465 + 7))","v":"Hul 7"}]
[null,{"$f":"IF(C465+8 > 12,CONCATENATE(\"Hul \",C465 + 8 - 12),CONCATENATE(\"Hul \",C465 + 8))","v":"Hul 8"}]
[null,{"$f":"IF(C465+9 > 12,CONCATENATE(\"Hul \",C465 + 9 - 12),CONCATENATE(\"Hul \",C465 + 9))","v":"Hul 9"}]
[null,{"$f":"IF(C465+10 > 12,CONCATENATE(\"Hul \",C465 + 10 - 12),CONCATENATE(\"Hul \",C465 + 10))","v":"Hul 10"}]
[null,{"$f":"IF(C465+11 > 12,CONCATENATE(\"Hul \",C465 + 11 - 12),CONCATENATE(\"Hul \",C465 + 11))","v":"Hul 11"}]
[null,"I alt"]
[null,{"$f":"Setup!$B$8","v":0}]
[null,"Dommer:"]
[]
[]
[null,{"$f":"CONCATENATE(\"       \",'Puljer runde 3'!$A$41)","v":"       "},null,{"$f":"Setup!$B$2","v":"Minitræf i Houlbjerg"},null,null,null,null,null,null,{"$f":"'Puljer runde 3'!$B$3","v":"Runde 3"},{"$f":"CONCATENATE('Puljer runde 3'!$A$35,\".\",'Puljer runde 3'!$M$41)","v":"x.6"}]
[null,"Til hul",{"$f":"'Puljer runde 3'!$L$41","v":0},null,null,null,null,null,null,null,{"$f":"Setup!$B$4","v":"29. juli 2015"}]
[null,null,{"$f":"IF('Puljer runde 3'!B$41=\"\",\"\",'Puljer runde 3'!B$41)","v":"Alma Eriksen"},null,{"$f":"IF('Puljer runde 3'!D$41=\"\",\"\",'Puljer runde 3'!D$41)","v":"Bent Nielsen"},null,{"$f":"IF('Puljer runde 3'!F$41=\"\",\"\",'Puljer runde 3'!F$41)","v":"Jens Henrik Juhl-Larsen"},null,{"$f":"IF('Puljer runde 3'!H$41=\"\",\"\",'Puljer runde 3'!H$41)","v":"Myrna Rasmussen"},null,{"$f":"IF('Puljer runde 3'!J$41=\"\",\"\",'Puljer runde 3'!J$41)","v":"Erik Rosenkvist"}]
[null,null,{"$f":"IF('Puljer runde 3'!C$41=\"\",\"\",'Puljer runde 3'!C$41)","v":"Låsby"},null,{"$f":"IF('Puljer runde 3'!E$41=\"\",\"\",'Puljer runde 3'!E$41)","v":"Thorsø"},null,{"$f":"IF('Puljer runde 3'!G$41=\"\",\"\",'Puljer runde 3'!G$41)","v":"Houlbjerg"},null,{"$f":"IF('Puljer runde 3'!I$41=\"\",\"\",'Puljer runde 3'!I$41)","v":"Rønde"},null,{"$f":"IF('Puljer runde 3'!K$41=\"\",\"\",'Puljer runde 3'!K$41)","v":"Hammel"}]
[null,{"$f":"CONCATENATE(\"Hul \",C486)","v":"Hul 0"}]
[null,{"$f":"IF(C486+1 > 12,CONCATENATE(\"Hul \",C486 + 1 - 12),CONCATENATE(\"Hul \",C486 + 1))","v":"Hul 1"}]
[null,{"$f":"IF(C486+2 > 12,CONCATENATE(\"Hul \",C486 + 2 - 12),CONCATENATE(\"Hul \",C486 + 2))","v":"Hul 2"}]
[null,{"$f":"IF(C486+3 > 12,CONCATENATE(\"Hul \",C486 + 3 - 12),CONCATENATE(\"Hul \",C486 + 3))","v":"Hul 3"}]
[null,{"$f":"IF(C486+4 > 12,CONCATENATE(\"Hul \",C486 + 4 - 12),CONCATENATE(\"Hul \",C486 + 4))","v":"Hul 4"}]
[null,{"$f":"IF(C486+5 > 12,CONCATENATE(\"Hul \",C486 + 5 - 12),CONCATENATE(\"Hul \",C486 + 5))","v":"Hul 5"}]
[null,{"$f":"IF(C486+6 > 12,CONCATENATE(\"Hul \",C486 + 6 - 12),CONCATENATE(\"Hul \",C486 + 6))","v":"Hul 6"}]
[null,{"$f":"IF(C486+7 > 12,CONCATENATE(\"Hul \",C486 + 7 - 12),CONCATENATE(\"Hul \",C486 + 7))","v":"Hul 7"}]
[null,{"$f":"IF(C486+8 > 12,CONCATENATE(\"Hul \",C486 + 8 - 12),CONCATENATE(\"Hul \",C486 + 8))","v":"Hul 8"}]
[null,{"$f":"IF(C486+9 > 12,CONCATENATE(\"Hul \",C486 + 9 - 12),CONCATENATE(\"Hul \",C486 + 9))","v":"Hul 9"}]
[null,{"$f":"IF(C486+10 > 12,CONCATENATE(\"Hul \",C486 + 10 - 12),CONCATENATE(\"Hul \",C486 + 10))","v":"Hul 10"}]
[null,{"$f":"IF(C486+11 > 12,CONCATENATE(\"Hul \",C486 + 11 - 12),CONCATENATE(\"Hul \",C486 + 11))","v":"Hul 11"}]
[null,"I alt"]
[null,{"$f":"Setup!$B$8","v":0}]
[null,"Dommer:"]

{"sheet":"Kampsedler 4","index":12,"n_rows":503,"n_cols":12,"rows_kept":503,"cut":false,"hidden":false,"merged":[[487,4,487,5],[487,6,487,7],[487,8,487,9],[487,10,487,11],[501,1,501,11],[502,1,502,2],[502,3,502,11],[484,1,484,2],[484,3,485,9],[485,10,485,11],[486,1,487,1],[486,2,486,3],[486,4,486,5],[486,6,486,7],[486,8,486,9],[486,10,486,11],[487,2,487,3],[466,4,466,5],[466,6,466,7],[466,8,466,9],[466,10,466,11],[480,1,480,11],[481,1,481,2],[481,3,481,11],[463,1,463,2],[463,3,464,9],[464,10,464,11],[465,1,466,1],[465,2,465,3],[465,4,465,5],[465,6,465,7],[465,8,465,9],[465,10,465,11],[466,2,466,3],[445,4,445,5],[445,6,445,7],[445,8,445,9],[445,10,445,11],[459,1,459,11],[460,1,460,2],[460,3,460,11],[442,1,442,2],[442,3,443,9],[443,10,443,11],[444,1,445,1],[444,2,444,3],[444,4,444,5],[444,6,444,7],[444,8,444,9],[444,10,444,11],[445,2,445,3],[424,4,424,5],[424,6,424,7],[424,8,424,9],[424,10,424,11],[438,1,438,11],[439,1,439,2],[439,3,439,11],[421,1,421,2],[421,3,422,9],[422,10,422,11],[423,1,424,1],[423,2,423,3],[423,4,423,5],[423,6,423,7],[423,8,423,9],[423,10,423,11],[424,2,424,3],[403,4,403,5],[403,6,403,7],[403,8,403,9],[403,10,403,11],[417,1,417,11],[418,1,418,2],[418,3,418,11],[400,1,400,2],[400,3,401,9],[401,10,401,11],[402,1,403,1],[402,2,402,3],[402,4,402,5],[402,6,402,7],[402,8,402,9],[402,10,402,11],[403,2,403,3],[382,4,382,5],[382,6,382,7],[382,8,382,9],[382,10,382,11],[396,1,396,11],[397,1,397,2],[397,3,397,11],[379,1,379,2],[379,3,380,9],[380,10,380,11],[381,1,382,1],[381,2,381,3],[381,4,381,5],[381,6,381,7],[381,8,381,9],[381,10,381,11],[382,2,382,3],[361,4,361,5],[361,6,361,7],[361,8,361,9],[361,10,361,11],[375,1,375,11],[376,1,376,2],[376,3,376,11],[358,1,358,2],[358,3,359,9],[359,10,359,11],[360,1,361,1],[360,2,360,3],[360,4,360,5],[360,6,360,7],[360,8,360,9],[360,10,360,11],[361,2,361,3],[340,4,340,5],[340,6,340,7],[340,8,340,9],[340,10,340,11],[354,1,354,11],[355,1,355,2],[355,3,355,11],[337,1,337,2],[337,3,338,9],[338,10,338,11],[339,1,340,1],[339,2,339,3],[339,4,339,5],[339,6,339,7],[339,8,339,9],[339,10,339,11],[340,2,340,3],[319,4,319,5],[319,6,319,7],[319,8,319,9],[319,10,319,11],[333,1,333,11],[334,1,334,2],[334,3,334,11],[316,1,316,2],[316,3,317,9],[317,10,317,11],[318,1,319,1],[318,2,318,3],[318,4,318,5],[318,6,318,7],[318,8,318,9],[318,10,318,11],[319,2,319,3],[298,4,298,5],[298,6,298,7],[298,8,298,9],[298,10,298,11],[312,1,312,11],[313,1,313,2],[313,3,313,11],[295,1,295,2],[295,3,296,9],[296,10,296,11],[297,1,298,1],[297,2,297,3],[297,4,297,5],[297,6,297,7],[297,8,297,9],[297,10,297,11],[298,2,298,3],[277,4,277,5],[277,6,277,7],[277,8,277,9],[277,10,277,11],[291,1,291,11],[292,1,292,2],[292,3,292,11],[274,1,274,2],[274,3,275,9],[275,10,275,11],[276,1,277,1],[276,2,276,3],[276,4,276,5],[276,6,276,7],[276,8,276,9],[276,10,276,11],[277,2,277,3],[256,4,256,5],[256,6,256,7],[256,8,256,9],[256,10,256,11],[270,1,270,11],[271,1,271,2],[271,3,271,11],[253,1,253,2],[253,3,254,9],[254,10,254,11],[255,1,256,1],[255,2,255,3],[255,4,255,5],[255,6,255,7],[255,8,255,9],[255,10,255,11],[256,2,256,3],[235,4,235,5],[235,6,235,7],[235,8,235,9],[235,10,235,11],[249,1,249,11],[250,1,250,2],[250,3,250,11],[232,1,232,2],[232,3,233,9],[233,10,233,11],[234,1,235,1],[234,2,234,3],[234,4,234,5],[234,6,234,7],[234,8,234,9],[234,10,234,11],[235,2,235,3],[214,4,214,5],[214,6,214,7],[214,8,214,9],[214,10,214,11],[228,1,228,11],[229,1,229,2],[229,3,229,11],[211,1,211,2],[211,3,212,9],[212,10,212,11],[213,1,214,1],[213,2,213,3],[213,4,213,5],[213,6,213,7],[213,8,213,9],[213,10,213,11],[214,2,214,3],[193,4,193,5],[193,6,193,7],[193,8,193,9],[193,10,193,11],[207,1,207,11],[208,1,208,2],[208,3,208,11],[190,1,190,2],[190,3,191,9],[191,10,191,11],[192,1,193,1],[192,2,192,3],[192,4,192,5],[192,6,192,7],[192,8,192,9],[192,10,192,11],[193,2,193,3],[172,4,172,5],[172,6,172,7],[172,8,172,9],[172,10,172,11],[186,1,186,11],[187,1,187,2],[187,3,187,11],[169,1,169,2],[169,3,170,9],[170,10,170,11],[171,1,172,1],[171,2,171,3],[171,4,171,5],[171,6,171,7],[171,8,171,9],[171,10,171,11],[172,2,172,3],[151,4,151,5],[151,6,151,7],[151,8,151,9],[151,10,151,11],[165,1,165,11],[166,1,166,2],[166,3,166,11],[148,1,148,2],[148,3,149,9],[149,10,149,11],[150,1,151,1],[150,2,150,3],[150,4,150,5],[150,6,150,7],[150,8,150,9],[150,10,150,11],[151,2,151,3],[130,4,130,5],[130,6,130,7],[130,8,130,9],[130,10,130,11],[144,1,144,11],[145,1,145,2],[145,3,145,11],[127,1,127,2],[127,3,128,9],[128,10,128,11],[129,1,130,1],[129,2,129,3],[129,4,129,5],[129,6,129,7],[129,8,129,9],[129,10,129,11],[130,2,130,3],[109,4,109,5],[109,6,109,7],[109,8,109,9],[109,10,109,11],[123,1,123,11],[124,1,124,2],[124,3,124,11],[106,1,106,2],[106,3,107,9],[107,10,107,11],[108,1,109,1],[108,2,108,3],[108,4,108,5],[108,6,108,7],[108,8,108,9],[108,10,108,11],[109,2,109,3],[88,4,88,5],[88,6,88,7],[88,8,88,9],[88,10,88,11],[102,1,102,11],[103,1,103,2],[103,3,103,11],[85,1,85,2],[85,3,86,9],[86,10,86,11],[87,1,88,1],[87,2,87,3],[87,4,87,5],[87,6,87,7],[87,8,87,9],[87,10,87,11],[88,2,88,3],[67,4,67,5],[67,6,67,7],[67,8,67,9],[67,10,67,11],[81,1,81,11],[82,1,82,2],[82,3,82,11],[64,1,64,2],[64,3,65,9],[65,10,65,11],[66,1,67,1],[66,2,66,3],[66,4,66,5],[66,6,66,7],[66,8,66,9],[66,10,66,11],[67,2,67,3],[46,4,46,5],[46,6,46,7],[46,8,46,9],[46,10,46,11],[60,1,60,11],[61,1,61,2],[61,3,61,11],[43,1,43,2],[43,3,44,9],[44,10,44,11],[45,1,46,1],[45,2,45,3],[45,4,45,5],[45,6,45,7],[45,8,45,9],[45,10,45,11],[46,2,46,3],[25,4,25,5],[25,6,25,7],[25,8,25,9],[25,10,25,11],[39,1,39,11],[40,1,40,2],[40,3,40,11],[22,1,22,2],[22,3,23,9],[23,10,23,11],[24,1,25,1],[24,2,24,3],[24,4,24,5],[24,6,24,7],[24,8,24,9],[24,10,24,11],[25,2,25,3],[4,4,4,5],[4,6,4,7],[4,8,4,9],[4,10,4,11],[18,1,18,11],[19,1,19,2],[19,3,19,11],[1,1,1,2],[1,3,2,9],[2,10,2,11],[3,1,4,1],[3,2,3,3],[3,4,3,5],[3,6,3,7],[3,8,3,9],[3,10,3,11],[4,2,4,3]]}
[]
[null,{"$f":"CONCATENATE(\"       \",'Puljer runde 4'!$A$6)","v":"       Bane 1"},null,{"$f":"Setup!$B$2","v":"Minitræf i Houlbjerg"},null,null,null,null,null,null,{"$f":"'Puljer runde 4'!$B$3","v":"Runde 4"},{"$f":"CONCATENATE('Puljer runde 4'!$A$5,\".\",'Puljer runde 4'!$M$6)","v":"x.1"}]
[null,"Til hul",{"$f":"'Puljer runde 4'!$L$6","v":0},null,null,null,null,null,null,null,{"$f":"Setup!$B$4","v":"29. juli 2015"}]
[null,null,{"$f":"IF('Puljer runde 4'!B$6=\"\",\"\",'Puljer runde 4'!B$6)","v":"Vagn F. Nielsen"},null,{"$f":"IF('Puljer runde 4'!D$6=\"\",\"\",'Puljer runde 4'!D$6)","v":"Poul Henriksen"},null,{"$f":"IF('Puljer runde 4'!F$6=\"\",\"\",'Puljer runde 4'!F$6)","v":"Ulla Ravn"},null,{"$f":"IF('Puljer runde 4'!H$6=\"\",\"\",'Puljer runde 4'!H$6)","v":"Erik Pedersen"},null,{"$f":"IF('Puljer runde 4'!J$6=\"\",\"\",'Puljer runde 4'!J$6)","v":"Bente Thomassen"}]
[null,null,{"$f":"IF('Puljer runde 4'!C$6=\"\",\"\",'Puljer runde 4'!C$6)","v":"Rønde"},null,{"$f":"IF('Puljer runde 4'!E$6=\"\",\"\",'Puljer runde 4'!E$6)","v":"Houlbjerg"},null,{"$f":"IF('Puljer runde 4'!G$6=\"\",\"\",'Puljer runde 4'!G$6)","v":"Ulstrup"},null,{"$f":"IF('Puljer runde 4'!I$6=\"\",\"\",'Puljer runde 4'!I$6)","v":"Høst"},null,{"$f":"IF('Puljer runde 4'!K$6=\"\",\"\",'Puljer runde 4'!K$6)","v":"Bjerregrav"}]
[null,{"$f":"CONCATENATE(\"Hul \",C3)","v":"Hul 0"}]
[null,{"$f":"IF(C3+1 > 12,CONCATENATE(\"Hul \",C3 + 1 - 12),CONCATENATE(\"Hul \",C3 + 1))","v":"Hul 1"}]
[null,{"$f":"IF(C3+2 > 12,CONCATENATE(\"Hul \",C3 + 2 - 12),CONCATENATE(\"Hul \",C3 + 2))","v":"Hul 2"}]
[null,{"$f":"IF(C3+3 > 12,CONCATENATE(\"Hul \",C3 + 3 - 12),CONCATENATE(\"Hul \",C3 + 3))","v":"Hul 3"}]
[null,{"$f":"IF(C3+4 > 12,CONCATENATE(\"Hul \",C3 + 4 - 12),CONCATENATE(\"Hul \",C3 + 4))","v":"Hul 4"}]
[null,{"$f":"IF(C3+5 > 12,CONCATENATE(\"Hul \",C3 + 5 - 12),CONCATENATE(\"Hul \",C3 + 5))","v":"Hul 5"}]
[null,{"$f":"IF(C3+6 > 12,CONCATENATE(\"Hul \",C3 + 6 - 12),CONCATENATE(\"Hul \",C3 + 6))","v":"Hul 6"}]
[null,{"$f":"IF(C3+7 > 12,CONCATENATE(\"Hul \",C3 + 7 - 12),CONCATENATE(\"Hul \",C3 + 7))","v":"Hul 7"}]
[null,{"$f":"IF(C3+8 > 12,CONCATENATE(\"Hul \",C3 + 8 - 12),CONCATENATE(\"Hul \",C3 + 8))","v":"Hul 8"}]
[null,{"$f":"IF(C3+9 > 12,CONCATENATE(\"Hul \",C3 + 9 - 12),CONCATENATE(\"Hul \",C3 + 9))","v":"Hul 9"}]
[null,{"$f":"IF(C3+10 > 12,CONCATENATE(\"Hul \",C3 + 10 - 12),CONCATENATE(\"Hul \",C3 + 10))","v":"Hul 10"}]
[null,{"$f":"IF(C3+11 > 12,CONCATENATE(\"Hul \",C3 + 11 - 12),CONCATENATE(\"Hul \",C3 + 11))","v":"Hul 11"}]
[null,"I alt"]
[null,{"$f":"Setup!$B$8","v":0}]
[null,"Dommer:"]
[]
[]
[null,{"$f":"CONCATENATE(\"       \",'Puljer runde 4'!$A$7)","v":"       Bane 1"},null,{"$f":"Setup!$B$2","v":"Minitræf i Houlbjerg"},null,null,null,null,null,null,{"$f":"'Puljer runde 4'!$B$3","v":"Runde 4"},{"$f":"CONCATENATE('Puljer runde 4'!$A$5,\".\",'Puljer runde 4'!$M$7)","v":"x.2"}]
[null,"Til hul",{"$f":"'Puljer runde 4'!$L$7","v":0},null,null,null,null,null,null,null,{"$f":"Setup!$B$4","v":"29. juli 2015"}]
[null,null,{"$f":"IF('Puljer runde 4'!B$7=\"\",\"\",'Puljer runde 4'!B$7)","v":"Myrna Rasmussen"},null,{"$f":"IF('Puljer runde 4'!D$7=\"\",\"\",'Puljer runde 4'!D$7)","v":"Lissi Thomsen"},null,{"$f":"IF('Puljer runde 4'!F$7=\"\",\"\",'Puljer runde 4'!F$7)","v":"Hans J. Christensen"},null,{"$f":"IF('Puljer runde 4'!H$7=\"\",\"\",'Puljer runde 4'!H$7)","v":"Alma Eriksen"},null,{"$f":"IF('Puljer runde 4'!J$7=\"\",\"\",'Puljer runde 4'!J$7)","v":"Henning Pedersen"}]
[null,null,{"$f":"IF('Puljer runde 4'!C$7=\"\",\"\",'Puljer runde 4'!C$7)","v":"Rønde"},null,{"$f":"IF('Puljer runde 4'!E$7=\"\",\"\",'Puljer runde 4'!E$7)","v":"Houlbjerg"},null,{"$f":"IF('Puljer runde 4'!G$7=\"\",\"\",'Puljer runde 4'!G$7)","v":"Ulstrup"},null,{"$f":"IF('Puljer runde 4'!I$7=\"\",\"\",'Puljer runde 4'!I$7)","v":"Låsby"},null,{"$f":"IF('Puljer runde 4'!K$7=\"\",\"\",'Puljer runde 4'!K$7)","v":"Auning"}]
[null,{"$f":"CONCATENATE(\"Hul \",C24)","v":"Hul 0"}]
[null,{"$f":"IF(C24+1 > 12,CONCATENATE(\"Hul \",C24 + 1 - 12),CONCATENATE(\"Hul \",C24 + 1))","v":"Hul 1"}]
[null,{"$f":"IF(C24+2 > 12,CONCATENATE(\"Hul \",C24 + 2 - 12),CONCATENATE(\"Hul \",C24 + 2))","v":"Hul 2"}]
[null,{"$f":"IF(C24+3 > 12,CONCATENATE(\"Hul \",C24 + 3 - 12),CONCATENATE(\"Hul \",C24 + 3))","v":"Hul 3"}]
[null,{"$f":"IF(C24+4 > 12,CONCATENATE(\"Hul \",C24 + 4 - 12),CONCATENATE(\"Hul \",C24 + 4))","v":"Hul 4"}]
[null,{"$f":"IF(C24+5 > 12,CONCATENATE(\"Hul \",C24 + 5 - 12),CONCATENATE(\"Hul \",C24 + 5))","v":"Hul 5"}]
[null,{"$f":"IF(C24+6 > 12,CONCATENATE(\"Hul \",C24 + 6 - 12),CONCATENATE(\"Hul \",C24 + 6))","v":"Hul 6"}]
[null,{"$f":"IF(C24+7 > 12,CONCATENATE(\"Hul \",C24 + 7 - 12),CONCATENATE(\"Hul \",C24 + 7))","v":"Hul 7"}]
[null,{"$f":"IF(C24+8 > 12,CONCATENATE(\"Hul \",C24 + 8 - 12),CONCATENATE(\"Hul \",C24 + 8))","v":"Hul 8"}]
[null,{"$f":"IF(C24+9 > 12,CONCATENATE(\"Hul \",C24 + 9 - 12),CONCATENATE(\"Hul \",C24 + 9))","v":"Hul 9"}]
[null,{"$f":"IF(C24+10 > 12,CONCATENATE(\"Hul \",C24 + 10 - 12),CONCATENATE(\"Hul \",C24 + 10))","v":"Hul 10"}]
[null,{"$f":"IF(C24+11 > 12,CONCATENATE(\"Hul \",C24 + 11 - 12),CONCATENATE(\"Hul \",C24 + 11))","v":"Hul 11"}]
[null,"I alt"]
[null,{"$f":"Setup!$B$8","v":0}]
[null,"Dommer:"]
[]
[]
[null,{"$f":"CONCATENATE(\"       \",'Puljer runde 4'!$A$8)","v":"       Bane 1"},null,{"$f":"Setup!$B$2","v":"Minitræf i Houlbjerg"},null,null,null,null,null,null,{"$f":"'Puljer runde 4'!$B$3","v":"Runde 4"},{"$f":"CONCATENATE('Puljer runde 4'!$A$5,\".\",'Puljer runde 4'!$M$8)","v":"x.3"}]
[null,"Til hul",{"$f":"'Puljer runde 4'!$L$8","v":0},null,null,null,null,null,null,null,{"$f":"Setup!$B$4","v":"29. juli 2015"}]
[null,null,{"$f":"IF('Puljer runde 4'!B$8=\"\",\"\",'Puljer runde 4'!B$8)","v":"Jørgen Petersen"},null,{"$f":"IF('Puljer runde 4'!D$8=\"\",\"\",'Puljer runde 4'!D$8)","v":"Kurt Thomsen"},null,{"$f":"IF('Puljer runde 4'!F$8=\"\",\"\",'Puljer runde 4'!F$8)","v":"Niels Kofoed"},null,{"$f":"IF('Puljer runde 4'!H$8=\"\",\"\",'Puljer runde 4'!H$8)","v":"Jens Tvi Holmsgaard"},null,{"$f":"IF('Puljer runde 4'!J$8=\"\",\"\",'Puljer runde 4'!J$8)","v":"Børge Jensen"}]
[null,null,{"$f":"IF('Puljer runde 4'!C$8=\"\",\"\",'Puljer runde 4'!C$8)","v":"Rønde"},null,{"$f":"IF('Puljer runde 4'!E$8=\"\",\"\",'Puljer runde 4'!E$8)","v":"Houlbjerg"},null,{"$f":"IF('Puljer runde 4'!G$8=\"\",\"\",'Puljer runde 4'!G$8)","v":"Tranbjerg"},null,{"$f":"IF('Puljer runde 4'!I$8=\"\",\"\",'Puljer runde 4'!I$8)","v":"Lystrup"},null,{"$f":"IF('Puljer runde 4'!K$8=\"\",\"\",'Puljer runde 4'!K$8)","v":"Houlbjerg"}]
[null,{"$f":"CONCATENATE(\"Hul \",C45)","v":"Hul 0"}]
[null,{"$f":"IF(C45+1 > 12,CONCATENATE(\"Hul \",C45 + 1 - 12),CONCATENATE(\"Hul \",C45 + 1))","v":"Hul 1"}]
[null,{"$f":"IF(C45+2 > 12,CONCATENATE(\"Hul \",C45 + 2 - 12),CONCATENATE(\"Hul \",C45 + 2))","v":"Hul 2"}]
[null,{"$f":"IF(C45+3 > 12,CONCATENATE(\"Hul \",C45 + 3 - 12),CONCATENATE(\"Hul \",C45 + 3))","v":"Hul 3"}]
[null,{"$f":"IF(C45+4 > 12,CONCATENATE(\"Hul \",C45 + 4 - 12),CONCATENATE(\"Hul \",C45 + 4))","v":"Hul 4"}]
[null,{"$f":"IF(C45+5 > 12,CONCATENATE(\"Hul \",C45 + 5 - 12),CONCATENATE(\"Hul \",C45 + 5))","v":"Hul 5"}]
[null,{"$f":"IF(C45+6 > 12,CONCATENATE(\"Hul \",C45 + 6 - 12),CONCATENATE(\"Hul \",C45 + 6))","v":"Hul 6"}]
[null,{"$f":"IF(C45+7 > 12,CONCATENATE(\"Hul \",C45 + 7 - 12),CONCATENATE(\"Hul \",C45 + 7))","v":"Hul 7"}]
[null,{"$f":"IF(C45+8 > 12,CONCATENATE(\"Hul \",C45 + 8 - 12),CONCATENATE(\"Hul \",C45 + 8))","v":"Hul 8"}]
[null,{"$f":"IF(C45+9 > 12,CONCATENATE(\"Hul \",C45 + 9 - 12),CONCATENATE(\"Hul \",C45 + 9))","v":"Hul 9"}]
[null,{"$f":"IF(C45+10 > 12,CONCATENATE(\"Hul \",C45 + 10 - 12),CONCATENATE(\"Hul \",C45 + 10))","v":"Hul 10"}]
[null,{"$f":"IF(C45+11 > 12,CONCATENATE(\"Hul \",C45 + 11 - 12),CONCATENATE(\"Hul \",C45 + 11))","v":"Hul 11"}]
[null,"I alt"]
[null,{"$f":"Setup!$B$8","v":0}]
[null,"Dommer:"]
[]
[]
[null,{"$f":"CONCATENATE(\"       \",'Puljer runde 4'!$A$9)","v":"       Bane 1"},null,{"$f":"Setup!$B$2","v":"Minitræf i Houlbjerg"},null,null,null,null,null,null,{"$f":"'Puljer runde 4'!$B$3","v":"Runde 4"},{"$f":"CONCATENATE('Puljer runde 4'!$A$5,\".\",'Puljer runde 4'!$M$9)","v":"x.4"}]
[null,"Til hul",{"$f":"'Puljer runde 4'!$L$9","v":0},null,null,null,null,null,null,null,{"$f":"Setup!$B$4","v":"29. juli 2015"}]
[null,null,{"$f":"IF('Puljer runde 4'!B$9=\"\",\"\",'Puljer runde 4'!B$9)","v":"Hanne Bjerre"},null,{"$f":"IF('Puljer runde 4'!D$9=\"\",\"\",'Puljer runde 4'!D$9)","v":"Jens Henrik Juhl-Larsen"},null,{"$f":"IF('Puljer runde 4'!F$9=\"\",\"\",'Puljer runde 4'!F$9)","v":"Grethe Thøgersen"},null,{"$f":"IF('Puljer runde 4'!H$9=\"\",\"\",'Puljer runde 4'!H$9)","v":"Christen Jespersen"},null,{"$f":"IF('Puljer runde 4'!J$9=\"\",\"\",'Puljer runde 4'!J$9)","v":"Jonna Kjeldsen"}]
[null,null,{"$f":"IF('Puljer runde 4'!C$9=\"\",\"\",'Puljer runde 4'!C$9)","v":"Pindstrup"},null,{"$f":"IF('Puljer runde 4'!E$9=\"\",\"\",'Puljer runde 4'!E$9)","v":"Houlbjerg"},null,{"$f":"IF('Puljer runde 4'!G$9=\"\",\"\",'Puljer runde 4'!G$9)","v":"Thorsø"},null,{"$f":"IF('Puljer runde 4'!I$9=\"\",\"\",'Puljer runde 4'!I$9)","v":"Lystrup"},null,{"$f":"IF('Puljer runde 4'!K$9=\"\",\"\",'Puljer runde 4'!K$9)","v":"Hammel"}]
[null,{"$f":"CONCATENATE(\"Hul \",C66)","v":"Hul 0"}]
[null,{"$f":"IF(C66+1 > 12,CONCATENATE(\"Hul \",C66 + 1 - 12),CONCATENATE(\"Hul \",C66 + 1))","v":"Hul 1"}]
[null,{"$f":"IF(C66+2 > 12,CONCATENATE(\"Hul \",C66 + 2 - 12),CONCATENATE(\"Hul \",C66 + 2))","v":"Hul 2"}]
[null,{"$f":"IF(C66+3 > 12,CONCATENATE(\"Hul \",C66 + 3 - 12),CONCATENATE(\"Hul \",C66 + 3))","v":"Hul 3"}]
[null,{"$f":"IF(C66+4 > 12,CONCATENATE(\"Hul \",C66 + 4 - 12),CONCATENATE(\"Hul \",C66 + 4))","v":"Hul 4"}]
[null,{"$f":"IF(C66+5 > 12,CONCATENATE(\"Hul \",C66 + 5 - 12),CONCATENATE(\"Hul \",C66 + 5))","v":"Hul 5"}]
[null,{"$f":"IF(C66+6 > 12,CONCATENATE(\"Hul \",C66 + 6 - 12),CONCATENATE(\"Hul \",C66 + 6))","v":"Hul 6"}]
[null,{"$f":"IF(C66+7 > 12,CONCATENATE(\"Hul \",C66 + 7 - 12),CONCATENATE(\"Hul \",C66 + 7))","v":"Hul 7"}]
[null,{"$f":"IF(C66+8 > 12,CONCATENATE(\"Hul \",C66 + 8 - 12),CONCATENATE(\"Hul \",C66 + 8))","v":"Hul 8"}]
[null,{"$f":"IF(C66+9 > 12,CONCATENATE(\"Hul \",C66 + 9 - 12),CONCATENATE(\"Hul \",C66 + 9))","v":"Hul 9"}]
[null,{"$f":"IF(C66+10 > 12,CONCATENATE(\"Hul \",C66 + 10 - 12),CONCATENATE(\"Hul \",C66 + 10))","v":"Hul 10"}]
[null,{"$f":"IF(C66+11 > 12,CONCATENATE(\"Hul \",C66 + 11 - 12),CONCATENATE(\"Hul \",C66 + 11))","v":"Hul 11"}]
[null,"I alt"]
[null,{"$f":"Setup!$B$8","v":0}]
[null,"Dommer:"]
[]
[]
[null,{"$f":"CONCATENATE(\"       \",'Puljer runde 4'!$A$10)","v":"       Bane 1"},null,{"$f":"Setup!$B$2","v":"Minitræf i Houlbjerg"},null,null,null,null,null,null,{"$f":"'Puljer runde 4'!$B$3","v":"Runde 4"},{"$f":"CONCATENATE('Puljer runde 4'!$A$5,\".\",'Puljer runde 4'!$M$10)","v":"x.5"}]
[null,"Til hul",{"$f":"'Puljer runde 4'!$L$10","v":0},null,null,null,null,null,null,null,{"$f":"Setup!$B$4","v":"29. juli 2015"}]
[null,null,{"$f":"IF('Puljer runde 4'!B$10=\"\",\"\",'Puljer runde 4'!B$10)","v":"Lilly Hansen"},null,{"$f":"IF('Puljer runde 4'!D$10=\"\",\"\",'Puljer runde 4'!D$10)","v":"Erik Lægdsgaard"},null,{"$f":"IF('Puljer runde 4'!F$10=\"\",\"\",'Puljer runde 4'!F$10)","v":"Erik Thomsen"},null,{"$f":"IF('Puljer runde 4'!H$10=\"\",\"\",'Puljer runde 4'!H$10)","v":"Margit Jensen"},null,{"$f":"IF('Puljer runde 4'!J$10=\"\",\"\",'Puljer runde 4'!J$10)","v":"Erik Rosenkvist"}]
[null,null,{"$f":"IF('Puljer runde 4'!C$10=\"\",\"\",'Puljer runde 4'!C$10)","v":"Silkeborg"},null,{"$f":"IF('Puljer runde 4'!E$10=\"\",\"\",'Puljer runde 4'!E$10)","v":"Houlbjerg"},null,{"$f":"IF('Puljer runde 4'!G$10=\"\",\"\",'Puljer runde 4'!G$10)","v":"Thorsø"},null,{"$f":"IF('Puljer runde 4'!I$10=\"\",\"\",'Puljer runde 4'!I$10)","v":"Høst"},null,{"$f":"IF('Puljer runde 4'!K$10=\"\",\"\",'Puljer runde 4'!K$10)","v":"Hammel"}]
[null,{"$f":"CONCATENATE(\"Hul \",C87)","v":"Hul 0"}]
[null,{"$f":"IF(C87+1 > 12,CONCATENATE(\"Hul \",C87 + 1 - 12),CONCATENATE(\"Hul \",C87 + 1))","v":"Hul 1"}]
[null,{"$f":"IF(C87+2 > 12,CONCATENATE(\"Hul \",C87 + 2 - 12),CONCATENATE(\"Hul \",C87 + 2))","v":"Hul 2"}]
[null,{"$f":"IF(C87+3 > 12,CONCATENATE(\"Hul \",C87 + 3 - 12),CONCATENATE(\"Hul \",C87 + 3))","v":"Hul 3"}]
[null,{"$f":"IF(C87+4 > 12,CONCATENATE(\"Hul \",C87 + 4 - 12),CONCATENATE(\"Hul \",C87 + 4))","v":"Hul 4"}]
[null,{"$f":"IF(C87+5 > 12,CONCATENATE(\"Hul \",C87 + 5 - 12),CONCATENATE(\"Hul \",C87 + 5))","v":"Hul 5"}]
[null,{"$f":"IF(C87+6 > 12,CONCATENATE(\"Hul \",C87 + 6 - 12),CONCATENATE(\"Hul \",C87 + 6))","v":"Hul 6"}]
[null,{"$f":"IF(C87+7 > 12,CONCATENATE(\"Hul \",C87 + 7 - 12),CONCATENATE(\"Hul \",C87 + 7))","v":"Hul 7"}]
[null,{"$f":"IF(C87+8 > 12,CONCATENATE(\"Hul \",C87 + 8 - 12),CONCATENATE(\"Hul \",C87 + 8))","v":"Hul 8"}]
[null,{"$f":"IF(C87+9 > 12,CONCATENATE(\"Hul \",C87 + 9 - 12),CONCATENATE(\"Hul \",C87 + 9))","v":"Hul 9"}]
[null,{"$f":"IF(C87+10 > 12,CONCATENATE(\"Hul \",C87 + 10 - 12),CONCATENATE(\"Hul \",C87 + 10))","v":"Hul 10"}]
[null,{"$f":"IF(C87+11 > 12,CONCATENATE(\"Hul \",C87 + 11 - 12),CONCATENATE(\"Hul \",C87 + 11))","v":"Hul 11"}]
[null,"I alt"]
[null,{"$f":"Setup!$B$8","v":0}]
[null,"Dommer:"]
[]
[]
[null,{"$f":"CONCATENATE(\"       \",'Puljer runde 4'!$A$11)","v":"       Bane 1"},null,{"$f":"Setup!$B$2","v":"Minitræf i Houlbjerg"},null,null,null,null,null,null,{"$f":"'Puljer runde 4'!$B$3","v":"Runde 4"},{"$f":"CONCATENATE('Puljer runde 4'!$A$5,\".\",'Puljer runde 4'!$M$11)","v":"x.6"}]
[null,"Til hul",{"$f":"'Puljer runde 4'!$L$11","v":0},null,null,null,null,null,null,null,{"$f":"Setup!$B$4","v":"29. juli 2015"}]
[null,null,{"$f":"IF('Puljer runde 4'!B$11=\"\",\"\",'Puljer runde 4'!B$11)","v":"Hanne Else Knudsen"},null,{"$f":"IF('Puljer runde 4'!D$11=\"\",\"\",'Puljer runde 4'!D$11)","v":"Alice Madsen"},null,{"$f":"IF('Puljer runde 4'!F$11=\"\",\"\",'Puljer runde 4'!F$11)","v":"Bent Nielsen"},null,{"$f":"IF('Puljer runde 4'!H$11=\"\",\"\",'Puljer runde 4'!H$11)","v":"Knud Frederiksen"},null,{"$f":"IF('Puljer runde 4'!J$11=\"\",\"\",'Puljer runde 4'!J$11)","v":"Birgit Svoldgaard"}]
[null,null,{"$f":"IF('Puljer runde 4'!C$11=\"\",\"\",'Puljer runde 4'!C$11)","v":"Silkeborg"},null,{"$f":"IF('Puljer runde 4'!E$11=\"\",\"\",'Puljer runde 4'!E$11)","v":"Høst"},null,{"$f":"IF('Puljer runde 4'!G$11=\"\",\"\",'Puljer runde 4'!G$11)","v":"Thorsø"},null,{"$f":"IF('Puljer runde 4'!I$11=\"\",\"\",'Puljer runde 4'!I$11)","v":"Høst"},null,{"$f":"IF('Puljer runde 4'!K$11=\"\",\"\",'Puljer runde 4'!K$11)","v":"Hammel"}]
[null,{"$f":"CONCATENATE(\"Hul \",C108)","v":"Hul 0"}]
[null,{"$f":"IF(C108+1 > 12,CONCATENATE(\"Hul \",C108 + 1 - 12),CONCATENATE(\"Hul \",C108 + 1))","v":"Hul 1"}]
[null,{"$f":"IF(C108+2 > 12,CONCATENATE(\"Hul \",C108 + 2 - 12),CONCATENATE(\"Hul \",C108 + 2))","v":"Hul 2"}]
[null,{"$f":"IF(C108+3 > 12,CONCATENATE(\"Hul \",C108 + 3 - 12),CONCATENATE(\"Hul \",C108 + 3))","v":"Hul 3"}]
[null,{"$f":"IF(C108+4 > 12,CONCATENATE(\"Hul \",C108 + 4 - 12),CONCATENATE(\"Hul \",C108 + 4))","v":"Hul 4"}]
[null,{"$f":"IF(C108+5 > 12,CONCATENATE(\"Hul \",C108 + 5 - 12),CONCATENATE(\"Hul \",C108 + 5))","v":"Hul 5"}]
[null,{"$f":"IF(C108+6 > 12,CONCATENATE(\"Hul \",C108 + 6 - 12),CONCATENATE(\"Hul \",C108 + 6))","v":"Hul 6"}]
[null,{"$f":"IF(C108+7 > 12,CONCATENATE(\"Hul \",C108 + 7 - 12),CONCATENATE(\"Hul \",C108 + 7))","v":"Hul 7"}]
[null,{"$f":"IF(C108+8 > 12,CONCATENATE(\"Hul \",C108 + 8 - 12),CONCATENATE(\"Hul \",C108 + 8))","v":"Hul 8"}]
[null,{"$f":"IF(C108+9 > 12,CONCATENATE(\"Hul \",C108 + 9 - 12),CONCATENATE(\"Hul \",C108 + 9))","v":"Hul 9"}]
[null,{"$f":"IF(C108+10 > 12,CONCATENATE(\"Hul \",C108 + 10 - 12),CONCATENATE(\"Hul \",C108 + 10))","v":"Hul 10"}]
[null,{"$f":"IF(C108+11 > 12,CONCATENATE(\"Hul \",C108 + 11 - 12),CONCATENATE(\"Hul \",C108 + 11))","v":"Hul 11"}]
[null,"I alt"]
[null,{"$f":"Setup!$B$8","v":0}]
[null,"Dommer:"]
[]
[]
[null,{"$f":"CONCATENATE(\"       \",'Puljer runde 4'!$A$16)","v":"       Bane 2"},null,{"$f":"Setup!$B$2","v":"Minitræf i Houlbjerg"},null,null,null,null,null,null,{"$f":"'Puljer runde 4'!$B$3","v":"Runde 4"},{"$f":"CONCATENATE('Puljer runde 4'!$A$15,\".\",'Puljer runde 4'!$M$16)","v":"x.1"}]
[null,"Til hul",{"$f":"'Puljer runde 4'!$L$16","v":0},null,null,null,null,null,null,null,{"$f":"Setup!$B$4","v":"29. juli 2015"}]
[null,null,{"$f":"IF('Puljer runde 4'!B$16=\"\",\"\",'Puljer runde 4'!B$16)","v":""},null,{"$f":"IF('Puljer runde 4'!D$16=\"\",\"\",'Puljer runde 4'!D$16)","v":""},null,{"$f":"IF('Puljer runde 4'!F$16=\"\",\"\",'Puljer runde 4'!F$16)","v":""},null,{"$f":"IF('Puljer runde 4'!H$16=\"\",\"\",'Puljer runde 4'!H$16)","v":""},null,{"$f":"IF('Puljer runde 4'!J$16=\"\",\"\",'Puljer runde 4'!J$16)","v":""}]
[null,null,{"$f":"IF('Puljer runde 4'!C$16=\"\",\"\",'Puljer runde 4'!C$16)","v":""},null,{"$f":"IF('Puljer runde 4'!E$16=\"\",\"\",'Puljer runde 4'!E$16)","v":""},null,{"$f":"IF('Puljer runde 4'!G$16=\"\",\"\",'Puljer runde 4'!G$16)","v":""},null,{"$f":"IF('Puljer runde 4'!I$16=\"\",\"\",'Puljer runde 4'!I$16)","v":""},null,{"$f":"IF('Puljer runde 4'!K$16=\"\",\"\",'Puljer runde 4'!K$16)","v":""}]
[null,{"$f":"CONCATENATE(\"Hul \",C129)","v":"Hul 0"}]
[null,{"$f":"IF(C129+1 > 12,CONCATENATE(\"Hul \",C129 + 1 - 12),CONCATENATE(\"Hul \",C129 + 1))","v":"Hul 1"}]
[null,{"$f":"IF(C129+2 > 12,CONCATENATE(\"Hul \",C129 + 2 - 12),CONCATENATE(\"Hul \",C129 + 2))","v":"Hul 2"}]
[null,{"$f":"IF(C129+3 > 12,CONCATENATE(\"Hul \",C129 + 3 - 12),CONCATENATE(\"Hul \",C129 + 3))","v":"Hul 3"}]
[null,{"$f":"IF(C129+4 > 12,CONCATENATE(\"Hul \",C129 + 4 - 12),CONCATENATE(\"Hul \",C129 + 4))","v":"Hul 4"}]
[null,{"$f":"IF(C129+5 > 12,CONCATENATE(\"Hul \",C129 + 5 - 12),CONCATENATE(\"Hul \",C129 + 5))","v":"Hul 5"}]
[null,{"$f":"IF(C129+6 > 12,CONCATENATE(\"Hul \",C129 + 6 - 12),CONCATENATE(\"Hul \",C129 + 6))","v":"Hul 6"}]
[null,{"$f":"IF(C129+7 > 12,CONCATENATE(\"Hul \",C129 + 7 - 12),CONCATENATE(\"Hul \",C129 + 7))","v":"Hul 7"}]
[null,{"$f":"IF(C129+8 > 12,CONCATENATE(\"Hul \",C129 + 8 - 12),CONCATENATE(\"Hul \",C129 + 8))","v":"Hul 8"}]
[null,{"$f":"IF(C129+9 > 12,CONCATENATE(\"Hul \",C129 + 9 - 12),CONCATENATE(\"Hul \",C129 + 9))","v":"Hul 9"}]
[null,{"$f":"IF(C129+10 > 12,CONCATENATE(\"Hul \",C129 + 10 - 12),CONCATENATE(\"Hul \",C129 + 10))","v":"Hul 10"}]
[null,{"$f":"IF(C129+11 > 12,CONCATENATE(\"Hul \",C129 + 11 - 12),CONCATENATE(\"Hul \",C129 + 11))","v":"Hul 11"}]
[null,"I alt"]
[null,{"$f":"Setup!$B$8","v":0}]
[null,"Dommer:"]
[]
[]
[null,{"$f":"CONCATENATE(\"       \",'Puljer runde 4'!$A$17)","v":"       Bane 2"},null,{"$f":"Setup!$B$2","v":"Minitræf i Houlbjerg"},null,null,null,null,null,null,{"$f":"'Puljer runde 4'!$B$3","v":"Runde 4"},{"$f":"CONCATENATE('Puljer runde 4'!$A$15,\".\",'Puljer runde 4'!$M$17)","v":"x.2"}]
[null,"Til hul",{"$f":"'Puljer runde 4'!$L$17","v":0},null,null,null,null,null,null,null,{"$f":"Setup!$B$4","v":"29. juli 2015"}]
[null,null,{"$f":"IF('Puljer runde 4'!B$17=\"\",\"\",'Puljer runde 4'!B$17)","v":""},null,{"$f":"IF('Puljer runde 4'!D$17=\"\",\"\",'Puljer runde 4'!D$17)","v":""},null,{"$f":"IF('Puljer runde 4'!F$17=\"\",\"\",'Puljer runde 4'!F$17)","v":""},null,{"$f":"IF('Puljer runde 4'!H$17=\"\",\"\",'Puljer runde 4'!H$17)","v":""},null,{"$f":"IF('Puljer runde 4'!J$17=\"\",\"\",'Puljer runde 4'!J$17)","v":""}]
[null,null,{"$f":"IF('Puljer runde 4'!C$17=\"\",\"\",'Puljer runde 4'!C$17)","v":""},null,{"$f":"IF('Puljer runde 4'!E$17=\"\",\"\",'Puljer runde 4'!E$17)","v":""},null,{"$f":"IF('Puljer runde 4'!G$17=\"\",\"\",'Puljer runde 4'!G$17)","v":""},null,{"$f":"IF('Puljer runde 4'!I$17=\"\",\"\",'Puljer runde 4'!I$17)","v":""},null,{"$f":"IF('Puljer runde 4'!K$17=\"\",\"\",'Puljer runde 4'!K$17)","v":""}]
[null,{"$f":"CONCATENATE(\"Hul \",C150)","v":"Hul 0"}]
[null,{"$f":"IF(C150+1 > 12,CONCATENATE(\"Hul \",C150 + 1 - 12),CONCATENATE(\"Hul \",C150 + 1))","v":"Hul 1"}]
[null,{"$f":"IF(C150+2 > 12,CONCATENATE(\"Hul \",C150 + 2 - 12),CONCATENATE(\"Hul \",C150 + 2))","v":"Hul 2"}]
[null,{"$f":"IF(C150+3 > 12,CONCATENATE(\"Hul \",C150 + 3 - 12),CONCATENATE(\"Hul \",C150 + 3))","v":"Hul 3"}]
[null,{"$f":"IF(C150+4 > 12,CONCATENATE(\"Hul \",C150 + 4 - 12),CONCATENATE(\"Hul \",C150 + 4))","v":"Hul 4"}]
[null,{"$f":"IF(C150+5 > 12,CONCATENATE(\"Hul \",C150 + 5 - 12),CONCATENATE(\"Hul \",C150 + 5))","v":"Hul 5"}]
[null,{"$f":"IF(C150+6 > 12,CONCATENATE(\"Hul \",C150 + 6 - 12),CONCATENATE(\"Hul \",C150 + 6))","v":"Hul 6"}]
[null,{"$f":"IF(C150+7 > 12,CONCATENATE(\"Hul \",C150 + 7 - 12),CONCATENATE(\"Hul \",C150 + 7))","v":"Hul 7"}]
[null,{"$f":"IF(C150+8 > 12,CONCATENATE(\"Hul \",C150 + 8 - 12),CONCATENATE(\"Hul \",C150 + 8))","v":"Hul 8"}]
[null,{"$f":"IF(C150+9 > 12,CONCATENATE(\"Hul \",C150 + 9 - 12),CONCATENATE(\"Hul \",C150 + 9))","v":"Hul 9"}]
[null,{"$f":"IF(C150+10 > 12,CONCATENATE(\"Hul \",C150 + 10 - 12),CONCATENATE(\"Hul \",C150 + 10))","v":"Hul 10"}]
[null,{"$f":"IF(C150+11 > 12,CONCATENATE(\"Hul \",C150 + 11 - 12),CONCATENATE(\"Hul \",C150 + 11))","v":"Hul 11"}]
[null,"I alt"]
[null,{"$f":"Setup!$B$8","v":0}]
[null,"Dommer:"]
[]
[]
[null,{"$f":"CONCATENATE(\"       \",'Puljer runde 4'!$A$18)","v":"       Bane 2"},null,{"$f":"Setup!$B$2","v":"Minitræf i Houlbjerg"},null,null,null,null,null,null,{"$f":"'Puljer runde 4'!$B$3","v":"Runde 4"},{"$f":"CONCATENATE('Puljer runde 4'!$A$15,\".\",'Puljer runde 4'!$M$18)","v":"x.3"}]
[null,"Til hul",{"$f":"'Puljer runde 4'!$L$18","v":0},null,null,null,null,null,null,null,{"$f":"Setup!$B$4","v":"29. juli 2015"}]
[null,null,{"$f":"IF('Puljer runde 4'!B$18=\"\",\"\",'Puljer runde 4'!B$18)","v":""},null,{"$f":"IF('Puljer runde 4'!D$18=\"\",\"\",'Puljer runde 4'!D$18)","v":""},null,{"$f":"IF('Puljer runde 4'!F$18=\"\",\"\",'Puljer runde 4'!F$18)","v":""},null,{"$f":"IF('Puljer runde 4'!H$18=\"\",\"\",'Puljer runde 4'!H$18)","v":""},null,{"$f":"IF('Puljer runde 4'!J$18=\"\",\"\",'Puljer runde 4'!J$18)","v":""}]
[null,null,{"$f":"IF('Puljer runde 4'!C$18=\"\",\"\",'Puljer runde 4'!C$18)","v":""},null,{"$f":"IF('Puljer runde 4'!E$18=\"\",\"\",'Puljer runde 4'!E$18)","v":""},null,{"$f":"IF('Puljer runde 4'!G$18=\"\",\"\",'Puljer runde 4'!G$18)","v":""},null,{"$f":"IF('Puljer runde 4'!I$18=\"\",\"\",'Puljer runde 4'!I$18)","v":""},null,{"$f":"IF('Puljer runde 4'!K$18=\"\",\"\",'Puljer runde 4'!K$18)","v":""}]
[null,{"$f":"CONCATENATE(\"Hul \",C171)","v":"Hul 0"}]
[null,{"$f":"IF(C171+1 > 12,CONCATENATE(\"Hul \",C171 + 1 - 12),CONCATENATE(\"Hul \",C171 + 1))","v":"Hul 1"}]
[null,{"$f":"IF(C171+2 > 12,CONCATENATE(\"Hul \",C171 + 2 - 12),CONCATENATE(\"Hul \",C171 + 2))","v":"Hul 2"}]
[null,{"$f":"IF(C171+3 > 12,CONCATENATE(\"Hul \",C171 + 3 - 12),CONCATENATE(\"Hul \",C171 + 3))","v":"Hul 3"}]
[null,{"$f":"IF(C171+4 > 12,CONCATENATE(\"Hul \",C171 + 4 - 12),CONCATENATE(\"Hul \",C171 + 4))","v":"Hul 4"}]
[null,{"$f":"IF(C171+5 > 12,CONCATENATE(\"Hul \",C171 + 5 - 12),CONCATENATE(\"Hul \",C171 + 5))","v":"Hul 5"}]
[null,{"$f":"IF(C171+6 > 12,CONCATENATE(\"Hul \",C171 + 6 - 12),CONCATENATE(\"Hul \",C171 + 6))","v":"Hul 6"}]
[null,{"$f":"IF(C171+7 > 12,CONCATENATE(\"Hul \",C171 + 7 - 12),CONCATENATE(\"Hul \",C171 + 7))","v":"Hul 7"}]
[null,{"$f":"IF(C171+8 > 12,CONCATENATE(\"Hul \",C171 + 8 - 12),CONCATENATE(\"Hul \",C171 + 8))","v":"Hul 8"}]
[null,{"$f":"IF(C171+9 > 12,CONCATENATE(\"Hul \",C171 + 9 - 12),CONCATENATE(\"Hul \",C171 + 9))","v":"Hul 9"}]
[null,{"$f":"IF(C171+10 > 12,CONCATENATE(\"Hul \",C171 + 10 - 12),CONCATENATE(\"Hul \",C171 + 10))","v":"Hul 10"}]
[null,{"$f":"IF(C171+11 > 12,CONCATENATE(\"Hul \",C171 + 11 - 12),CONCATENATE(\"Hul \",C171 + 11))","v":"Hul 11"}]
[null,"I alt"]
[null,{"$f":"Setup!$B$8","v":0}]
[null,"Dommer:"]
[]
[]
[null,{"$f":"CONCATENATE(\"       \",'Puljer runde 4'!$A$19)","v":"       Bane 2"},null,{"$f":"Setup!$B$2","v":"Minitræf i Houlbjerg"},null,null,null,null,null,null,{"$f":"'Puljer runde 4'!$B$3","v":"Runde 4"},{"$f":"CONCATENATE('Puljer runde 4'!$A$15,\".\",'Puljer runde 4'!$M$19)","v":"x.4"}]
[null,"Til hul",{"$f":"'Puljer runde 4'!$L$19","v":0},null,null,null,null,null,null,null,{"$f":"Setup!$B$4","v":"29. juli 2015"}]
[null,null,{"$f":"IF('Puljer runde 4'!B$19=\"\",\"\",'Puljer runde 4'!B$19)","v":""},null,{"$f":"IF('Puljer runde 4'!D$19=\"\",\"\",'Puljer runde 4'!D$19)","v":""},null,{"$f":"IF('Puljer runde 4'!F$19=\"\",\"\",'Puljer runde 4'!F$19)","v":""},null,{"$f":"IF('Puljer runde 4'!H$19=\"\",\"\",'Puljer runde 4'!H$19)","v":""},null,{"$f":"IF('Puljer runde 4'!J$19=\"\",\"\",'Puljer runde 4'!J$19)","v":""}]
[null,null,{"$f":"IF('Puljer runde 4'!C$19=\"\",\"\",'Puljer runde 4'!C$19)","v":""},null,{"$f":"IF('Puljer runde 4'!E$19=\"\",\"\",'Puljer runde 4'!E$19)","v":""},null,{"$f":"IF('Puljer runde 4'!G$19=\"\",\"\",'Puljer runde 4'!G$19)","v":""},null,{"$f":"IF('Puljer runde 4'!I$19=\"\",\"\",'Puljer runde 4'!I$19)","v":""},null,{"$f":"IF('Puljer runde 4'!K$19=\"\",\"\",'Puljer runde 4'!K$19)","v":""}]
[null,{"$f":"CONCATENATE(\"Hul \",C192)","v":"Hul 0"}]
[null,{"$f":"IF(C192+1 > 12,CONCATENATE(\"Hul \",C192 + 1 - 12),CONCATENATE(\"Hul \",C192 + 1))","v":"Hul 1"}]
[null,{"$f":"IF(C192+2 > 12,CONCATENATE(\"Hul \",C192 + 2 - 12),CONCATENATE(\"Hul \",C192 + 2))","v":"Hul 2"}]
[null,{"$f":"IF(C192+3 > 12,CONCATENATE(\"Hul \",C192 + 3 - 12),CONCATENATE(\"Hul \",C192 + 3))","v":"Hul 3"}]
[null,{"$f":"IF(C192+4 > 12,CONCATENATE(\"Hul \",C192 + 4 - 12),CONCATENATE(\"Hul \",C192 + 4))","v":"Hul 4"}]
[null,{"$f":"IF(C192+5 > 12,CONCATENATE(\"Hul \",C192 + 5 - 12),CONCATENATE(\"Hul \",C192 + 5))","v":"Hul 5"}]
[null,{"$f":"IF(C192+6 > 12,CONCATENATE(\"Hul \",C192 + 6 - 12),CONCATENATE(\"Hul \",C192 + 6))","v":"Hul 6"}]
[null,{"$f":"IF(C192+7 > 12,CONCATENATE(\"Hul \",C192 + 7 - 12),CONCATENATE(\"Hul \",C192 + 7))","v":"Hul 7"}]
[null,{"$f":"IF(C192+8 > 12,CONCATENATE(\"Hul \",C192 + 8 - 12),CONCATENATE(\"Hul \",C192 + 8))","v":"Hul 8"}]
[null,{"$f":"IF(C192+9 > 12,CONCATENATE(\"Hul \",C192 + 9 - 12),CONCATENATE(\"Hul \",C192 + 9))","v":"Hul 9"}]
[null,{"$f":"IF(C192+10 > 12,CONCATENATE(\"Hul \",C192 + 10 - 12),CONCATENATE(\"Hul \",C192 + 10))","v":"Hul 10"}]
[null,{"$f":"IF(C192+11 > 12,CONCATENATE(\"Hul \",C192 + 11 - 12),CONCATENATE(\"Hul \",C192 + 11))","v":"Hul 11"}]
[null,"I alt"]
[null,{"$f":"Setup!$B$8","v":0}]
[null,"Dommer:"]
[]
[]
[null,{"$f":"CONCATENATE(\"       \",'Puljer runde 4'!$A$20)","v":"       Bane 2"},null,{"$f":"Setup!$B$2","v":"Minitræf i Houlbjerg"},null,null,null,null,null,null,{"$f":"'Puljer runde 4'!$B$3","v":"Runde 4"},{"$f":"CONCATENATE('Puljer runde 4'!$A$15,\".\",'Puljer runde 4'!$M$20)","v":"x.5"}]
[null,"Til hul",{"$f":"'Puljer runde 4'!$L$20","v":0},null,null,null,null,null,null,null,{"$f":"Setup!$B$4","v":"29. juli 2015"}]
[null,null,{"$f":"IF('Puljer runde 4'!B$20=\"\",\"\",'Puljer runde 4'!B$20)","v":""},null,{"$f":"IF('Puljer runde 4'!D$20=\"\",\"\",'Puljer runde 4'!D$20)","v":""},null,{"$f":"IF('Puljer runde 4'!F$20=\"\",\"\",'Puljer runde 4'!F$20)","v":""},null,{"$f":"IF('Puljer runde 4'!H$20=\"\",\"\",'Puljer runde 4'!H$20)","v":""},null,{"$f":"IF('Puljer runde 4'!J$20=\"\",\"\",'Puljer runde 4'!J$20)","v":""}]
[null,null,{"$f":"IF('Puljer runde 4'!C$20=\"\",\"\",'Puljer runde 4'!C$20)","v":""},null,{"$f":"IF('Puljer runde 4'!E$20=\"\",\"\",'Puljer runde 4'!E$20)","v":""},null,{"$f":"IF('Puljer runde 4'!G$20=\"\",\"\",'Puljer runde 4'!G$20)","v":""},null,{"$f":"IF('Puljer runde 4'!I$20=\"\",\"\",'Puljer runde 4'!I$20)","v":""},null,{"$f":"IF('Puljer runde 4'!K$20=\"\",\"\",'Puljer runde 4'!K$20)","v":""}]
[null,{"$f":"CONCATENATE(\"Hul \",C213)","v":"Hul 0"}]
[null,{"$f":"IF(C213+1 > 12,CONCATENATE(\"Hul \",C213 + 1 - 12),CONCATENATE(\"Hul \",C213 + 1))","v":"Hul 1"}]
[null,{"$f":"IF(C213+2 > 12,CONCATENATE(\"Hul \",C213 + 2 - 12),CONCATENATE(\"Hul \",C213 + 2))","v":"Hul 2"}]
[null,{"$f":"IF(C213+3 > 12,CONCATENATE(\"Hul \",C213 + 3 - 12),CONCATENATE(\"Hul \",C213 + 3))","v":"Hul 3"}]
[null,{"$f":"IF(C213+4 > 12,CONCATENATE(\"Hul \",C213 + 4 - 12),CONCATENATE(\"Hul \",C213 + 4))","v":"Hul 4"}]
[null,{"$f":"IF(C213+5 > 12,CONCATENATE(\"Hul \",C213 + 5 - 12),CONCATENATE(\"Hul \",C213 + 5))","v":"Hul 5"}]
[null,{"$f":"IF(C213+6 > 12,CONCATENATE(\"Hul \",C213 + 6 - 12),CONCATENATE(\"Hul \",C213 + 6))","v":"Hul 6"}]
[null,{"$f":"IF(C213+7 > 12,CONCATENATE(\"Hul \",C213 + 7 - 12),CONCATENATE(\"Hul \",C213 + 7))","v":"Hul 7"}]
[null,{"$f":"IF(C213+8 > 12,CONCATENATE(\"Hul \",C213 + 8 - 12),CONCATENATE(\"Hul \",C213 + 8))","v":"Hul 8"}]
[null,{"$f":"IF(C213+9 > 12,CONCATENATE(\"Hul \",C213 + 9 - 12),CONCATENATE(\"Hul \",C213 + 9))","v":"Hul 9"}]
[null,{"$f":"IF(C213+10 > 12,CONCATENATE(\"Hul \",C213 + 10 - 12),CONCATENATE(\"Hul \",C213 + 10))","v":"Hul 10"}]
[null,{"$f":"IF(C213+11 > 12,CONCATENATE(\"Hul \",C213 + 11 - 12),CONCATENATE(\"Hul \",C213 + 11))","v":"Hul 11"}]
[null,"I alt"]
[null,{"$f":"Setup!$B$8","v":0}]
[null,"Dommer:"]
[]
[]
[null,{"$f":"CONCATENATE(\"       \",'Puljer runde 4'!$A$21)","v":"       Bane 2"},null,{"$f":"Setup!$B$2","v":"Minitræf i Houlbjerg"},null,null,null,null,null,null,{"$f":"'Puljer runde 4'!$B$3","v":"Runde 4"},{"$f":"CONCATENATE('Puljer runde 4'!$A$15,\".\",'Puljer runde 4'!$M$21)","v":"x.6"}]
[null,"Til hul",{"$f":"'Puljer runde 4'!$L$21","v":0},null,null,null,null,null,null,null,{"$f":"Setup!$B$4","v":"29. juli 2015"}]
[null,null,{"$f":"IF('Puljer runde 4'!B$21=\"\",\"\",'Puljer runde 4'!B$21)","v":""},null,{"$f":"IF('Puljer runde 4'!D$21=\"\",\"\",'Puljer runde 4'!D$21)","v":""},null,{"$f":"IF('Puljer runde 4'!F$21=\"\",\"\",'Puljer runde 4'!F$21)","v":""},null,{"$f":"IF('Puljer runde 4'!H$21=\"\",\"\",'Puljer runde 4'!H$21)","v":""},null,{"$f":"IF('Puljer runde 4'!J$21=\"\",\"\",'Puljer runde 4'!J$21)","v":""}]
[null,null,{"$f":"IF('Puljer runde 4'!C$21=\"\",\"\",'Puljer runde 4'!C$21)","v":""},null,{"$f":"IF('Puljer runde 4'!E$21=\"\",\"\",'Puljer runde 4'!E$21)","v":""},null,{"$f":"IF('Puljer runde 4'!G$21=\"\",\"\",'Puljer runde 4'!G$21)","v":""},null,{"$f":"IF('Puljer runde 4'!I$21=\"\",\"\",'Puljer runde 4'!I$21)","v":""},null,{"$f":"IF('Puljer runde 4'!K$21=\"\",\"\",'Puljer runde 4'!K$21)","v":""}]
[null,{"$f":"CONCATENATE(\"Hul \",C234)","v":"Hul 0"}]
[null,{"$f":"IF(C234+1 > 12,CONCATENATE(\"Hul \",C234 + 1 - 12),CONCATENATE(\"Hul \",C234 + 1))","v":"Hul 1"}]
[null,{"$f":"IF(C234+2 > 12,CONCATENATE(\"Hul \",C234 + 2 - 12),CONCATENATE(\"Hul \",C234 + 2))","v":"Hul 2"}]
[null,{"$f":"IF(C234+3 > 12,CONCATENATE(\"Hul \",C234 + 3 - 12),CONCATENATE(\"Hul \",C234 + 3))","v":"Hul 3"}]
[null,{"$f":"IF(C234+4 > 12,CONCATENATE(\"Hul \",C234 + 4 - 12),CONCATENATE(\"Hul \",C234 + 4))","v":"Hul 4"}]
[null,{"$f":"IF(C234+5 > 12,CONCATENATE(\"Hul \",C234 + 5 - 12),CONCATENATE(\"Hul \",C234 + 5))","v":"Hul 5"}]
[null,{"$f":"IF(C234+6 > 12,CONCATENATE(\"Hul \",C234 + 6 - 12),CONCATENATE(\"Hul \",C234 + 6))","v":"Hul 6"}]
[null,{"$f":"IF(C234+7 > 12,CONCATENATE(\"Hul \",C234 + 7 - 12),CONCATENATE(\"Hul \",C234 + 7))","v":"Hul 7"}]
[null,{"$f":"IF(C234+8 > 12,CONCATENATE(\"Hul \",C234 + 8 - 12),CONCATENATE(\"Hul \",C234 + 8))","v":"Hul 8"}]
[null,{"$f":"IF(C234+9 > 12,CONCATENATE(\"Hul \",C234 + 9 - 12),CONCATENATE(\"Hul \",C234 + 9))","v":"Hul 9"}]
[null,{"$f":"IF(C234+10 > 12,CONCATENATE(\"Hul \",C234 + 10 - 12),CONCATENATE(\"Hul \",C234 + 10))","v":"Hul 10"}]
[null,{"$f":"IF(C234+11 > 12,CONCATENATE(\"Hul \",C234 + 11 - 12),CONCATENATE(\"Hul \",C234 + 11))","v":"Hul 11"}]
[null,"I alt"]
[null,{"$f":"Setup!$B$8","v":0}]
[null,"Dommer:"]
[]
[]
[null,{"$f":"CONCATENATE(\"       \",'Puljer runde 4'!$A$26)","v":"       0"},null,{"$f":"Setup!$B$2","v":"Minitræf i Houlbjerg"},null,null,null,null,null,null,{"$f":"'Puljer runde 4'!$B$3","v":"Runde 4"},{"$f":"CONCATENATE('Puljer runde 4'!$A$25,\".\",'Puljer runde 4'!$M$26)","v":"x.1"}]
[null,"Til hul",{"$f":"'Puljer runde 4'!$L$26","v":0},null,null,null,null,null,null,null,{"$f":"Setup!$B$4","v":"29. juli 2015"}]
[null,null,{"$f":"IF('Puljer runde 4'!B$26=\"\",\"\",'Puljer runde 4'!B$26)","v":""},null,{"$f":"IF('Puljer runde 4'!D$26=\"\",\"\",'Puljer runde 4'!D$26)","v":""},null,{"$f":"IF('Puljer runde 4'!F$26=\"\",\"\",'Puljer runde 4'!F$26)","v":""},null,{"$f":"IF('Puljer runde 4'!H$26=\"\",\"\",'Puljer runde 4'!H$26)","v":""},null,{"$f":"IF('Puljer runde 4'!J$26=\"\",\"\",'Puljer runde 4'!J$26)","v":""}]
[null,null,{"$f":"IF('Puljer runde 4'!C$26=\"\",\"\",'Puljer runde 4'!C$26)","v":""},null,{"$f":"IF('Puljer runde 4'!E$26=\"\",\"\",'Puljer runde 4'!E$26)","v":""},null,{"$f":"IF('Puljer runde 4'!G$26=\"\",\"\",'Puljer runde 4'!G$26)","v":""},null,{"$f":"IF('Puljer runde 4'!I$26=\"\",\"\",'Puljer runde 4'!I$26)","v":""},null,{"$f":"IF('Puljer runde 4'!K$26=\"\",\"\",'Puljer runde 4'!K$26)","v":""}]
[null,{"$f":"CONCATENATE(\"Hul \",C255)","v":"Hul 0"}]
[null,{"$f":"IF(C255+1 > 12,CONCATENATE(\"Hul \",C255 + 1 - 12),CONCATENATE(\"Hul \",C255 + 1))","v":"Hul 1"}]
[null,{"$f":"IF(C255+2 > 12,CONCATENATE(\"Hul \",C255 + 2 - 12),CONCATENATE(\"Hul \",C255 + 2))","v":"Hul 2"}]
[null,{"$f":"IF(C255+3 > 12,CONCATENATE(\"Hul \",C255 + 3 - 12),CONCATENATE(\"Hul \",C255 + 3))","v":"Hul 3"}]
[null,{"$f":"IF(C255+4 > 12,CONCATENATE(\"Hul \",C255 + 4 - 12),CONCATENATE(\"Hul \",C255 + 4))","v":"Hul 4"}]
[null,{"$f":"IF(C255+5 > 12,CONCATENATE(\"Hul \",C255 + 5 - 12),CONCATENATE(\"Hul \",C255 + 5))","v":"Hul 5"}]
[null,{"$f":"IF(C255+6 > 12,CONCATENATE(\"Hul \",C255 + 6 - 12),CONCATENATE(\"Hul \",C255 + 6))","v":"Hul 6"}]
[null,{"$f":"IF(C255+7 > 12,CONCATENATE(\"Hul \",C255 + 7 - 12),CONCATENATE(\"Hul \",C255 + 7))","v":"Hul 7"}]
[null,{"$f":"IF(C255+8 > 12,CONCATENATE(\"Hul \",C255 + 8 - 12),CONCATENATE(\"Hul \",C255 + 8))","v":"Hul 8"}]
[null,{"$f":"IF(C255+9 > 12,CONCATENATE(\"Hul \",C255 + 9 - 12),CONCATENATE(\"Hul \",C255 + 9))","v":"Hul 9"}]
[null,{"$f":"IF(C255+10 > 12,CONCATENATE(\"Hul \",C255 + 10 - 12),CONCATENATE(\"Hul \",C255 + 10))","v":"Hul 10"}]
[null,{"$f":"IF(C255+11 > 12,CONCATENATE(\"Hul \",C255 + 11 - 12),CONCATENATE(\"Hul \",C255 + 11))","v":"Hul 11"}]
[null,"I alt"]
[null,{"$f":"Setup!$B$8","v":0}]
[null,"Dommer:"]
[]
[]
[null,{"$f":"CONCATENATE(\"       \",'Puljer runde 4'!$A$27)","v":"       0"},null,{"$f":"Setup!$B$2","v":"Minitræf i Houlbjerg"},null,null,null,null,null,null,{"$f":"'Puljer runde 4'!$B$3","v":"Runde 4"},{"$f":"CONCATENATE('Puljer runde 4'!$A$25,\".\",'Puljer runde 4'!$M$27)","v":"x.2"}]
[null,"Til hul",{"$f":"'Puljer runde 4'!$L$27","v":0},null,null,null,null,null,null,null,{"$f":"Setup!$B$4","v":"29. juli 2015"}]
[null,null,{"$f":"IF('Puljer runde 4'!B$27=\"\",\"\",'Puljer runde 4'!B$27)","v":""},null,{"$f":"IF('Puljer runde 4'!D$27=\"\",\"\",'Puljer runde 4'!D$27)","v":""},null,{"$f":"IF('Puljer runde 4'!F$27=\"\",\"\",'Puljer runde 4'!F$27)","v":""},null,{"$f":"IF('Puljer runde 4'!H$27=\"\",\"\",'Puljer runde 4'!H$27)","v":""},null,{"$f":"IF('Puljer runde 4'!J$27=\"\",\"\",'Puljer runde 4'!J$27)","v":""}]
[null,null,{"$f":"IF('Puljer runde 4'!C$27=\"\",\"\",'Puljer runde 4'!C$27)","v":""},null,{"$f":"IF('Puljer runde 4'!E$27=\"\",\"\",'Puljer runde 4'!E$27)","v":""},null,{"$f":"IF('Puljer runde 4'!G$27=\"\",\"\",'Puljer runde 4'!G$27)","v":""},null,{"$f":"IF('Puljer runde 4'!I$27=\"\",\"\",'Puljer runde 4'!I$27)","v":""},null,{"$f":"IF('Puljer runde 4'!K$27=\"\",\"\",'Puljer runde 4'!K$27)","v":""}]
[null,{"$f":"CONCATENATE(\"Hul \",C276)","v":"Hul 0"}]
[null,{"$f":"IF(C276+1 > 12,CONCATENATE(\"Hul \",C276 + 1 - 12),CONCATENATE(\"Hul \",C276 + 1))","v":"Hul 1"}]
[null,{"$f":"IF(C276+2 > 12,CONCATENATE(\"Hul \",C276 + 2 - 12),CONCATENATE(\"Hul \",C276 + 2))","v":"Hul 2"}]
[null,{"$f":"IF(C276+3 > 12,CONCATENATE(\"Hul \",C276 + 3 - 12),CONCATENATE(\"Hul \",C276 + 3))","v":"Hul 3"}]
[null,{"$f":"IF(C276+4 > 12,CONCATENATE(\"Hul \",C276 + 4 - 12),CONCATENATE(\"Hul \",C276 + 4))","v":"Hul 4"}]
[null,{"$f":"IF(C276+5 > 12,CONCATENATE(\"Hul \",C276 + 5 - 12),CONCATENATE(\"Hul \",C276 + 5))","v":"Hul 5"}]
[null,{"$f":"IF(C276+6 > 12,CONCATENATE(\"Hul \",C276 + 6 - 12),CONCATENATE(\"Hul \",C276 + 6))","v":"Hul 6"}]
[null,{"$f":"IF(C276+7 > 12,CONCATENATE(\"Hul \",C276 + 7 - 12),CONCATENATE(\"Hul \",C276 + 7))","v":"Hul 7"}]
[null,{"$f":"IF(C276+8 > 12,CONCATENATE(\"Hul \",C276 + 8 - 12),CONCATENATE(\"Hul \",C276 + 8))","v":"Hul 8"}]
[null,{"$f":"IF(C276+9 > 12,CONCATENATE(\"Hul \",C276 + 9 - 12),CONCATENATE(\"Hul \",C276 + 9))","v":"Hul 9"}]
[null,{"$f":"IF(C276+10 > 12,CONCATENATE(\"Hul \",C276 + 10 - 12),CONCATENATE(\"Hul \",C276 + 10))","v":"Hul 10"}]
[null,{"$f":"IF(C276+11 > 12,CONCATENATE(\"Hul \",C276 + 11 - 12),CONCATENATE(\"Hul \",C276 + 11))","v":"Hul 11"}]
[null,"I alt"]
[null,{"$f":"Setup!$B$8","v":0}]
[null,"Dommer:"]
[]
[]
[null,{"$f":"CONCATENATE(\"       \",'Puljer runde 4'!$A$28)","v":"       0"},null,{"$f":"Setup!$B$2","v":"Minitræf i Houlbjerg"},null,null,null,null,null,null,{"$f":"'Puljer runde 4'!$B$3","v":"Runde 4"},{"$f":"CONCATENATE('Puljer runde 4'!$A$25,\".\",'Puljer runde 4'!$M$28)","v":"x.3"}]
[null,"Til hul",{"$f":"'Puljer runde 4'!$L$28","v":0},null,null,null,null,null,null,null,{"$f":"Setup!$B$4","v":"29. juli 2015"}]
[null,null,{"$f":"IF('Puljer runde 4'!B$28=\"\",\"\",'Puljer runde 4'!B$28)","v":""},null,{"$f":"IF('Puljer runde 4'!D$28=\"\",\"\",'Puljer runde 4'!D$28)","v":""},null,{"$f":"IF('Puljer runde 4'!F$28=\"\",\"\",'Puljer runde 4'!F$28)","v":""},null,{"$f":"IF('Puljer runde 4'!H$28=\"\",\"\",'Puljer runde 4'!H$28)","v":""},null,{"$f":"IF('Puljer runde 4'!J$28=\"\",\"\",'Puljer runde 4'!J$28)","v":""}]
[null,null,{"$f":"IF('Puljer runde 4'!C$28=\"\",\"\",'Puljer runde 4'!C$28)","v":""},null,{"$f":"IF('Puljer runde 4'!E$28=\"\",\"\",'Puljer runde 4'!E$28)","v":""},null,{"$f":"IF('Puljer runde 4'!G$28=\"\",\"\",'Puljer runde 4'!G$28)","v":""},null,{"$f":"IF('Puljer runde 4'!I$28=\"\",\"\",'Puljer runde 4'!I$28)","v":""},null,{"$f":"IF('Puljer runde 4'!K$28=\"\",\"\",'Puljer runde 4'!K$28)","v":""}]
[null,{"$f":"CONCATENATE(\"Hul \",C297)","v":"Hul 0"}]
[null,{"$f":"IF(C297+1 > 12,CONCATENATE(\"Hul \",C297 + 1 - 12),CONCATENATE(\"Hul \",C297 + 1))","v":"Hul 1"}]
[null,{"$f":"IF(C297+2 > 12,CONCATENATE(\"Hul \",C297 + 2 - 12),CONCATENATE(\"Hul \",C297 + 2))","v":"Hul 2"}]
[null,{"$f":"IF(C297+3 > 12,CONCATENATE(\"Hul \",C297 + 3 - 12),CONCATENATE(\"Hul \",C297 + 3))","v":"Hul 3"}]
[null,{"$f":"IF(C297+4 > 12,CONCATENATE(\"Hul \",C297 + 4 - 12),CONCATENATE(\"Hul \",C297 + 4))","v":"Hul 4"}]
[null,{"$f":"IF(C297+5 > 12,CONCATENATE(\"Hul \",C297 + 5 - 12),CONCATENATE(\"Hul \",C297 + 5))","v":"Hul 5"}]
[null,{"$f":"IF(C297+6 > 12,CONCATENATE(\"Hul \",C297 + 6 - 12),CONCATENATE(\"Hul \",C297 + 6))","v":"Hul 6"}]
[null,{"$f":"IF(C297+7 > 12,CONCATENATE(\"Hul \",C297 + 7 - 12),CONCATENATE(\"Hul \",C297 + 7))","v":"Hul 7"}]
[null,{"$f":"IF(C297+8 > 12,CONCATENATE(\"Hul \",C297 + 8 - 12),CONCATENATE(\"Hul \",C297 + 8))","v":"Hul 8"}]
[null,{"$f":"IF(C297+9 > 12,CONCATENATE(\"Hul \",C297 + 9 - 12),CONCATENATE(\"Hul \",C297 + 9))","v":"Hul 9"}]
[null,{"$f":"IF(C297+10 > 12,CONCATENATE(\"Hul \",C297 + 10 - 12),CONCATENATE(\"Hul \",C297 + 10))","v":"Hul 10"}]
[null,{"$f":"IF(C297+11 > 12,CONCATENATE(\"Hul \",C297 + 11 - 12),CONCATENATE(\"Hul \",C297 + 11))","v":"Hul 11"}]
[null,"I alt"]
[null,{"$f":"Setup!$B$8","v":0}]
[null,"Dommer:"]
[]
[]
[null,{"$f":"CONCATENATE(\"       \",'Puljer runde 4'!$A$29)","v":"       0"},null,{"$f":"Setup!$B$2","v":"Minitræf i Houlbjerg"},null,null,null,null,null,null,{"$f":"'Puljer runde 4'!$B$3","v":"Runde 4"},{"$f":"CONCATENATE('Puljer runde 4'!$A$25,\".\",'Puljer runde 4'!$M$29)","v":"x.4"}]
[null,"Til hul",{"$f":"'Puljer runde 4'!$L$29","v":0},null,null,null,null,null,null,null,{"$f":"Setup!$B$4","v":"29. juli 2015"}]
[null,null,{"$f":"IF('Puljer runde 4'!B$29=\"\",\"\",'Puljer runde 4'!B$29)","v":""},null,{"$f":"IF('Puljer runde 4'!D$29=\"\",\"\",'Puljer runde 4'!D$29)","v":""},null,{"$f":"IF('Puljer runde 4'!F$29=\"\",\"\",'Puljer runde 4'!F$29)","v":""},null,{"$f":"IF('Puljer runde 4'!H$29=\"\",\"\",'Puljer runde 4'!H$29)","v":""},null,{"$f":"IF('Puljer runde 4'!J$29=\"\",\"\",'Puljer runde 4'!J$29)","v":""}]
[null,null,{"$f":"IF('Puljer runde 4'!C$29=\"\",\"\",'Puljer runde 4'!C$29)","v":""},null,{"$f":"IF('Puljer runde 4'!E$29=\"\",\"\",'Puljer runde 4'!E$29)","v":""},null,{"$f":"IF('Puljer runde 4'!G$29=\"\",\"\",'Puljer runde 4'!G$29)","v":""},null,{"$f":"IF('Puljer runde 4'!I$29=\"\",\"\",'Puljer runde 4'!I$29)","v":""},null,{"$f":"IF('Puljer runde 4'!K$29=\"\",\"\",'Puljer runde 4'!K$29)","v":""}]
[null,{"$f":"CONCATENATE(\"Hul \",C318)","v":"Hul 0"}]
[null,{"$f":"IF(C318+1 > 12,CONCATENATE(\"Hul \",C318 + 1 - 12),CONCATENATE(\"Hul \",C318 + 1))","v":"Hul 1"}]
[null,{"$f":"IF(C318+2 > 12,CONCATENATE(\"Hul \",C318 + 2 - 12),CONCATENATE(\"Hul \",C318 + 2))","v":"Hul 2"}]
[null,{"$f":"IF(C318+3 > 12,CONCATENATE(\"Hul \",C318 + 3 - 12),CONCATENATE(\"Hul \",C318 + 3))","v":"Hul 3"}]
[null,{"$f":"IF(C318+4 > 12,CONCATENATE(\"Hul \",C318 + 4 - 12),CONCATENATE(\"Hul \",C318 + 4))","v":"Hul 4"}]
[null,{"$f":"IF(C318+5 > 12,CONCATENATE(\"Hul \",C318 + 5 - 12),CONCATENATE(\"Hul \",C318 + 5))","v":"Hul 5"}]
[null,{"$f":"IF(C318+6 > 12,CONCATENATE(\"Hul \",C318 + 6 - 12),CONCATENATE(\"Hul \",C318 + 6))","v":"Hul 6"}]
[null,{"$f":"IF(C318+7 > 12,CONCATENATE(\"Hul \",C318 + 7 - 12),CONCATENATE(\"Hul \",C318 + 7))","v":"Hul 7"}]
[null,{"$f":"IF(C318+8 > 12,CONCATENATE(\"Hul \",C318 + 8 - 12),CONCATENATE(\"Hul \",C318 + 8))","v":"Hul 8"}]
[null,{"$f":"IF(C318+9 > 12,CONCATENATE(\"Hul \",C318 + 9 - 12),CONCATENATE(\"Hul \",C318 + 9))","v":"Hul 9"}]
[null,{"$f":"IF(C318+10 > 12,CONCATENATE(\"Hul \",C318 + 10 - 12),CONCATENATE(\"Hul \",C318 + 10))","v":"Hul 10"}]
[null,{"$f":"IF(C318+11 > 12,CONCATENATE(\"Hul \",C318 + 11 - 12),CONCATENATE(\"Hul \",C318 + 11))","v":"Hul 11"}]
[null,"I alt"]
[null,{"$f":"Setup!$B$8","v":0}]
[null,"Dommer:"]
[]
[]
[null,{"$f":"CONCATENATE(\"       \",'Puljer runde 4'!$A$30)","v":"       0"},null,{"$f":"Setup!$B$2","v":"Minitræf i Houlbjerg"},null,null,null,null,null,null,{"$f":"'Puljer runde 4'!$B$3","v":"Runde 4"},{"$f":"CONCATENATE('Puljer runde 4'!$A$25,\".\",'Puljer runde 4'!$M$30)","v":"x.5"}]
[null,"Til hul",{"$f":"'Puljer runde 4'!$L$30","v":0},null,null,null,null,null,null,null,{"$f":"Setup!$B$4","v":"29. juli 2015"}]
[null,null,{"$f":"IF('Puljer runde 4'!B$30=\"\",\"\",'Puljer runde 4'!B$30)","v":""},null,{"$f":"IF('Puljer runde 4'!D$30=\"\",\"\",'Puljer runde 4'!D$30)","v":""},null,{"$f":"IF('Puljer runde 4'!F$30=\"\",\"\",'Puljer runde 4'!F$30)","v":""},null,{"$f":"IF('Puljer runde 4'!H$30=\"\",\"\",'Puljer runde 4'!H$30)","v":""},null,{"$f":"IF('Puljer runde 4'!J$30=\"\",\"\",'Puljer runde 4'!J$30)","v":""}]
[null,null,{"$f":"IF('Puljer runde 4'!C$30=\"\",\"\",'Puljer runde 4'!C$30)","v":""},null,{"$f":"IF('Puljer runde 4'!E$30=\"\",\"\",'Puljer runde 4'!E$30)","v":""},null,{"$f":"IF('Puljer runde 4'!G$30=\"\",\"\",'Puljer runde 4'!G$30)","v":""},null,{"$f":"IF('Puljer runde 4'!I$30=\"\",\"\",'Puljer runde 4'!I$30)","v":""},null,{"$f":"IF('Puljer runde 4'!K$30=\"\",\"\",'Puljer runde 4'!K$30)","v":""}]
[null,{"$f":"CONCATENATE(\"Hul \",C339)","v":"Hul 0"}]
[null,{"$f":"IF(C339+1 > 12,CONCATENATE(\"Hul \",C339 + 1 - 12),CONCATENATE(\"Hul \",C339 + 1))","v":"Hul 1"}]
[null,{"$f":"IF(C339+2 > 12,CONCATENATE(\"Hul \",C339 + 2 - 12),CONCATENATE(\"Hul \",C339 + 2))","v":"Hul 2"}]
[null,{"$f":"IF(C339+3 > 12,CONCATENATE(\"Hul \",C339 + 3 - 12),CONCATENATE(\"Hul \",C339 + 3))","v":"Hul 3"}]
[null,{"$f":"IF(C339+4 > 12,CONCATENATE(\"Hul \",C339 + 4 - 12),CONCATENATE(\"Hul \",C339 + 4))","v":"Hul 4"}]
[null,{"$f":"IF(C339+5 > 12,CONCATENATE(\"Hul \",C339 + 5 - 12),CONCATENATE(\"Hul \",C339 + 5))","v":"Hul 5"}]
[null,{"$f":"IF(C339+6 > 12,CONCATENATE(\"Hul \",C339 + 6 - 12),CONCATENATE(\"Hul \",C339 + 6))","v":"Hul 6"}]
[null,{"$f":"IF(C339+7 > 12,CONCATENATE(\"Hul \",C339 + 7 - 12),CONCATENATE(\"Hul \",C339 + 7))","v":"Hul 7"}]
[null,{"$f":"IF(C339+8 > 12,CONCATENATE(\"Hul \",C339 + 8 - 12),CONCATENATE(\"Hul \",C339 + 8))","v":"Hul 8"}]
[null,{"$f":"IF(C339+9 > 12,CONCATENATE(\"Hul \",C339 + 9 - 12),CONCATENATE(\"Hul \",C339 + 9))","v":"Hul 9"}]
[null,{"$f":"IF(C339+10 > 12,CONCATENATE(\"Hul \",C339 + 10 - 12),CONCATENATE(\"Hul \",C339 + 10))","v":"Hul 10"}]
[null,{"$f":"IF(C339+11 > 12,CONCATENATE(\"Hul \",C339 + 11 - 12),CONCATENATE(\"Hul \",C339 + 11))","v":"Hul 11"}]
[null,"I alt"]
[null,{"$f":"Setup!$B$8","v":0}]
[null,"Dommer:"]
[]
[]
[null,{"$f":"CONCATENATE(\"       \",'Puljer runde 4'!$A$31)","v":"       0"},null,{"$f":"Setup!$B$2","v":"Minitræf i Houlbjerg"},null,null,null,null,null,null,{"$f":"'Puljer runde 4'!$B$3","v":"Runde 4"},{"$f":"CONCATENATE('Puljer runde 4'!$A$25,\".\",'Puljer runde 4'!$M$31)","v":"x.6"}]
[null,"Til hul",{"$f":"'Puljer runde 4'!$L$31","v":0},null,null,null,null,null,null,null,{"$f":"Setup!$B$4","v":"29. juli 2015"}]
[null,null,{"$f":"IF('Puljer runde 4'!B$31=\"\",\"\",'Puljer runde 4'!B$31)","v":""},null,{"$f":"IF('Puljer runde 4'!D$31=\"\",\"\",'Puljer runde 4'!D$31)","v":""},null,{"$f":"IF('Puljer runde 4'!F$31=\"\",\"\",'Puljer runde 4'!F$31)","v":""},null,{"$f":"IF('Puljer runde 4'!H$31=\"\",\"\",'Puljer runde 4'!H$31)","v":""},null,{"$f":"IF('Puljer runde 4'!J$31=\"\",\"\",'Puljer runde 4'!J$31)","v":""}]
[null,null,{"$f":"IF('Puljer runde 4'!C$31=\"\",\"\",'Puljer runde 4'!C$31)","v":""},null,{"$f":"IF('Puljer runde 4'!E$31=\"\",\"\",'Puljer runde 4'!E$31)","v":""},null,{"$f":"IF('Puljer runde 4'!G$31=\"\",\"\",'Puljer runde 4'!G$31)","v":""},null,{"$f":"IF('Puljer runde 4'!I$31=\"\",\"\",'Puljer runde 4'!I$31)","v":""},null,{"$f":"IF('Puljer runde 4'!K$31=\"\",\"\",'Puljer runde 4'!K$31)","v":""}]
[null,{"$f":"CONCATENATE(\"Hul \",C360)","v":"Hul 0"}]
[null,{"$f":"IF(C360+1 > 12,CONCATENATE(\"Hul \",C360 + 1 - 12),CONCATENATE(\"Hul \",C360 + 1))","v":"Hul 1"}]
[null,{"$f":"IF(C360+2 > 12,CONCATENATE(\"Hul \",C360 + 2 - 12),CONCATENATE(\"Hul \",C360 + 2))","v":"Hul 2"}]
[null,{"$f":"IF(C360+3 > 12,CONCATENATE(\"Hul \",C360 + 3 - 12),CONCATENATE(\"Hul \",C360 + 3))","v":"Hul 3"}]
[null,{"$f":"IF(C360+4 > 12,CONCATENATE(\"Hul \",C360 + 4 - 12),CONCATENATE(\"Hul \",C360 + 4))","v":"Hul 4"}]
[null,{"$f":"IF(C360+5 > 12,CONCATENATE(\"Hul \",C360 + 5 - 12),CONCATENATE(\"Hul \",C360 + 5))","v":"Hul 5"}]
[null,{"$f":"IF(C360+6 > 12,CONCATENATE(\"Hul \",C360 + 6 - 12),CONCATENATE(\"Hul \",C360 + 6))","v":"Hul 6"}]
[null,{"$f":"IF(C360+7 > 12,CONCATENATE(\"Hul \",C360 + 7 - 12),CONCATENATE(\"Hul \",C360 + 7))","v":"Hul 7"}]
[null,{"$f":"IF(C360+8 > 12,CONCATENATE(\"Hul \",C360 + 8 - 12),CONCATENATE(\"Hul \",C360 + 8))","v":"Hul 8"}]
[null,{"$f":"IF(C360+9 > 12,CONCATENATE(\"Hul \",C360 + 9 - 12),CONCATENATE(\"Hul \",C360 + 9))","v":"Hul 9"}]
[null,{"$f":"IF(C360+10 > 12,CONCATENATE(\"Hul \",C360 + 10 - 12),CONCATENATE(\"Hul \",C360 + 10))","v":"Hul 10"}]
[null,{"$f":"IF(C360+11 > 12,CONCATENATE(\"Hul \",C360 + 11 - 12),CONCATENATE(\"Hul \",C360 + 11))","v":"Hul 11"}]
[null,"I alt"]
[null,{"$f":"Setup!$B$8","v":0}]
[null,"Dommer:"]
[]
[]
[null,{"$f":"CONCATENATE(\"       \",'Puljer runde 4'!$A$36)","v":"       "},null,{"$f":"Setup!$B$2","v":"Minitræf i Houlbjerg"},null,null,null,null,null,null,{"$f":"'Puljer runde 4'!$B$3","v":"Runde 4"},{"$f":"CONCATENATE('Puljer runde 4'!$A$35,\".\",'Puljer runde 4'!$M$36)","v":"x.1"}]
[null,"Til hul",{"$f":"'Puljer runde 4'!$L$36","v":0},null,null,null,null,null,null,null,{"$f":"Setup!$B$4","v":"29. juli 2015"}]
[null,null,{"$f":"IF('Puljer runde 4'!B$36=\"\",\"\",'Puljer runde 4'!B$36)","v":"Svend B. G. Laursen"},null,{"$f":"IF('Puljer runde 4'!D$36=\"\",\"\",'Puljer runde 4'!D$36)","v":"Nanny Lægdsgaard"},null,{"$f":"IF('Puljer runde 4'!F$36=\"\",\"\",'Puljer runde 4'!F$36)","v":"Kaj Storgaard"},null,{"$f":"IF('Puljer runde 4'!H$36=\"\",\"\",'Puljer runde 4'!H$36)","v":"Britta Axelsen"},null,{"$f":"IF('Puljer runde 4'!J$36=\"\",\"\",'Puljer runde 4'!J$36)","v":"Maja Pedersen"}]
[null,null,{"$f":"IF('Puljer runde 4'!C$36=\"\",\"\",'Puljer runde 4'!C$36)","v":"Rønde"},null,{"$f":"IF('Puljer runde 4'!E$36=\"\",\"\",'Puljer runde 4'!E$36)","v":"Houlbjerg"},null,{"$f":"IF('Puljer runde 4'!G$36=\"\",\"\",'Puljer runde 4'!G$36)","v":"Ulstrup"},null,{"$f":"IF('Puljer runde 4'!I$36=\"\",\"\",'Puljer runde 4'!I$36)","v":"Høst"},null,{"$f":"IF('Puljer runde 4'!K$36=\"\",\"\",'Puljer runde 4'!K$36)","v":"Auning"}]
[null,{"$f":"CONCATENATE(\"Hul \",C381)","v":"Hul 0"}]
[null,{"$f":"IF(C381+1 > 12,CONCATENATE(\"Hul \",C381 + 1 - 12),CONCATENATE(\"Hul \",C381 + 1))","v":"Hul 1"}]
[null,{"$f":"IF(C381+2 > 12,CONCATENATE(\"Hul \",C381 + 2 - 12),CONCATENATE(\"Hul \",C381 + 2))","v":"Hul 2"}]
[null,{"$f":"IF(C381+3 > 12,CONCATENATE(\"Hul \",C381 + 3 - 12),CONCATENATE(\"Hul \",C381 + 3))","v":"Hul 3"}]
[null,{"$f":"IF(C381+4 > 12,CONCATENATE(\"Hul \",C381 + 4 - 12),CONCATENATE(\"Hul \",C381 + 4))","v":"Hul 4"}]
[null,{"$f":"IF(C381+5 > 12,CONCATENATE(\"Hul \",C381 + 5 - 12),CONCATENATE(\"Hul \",C381 + 5))","v":"Hul 5"}]
[null,{"$f":"IF(C381+6 > 12,CONCATENATE(\"Hul \",C381 + 6 - 12),CONCATENATE(\"Hul \",C381 + 6))","v":"Hul 6"}]
[null,{"$f":"IF(C381+7 > 12,CONCATENATE(\"Hul \",C381 + 7 - 12),CONCATENATE(\"Hul \",C381 + 7))","v":"Hul 7"}]
[null,{"$f":"IF(C381+8 > 12,CONCATENATE(\"Hul \",C381 + 8 - 12),CONCATENATE(\"Hul \",C381 + 8))","v":"Hul 8"}]
[null,{"$f":"IF(C381+9 > 12,CONCATENATE(\"Hul \",C381 + 9 - 12),CONCATENATE(\"Hul \",C381 + 9))","v":"Hul 9"}]
[null,{"$f":"IF(C381+10 > 12,CONCATENATE(\"Hul \",C381 + 10 - 12),CONCATENATE(\"Hul \",C381 + 10))","v":"Hul 10"}]
[null,{"$f":"IF(C381+11 > 12,CONCATENATE(\"Hul \",C381 + 11 - 12),CONCATENATE(\"Hul \",C381 + 11))","v":"Hul 11"}]
[null,"I alt"]
[null,{"$f":"Setup!$B$8","v":0}]
[null,"Dommer:"]
[]
[]
[null,{"$f":"CONCATENATE(\"       \",'Puljer runde 4'!$A$37)","v":"       "},null,{"$f":"Setup!$B$2","v":"Minitræf i Houlbjerg"},null,null,null,null,null,null,{"$f":"'Puljer runde 4'!$B$3","v":"Runde 4"},{"$f":"CONCATENATE('Puljer runde 4'!$A$35,\".\",'Puljer runde 4'!$M$37)","v":"x.2"}]
[null,"Til hul",{"$f":"'Puljer runde 4'!$L$37","v":0},null,null,null,null,null,null,null,{"$f":"Setup!$B$4","v":"29. juli 2015"}]
[null,null,{"$f":"IF('Puljer runde 4'!B$37=\"\",\"\",'Puljer runde 4'!B$37)","v":"Marie Petersen"},null,{"$f":"IF('Puljer runde 4'!D$37=\"\",\"\",'Puljer runde 4'!D$37)","v":"Lisbeth Sørensen"},null,{"$f":"IF('Puljer runde 4'!F$37=\"\",\"\",'Puljer runde 4'!F$37)","v":"Ester Storgaard"},null,{"$f":"IF('Puljer runde 4'!H$37=\"\",\"\",'Puljer runde 4'!H$37)","v":"Lis Lassen"},null,{"$f":"IF('Puljer runde 4'!J$37=\"\",\"\",'Puljer runde 4'!J$37)","v":"Bente Nordmann"}]
[null,null,{"$f":"IF('Puljer runde 4'!C$37=\"\",\"\",'Puljer runde 4'!C$37)","v":"Rønde"},null,{"$f":"IF('Puljer runde 4'!E$37=\"\",\"\",'Puljer runde 4'!E$37)","v":"Houlbjerg"},null,{"$f":"IF('Puljer runde 4'!G$37=\"\",\"\",'Puljer runde 4'!G$37)","v":"Ulstrup"},null,{"$f":"IF('Puljer runde 4'!I$37=\"\",\"\",'Puljer runde 4'!I$37)","v":"Lystrup"},null,{"$f":"IF('Puljer runde 4'!K$37=\"\",\"\",'Puljer runde 4'!K$37)","v":"Auning"}]
[null,{"$f":"CONCATENATE(\"Hul \",C402)","v":"Hul 0"}]
[null,{"$f":"IF(C402+1 > 12,CONCATENATE(\"Hul \",C402 + 1 - 12),CONCATENATE(\"Hul \",C402 + 1))","v":"Hul 1"}]
[null,{"$f":"IF(C402+2 > 12,CONCATENATE(\"Hul \",C402 + 2 - 12),CONCATENATE(\"Hul \",C402 + 2))","v":"Hul 2"}]
[null,{"$f":"IF(C402+3 > 12,CONCATENATE(\"Hul \",C402 + 3 - 12),CONCATENATE(\"Hul \",C402 + 3))","v":"Hul 3"}]
[null,{"$f":"IF(C402+4 > 12,CONCATENATE(\"Hul \",C402 + 4 - 12),CONCATENATE(\"Hul \",C402 + 4))","v":"Hul 4"}]
[null,{"$f":"IF(C402+5 > 12,CONCATENATE(\"Hul \",C402 + 5 - 12),CONCATENATE(\"Hul \",C402 + 5))","v":"Hul 5"}]
[null,{"$f":"IF(C402+6 > 12,CONCATENATE(\"Hul \",C402 + 6 - 12),CONCATENATE(\"Hul \",C402 + 6))","v":"Hul 6"}]
[null,{"$f":"IF(C402+7 > 12,CONCATENATE(\"Hul \",C402 + 7 - 12),CONCATENATE(\"Hul \",C402 + 7))","v":"Hul 7"}]
[null,{"$f":"IF(C402+8 > 12,CONCATENATE(\"Hul \",C402 + 8 - 12),CONCATENATE(\"Hul \",C402 + 8))","v":"Hul 8"}]
[null,{"$f":"IF(C402+9 > 12,CONCATENATE(\"Hul \",C402 + 9 - 12),CONCATENATE(\"Hul \",C402 + 9))","v":"Hul 9"}]
[null,{"$f":"IF(C402+10 > 12,CONCATENATE(\"Hul \",C402 + 10 - 12),CONCATENATE(\"Hul \",C402 + 10))","v":"Hul 10"}]
[null,{"$f":"IF(C402+11 > 12,CONCATENATE(\"Hul \",C402 + 11 - 12),CONCATENATE(\"Hul \",C402 + 11))","v":"Hul 11"}]
[null,"I alt"]
[null,{"$f":"Setup!$B$8","v":0}]
[null,"Dommer:"]
[]
[]
[null,{"$f":"CONCATENATE(\"       \",'Puljer runde 4'!$A$38)","v":"       "},null,{"$f":"Setup!$B$2","v":"Minitræf i Houlbjerg"},null,null,null,null,null,null,{"$f":"'Puljer runde 4'!$B$3","v":"Runde 4"},{"$f":"CONCATENATE('Puljer runde 4'!$A$35,\".\",'Puljer runde 4'!$M$38)","v":"x.3"}]
[null,"Til hul",{"$f":"'Puljer runde 4'!$L$38","v":0},null,null,null,null,null,null,null,{"$f":"Setup!$B$4","v":"29. juli 2015"}]
[null,null,{"$f":"IF('Puljer runde 4'!B$38=\"\",\"\",'Puljer runde 4'!B$38)","v":"Jørgen Bjerre"},null,{"$f":"IF('Puljer runde 4'!D$38=\"\",\"\",'Puljer runde 4'!D$38)","v":"Juul Thomsen"},null,{"$f":"IF('Puljer runde 4'!F$38=\"\",\"\",'Puljer runde 4'!F$38)","v":"Kirsten Nielsen"},null,{"$f":"IF('Puljer runde 4'!H$38=\"\",\"\",'Puljer runde 4'!H$38)","v":"Else-Marie Schmidt"},null,{"$f":"IF('Puljer runde 4'!J$38=\"\",\"\",'Puljer runde 4'!J$38)","v":"Rosa Højgaard"}]
[null,null,{"$f":"IF('Puljer runde 4'!C$38=\"\",\"\",'Puljer runde 4'!C$38)","v":"Pindstrup"},null,{"$f":"IF('Puljer runde 4'!E$38=\"\",\"\",'Puljer runde 4'!E$38)","v":"Houlbjerg"},null,{"$f":"IF('Puljer runde 4'!G$38=\"\",\"\",'Puljer runde 4'!G$38)","v":"Thorsø"},null,{"$f":"IF('Puljer runde 4'!I$38=\"\",\"\",'Puljer runde 4'!I$38)","v":"Lystrup"},null,{"$f":"IF('Puljer runde 4'!K$38=\"\",\"\",'Puljer runde 4'!K$38)","v":"Hammel"}]
[null,{"$f":"CONCATENATE(\"Hul \",C423)","v":"Hul 0"}]
[null,{"$f":"IF(C423+1 > 12,CONCATENATE(\"Hul \",C423 + 1 - 12),CONCATENATE(\"Hul \",C423 + 1))","v":"Hul 1"}]
[null,{"$f":"IF(C423+2 > 12,CONCATENATE(\"Hul \",C423 + 2 - 12),CONCATENATE(\"Hul \",C423 + 2))","v":"Hul 2"}]
[null,{"$f":"IF(C423+3 > 12,CONCATENATE(\"Hul \",C423 + 3 - 12),CONCATENATE(\"Hul \",C423 + 3))","v":"Hul 3"}]
[null,{"$f":"IF(C423+4 > 12,CONCATENATE(\"Hul \",C423 + 4 - 12),CONCATENATE(\"Hul \",C423 + 4))","v":"Hul 4"}]
[null,{"$f":"IF(C423+5 > 12,CONCATENATE(\"Hul \",C423 + 5 - 12),CONCATENATE(\"Hul \",C423 + 5))","v":"Hul 5"}]
[null,{"$f":"IF(C423+6 > 12,CONCATENATE(\"Hul \",C423 + 6 - 12),CONCATENATE(\"Hul \",C423 + 6))","v":"Hul 6"}]
[null,{"$f":"IF(C423+7 > 12,CONCATENATE(\"Hul \",C423 + 7 - 12),CONCATENATE(\"Hul \",C423 + 7))","v":"Hul 7"}]
[null,{"$f":"IF(C423+8 > 12,CONCATENATE(\"Hul \",C423 + 8 - 12),CONCATENATE(\"Hul \",C423 + 8))","v":"Hul 8"}]
[null,{"$f":"IF(C423+9 > 12,CONCATENATE(\"Hul \",C423 + 9 - 12),CONCATENATE(\"Hul \",C423 + 9))","v":"Hul 9"}]
[null,{"$f":"IF(C423+10 > 12,CONCATENATE(\"Hul \",C423 + 10 - 12),CONCATENATE(\"Hul \",C423 + 10))","v":"Hul 10"}]
[null,{"$f":"IF(C423+11 > 12,CONCATENATE(\"Hul \",C423 + 11 - 12),CONCATENATE(\"Hul \",C423 + 11))","v":"Hul 11"}]
[null,"I alt"]
[null,{"$f":"Setup!$B$8","v":0}]
[null,"Dommer:"]
[]
[]
[null,{"$f":"CONCATENATE(\"       \",'Puljer runde 4'!$A$39)","v":"       "},null,{"$f":"Setup!$B$2","v":"Minitræf i Houlbjerg"},null,null,null,null,null,null,{"$f":"'Puljer runde 4'!$B$3","v":"Runde 4"},{"$f":"CONCATENATE('Puljer runde 4'!$A$35,\".\",'Puljer runde 4'!$M$39)","v":"x.4"}]
[null,"Til hul",{"$f":"'Puljer runde 4'!$L$39","v":0},null,null,null,null,null,null,null,{"$f":"Setup!$B$4","v":"29. juli 2015"}]
[null,null,{"$f":"IF('Puljer runde 4'!B$39=\"\",\"\",'Puljer runde 4'!B$39)","v":"Tage Hansen"},null,{"$f":"IF('Puljer runde 4'!D$39=\"\",\"\",'Puljer runde 4'!D$39)","v":"Grethe Gregersen"},null,{"$f":"IF('Puljer runde 4'!F$39=\"\",\"\",'Puljer runde 4'!F$39)","v":"Grethe Thomsen"},null,{"$f":"IF('Puljer runde 4'!H$39=\"\",\"\",'Puljer runde 4'!H$39)","v":"Ulla Bjerring"},null,{"$f":"IF('Puljer runde 4'!J$39=\"\",\"\",'Puljer runde 4'!J$39)","v":"Gerda Fogh"}]
[null,null,{"$f":"IF('Puljer runde 4'!C$39=\"\",\"\",'Puljer runde 4'!C$39)","v":"Låsby"},null,{"$f":"IF('Puljer runde 4'!E$39=\"\",\"\",'Puljer runde 4'!E$39)","v":"Houlbjerg"},null,{"$f":"IF('Puljer runde 4'!G$39=\"\",\"\",'Puljer runde 4'!G$39)","v":"Thorsø"},null,{"$f":"IF('Puljer runde 4'!I$39=\"\",\"\",'Puljer runde 4'!I$39)","v":"Høst"},null,{"$f":"IF('Puljer runde 4'!K$39=\"\",\"\",'Puljer runde 4'!K$39)","v":"Hammel"}]
[null,{"$f":"CONCATENATE(\"Hul \",C444)","v":"Hul 0"}]
[null,{"$f":"IF(C444+1 > 12,CONCATENATE(\"Hul \",C444 + 1 - 12),CONCATENATE(\"Hul \",C444 + 1))","v":"Hul 1"}]
[null,{"$f":"IF(C444+2 > 12,CONCATENATE(\"Hul \",C444 + 2 - 12),CONCATENATE(\"Hul \",C444 + 2))","v":"Hul 2"}]
[null,{"$f":"IF(C444+3 > 12,CONCATENATE(\"Hul \",C444 + 3 - 12),CONCATENATE(\"Hul \",C444 + 3))","v":"Hul 3"}]
[null,{"$f":"IF(C444+4 > 12,CONCATENATE(\"Hul \",C444 + 4 - 12),CONCATENATE(\"Hul \",C444 + 4))","v":"Hul 4"}]
[null,{"$f":"IF(C444+5 > 12,CONCATENATE(\"Hul \",C444 + 5 - 12),CONCATENATE(\"Hul \",C444 + 5))","v":"Hul 5"}]
[null,{"$f":"IF(C444+6 > 12,CONCATENATE(\"Hul \",C444 + 6 - 12),CONCATENATE(\"Hul \",C444 + 6))","v":"Hul 6"}]
[null,{"$f":"IF(C444+7 > 12,CONCATENATE(\"Hul \",C444 + 7 - 12),CONCATENATE(\"Hul \",C444 + 7))","v":"Hul 7"}]
[null,{"$f":"IF(C444+8 > 12,CONCATENATE(\"Hul \",C444 + 8 - 12),CONCATENATE(\"Hul \",C444 + 8))","v":"Hul 8"}]
[null,{"$f":"IF(C444+9 > 12,CONCATENATE(\"Hul \",C444 + 9 - 12),CONCATENATE(\"Hul \",C444 + 9))","v":"Hul 9"}]
[null,{"$f":"IF(C444+10 > 12,CONCATENATE(\"Hul \",C444 + 10 - 12),CONCATENATE(\"Hul \",C444 + 10))","v":"Hul 10"}]
[null,{"$f":"IF(C444+11 > 12,CONCATENATE(\"Hul \",C444 + 11 - 12),CONCATENATE(\"Hul \",C444 + 11))","v":"Hul 11"}]
[null,"I alt"]
[null,{"$f":"Setup!$B$8","v":0}]
[null,"Dommer:"]
[]
[]
[null,{"$f":"CONCATENATE(\"       \",'Puljer runde 4'!$A$40)","v":"       "},null,{"$f":"Setup!$B$2","v":"Minitræf i Houlbjerg"},null,null,null,null,null,null,{"$f":"'Puljer runde 4'!$B$3","v":"Runde 4"},{"$f":"CONCATENATE('Puljer runde 4'!$A$35,\".\",'Puljer runde 4'!$M$40)","v":"x.5"}]
[null,"Til hul",{"$f":"'Puljer runde 4'!$L$40","v":0},null,null,null,null,null,null,null,{"$f":"Setup!$B$4","v":"29. juli 2015"}]
[null,null,{"$f":"IF('Puljer runde 4'!B$40=\"\",\"\",'Puljer runde 4'!B$40)","v":"Henning Larsen"},null,{"$f":"IF('Puljer runde 4'!D$40=\"\",\"\",'Puljer runde 4'!D$40)","v":"Doris Thomsen"},null,{"$f":"IF('Puljer runde 4'!F$40=\"\",\"\",'Puljer runde 4'!F$40)","v":"Christian Norentoft"},null,{"$f":"IF('Puljer runde 4'!H$40=\"\",\"\",'Puljer runde 4'!H$40)","v":"Kurt Rasmussen"},null,{"$f":"IF('Puljer runde 4'!J$40=\"\",\"\",'Puljer runde 4'!J$40)","v":"Birthe Rosenkvist"}]
[null,null,{"$f":"IF('Puljer runde 4'!C$40=\"\",\"\",'Puljer runde 4'!C$40)","v":"Silkeborg"},null,{"$f":"IF('Puljer runde 4'!E$40=\"\",\"\",'Puljer runde 4'!E$40)","v":"Houlbjerg"},null,{"$f":"IF('Puljer runde 4'!G$40=\"\",\"\",'Puljer runde 4'!G$40)","v":"Thorsø"},null,{"$f":"IF('Puljer runde 4'!I$40=\"\",\"\",'Puljer runde 4'!I$40)","v":"Høst"},null,{"$f":"IF('Puljer runde 4'!K$40=\"\",\"\",'Puljer runde 4'!K$40)","v":"Hammel"}]
[null,{"$f":"CONCATENATE(\"Hul \",C465)","v":"Hul 0"}]
[null,{"$f":"IF(C465+1 > 12,CONCATENATE(\"Hul \",C465 + 1 - 12),CONCATENATE(\"Hul \",C465 + 1))","v":"Hul 1"}]
[null,{"$f":"IF(C465+2 > 12,CONCATENATE(\"Hul \",C465 + 2 - 12),CONCATENATE(\"Hul \",C465 + 2))","v":"Hul 2"}]
[null,{"$f":"IF(C465+3 > 12,CONCATENATE(\"Hul \",C465 + 3 - 12),CONCATENATE(\"Hul \",C465 + 3))","v":"Hul 3"}]
[null,{"$f":"IF(C465+4 > 12,CONCATENATE(\"Hul \",C465 + 4 - 12),CONCATENATE(\"Hul \",C465 + 4))","v":"Hul 4"}]
[null,{"$f":"IF(C465+5 > 12,CONCATENATE(\"Hul \",C465 + 5 - 12),CONCATENATE(\"Hul \",C465 + 5))","v":"Hul 5"}]
[null,{"$f":"IF(C465+6 > 12,CONCATENATE(\"Hul \",C465 + 6 - 12),CONCATENATE(\"Hul \",C465 + 6))","v":"Hul 6"}]
[null,{"$f":"IF(C465+7 > 12,CONCATENATE(\"Hul \",C465 + 7 - 12),CONCATENATE(\"Hul \",C465 + 7))","v":"Hul 7"}]
[null,{"$f":"IF(C465+8 > 12,CONCATENATE(\"Hul \",C465 + 8 - 12),CONCATENATE(\"Hul \",C465 + 8))","v":"Hul 8"}]
[null,{"$f":"IF(C465+9 > 12,CONCATENATE(\"Hul \",C465 + 9 - 12),CONCATENATE(\"Hul \",C465 + 9))","v":"Hul 9"}]
[null,{"$f":"IF(C465+10 > 12,CONCATENATE(\"Hul \",C465 + 10 - 12),CONCATENATE(\"Hul \",C465 + 10))","v":"Hul 10"}]
[null,{"$f":"IF(C465+11 > 12,CONCATENATE(\"Hul \",C465 + 11 - 12),CONCATENATE(\"Hul \",C465 + 11))","v":"Hul 11"}]
[null,"I alt"]
[null,{"$f":"Setup!$B$8","v":0}]
[null,"Dommer:"]
[]
[]
[null,{"$f":"CONCATENATE(\"       \",'Puljer runde 4'!$A$41)","v":"       "},null,{"$f":"Setup!$B$2","v":"Minitræf i Houlbjerg"},null,null,null,null,null,null,{"$f":"'Puljer runde 4'!$B$3","v":"Runde 4"},{"$f":"CONCATENATE('Puljer runde 4'!$A$35,\".\",'Puljer runde 4'!$M$41)","v":"x.6"}]
[null,"Til hul",{"$f":"'Puljer runde 4'!$L$41","v":0},null,null,null,null,null,null,null,{"$f":"Setup!$B$4","v":"29. juli 2015"}]
[null,null,{"$f":"IF('Puljer runde 4'!B$41=\"\",\"\",'Puljer runde 4'!B$41)","v":"Ann Gaardsvig"},null,{"$f":"IF('Puljer runde 4'!D$41=\"\",\"\",'Puljer runde 4'!D$41)","v":"Yrsa Sørensen"},null,{"$f":"IF('Puljer runde 4'!F$41=\"\",\"\",'Puljer runde 4'!F$41)","v":"Lynge Madsen"},null,{"$f":"IF('Puljer runde 4'!H$41=\"\",\"\",'Puljer runde 4'!H$41)","v":"Inger Rasmussen"},null,{"$f":"IF('Puljer runde 4'!J$41=\"\",\"\",'Puljer runde 4'!J$41)","v":"Max Thomassen"}]
[null,null,{"$f":"IF('Puljer runde 4'!C$41=\"\",\"\",'Puljer runde 4'!C$41)","v":"Silkeborg"},null,{"$f":"IF('Puljer runde 4'!E$41=\"\",\"\",'Puljer runde 4'!E$41)","v":"Houlbjerg"},null,{"$f":"IF('Puljer runde 4'!G$41=\"\",\"\",'Puljer runde 4'!G$41)","v":"Silkeborg"},null,{"$f":"IF('Puljer runde 4'!I$41=\"\",\"\",'Puljer runde 4'!I$41)","v":"Høst"},null,{"$f":"IF('Puljer runde 4'!K$41=\"\",\"\",'Puljer runde 4'!K$41)","v":"Bjerregrav"}]
[null,{"$f":"CONCATENATE(\"Hul \",C486)","v":"Hul 0"}]
[null,{"$f":"IF(C486+1 > 12,CONCATENATE(\"Hul \",C486 + 1 - 12),CONCATENATE(\"Hul \",C486 + 1))","v":"Hul 1"}]
[null,{"$f":"IF(C486+2 > 12,CONCATENATE(\"Hul \",C486 + 2 - 12),CONCATENATE(\"Hul \",C486 + 2))","v":"Hul 2"}]
[null,{"$f":"IF(C486+3 > 12,CONCATENATE(\"Hul \",C486 + 3 - 12),CONCATENATE(\"Hul \",C486 + 3))","v":"Hul 3"}]
[null,{"$f":"IF(C486+4 > 12,CONCATENATE(\"Hul \",C486 + 4 - 12),CONCATENATE(\"Hul \",C486 + 4))","v":"Hul 4"}]
[null,{"$f":"IF(C486+5 > 12,CONCATENATE(\"Hul \",C486 + 5 - 12),CONCATENATE(\"Hul \",C486 + 5))","v":"Hul 5"}]
[null,{"$f":"IF(C486+6 > 12,CONCATENATE(\"Hul \",C486 + 6 - 12),CONCATENATE(\"Hul \",C486 + 6))","v":"Hul 6"}]
[null,{"$f":"IF(C486+7 > 12,CONCATENATE(\"Hul \",C486 + 7 - 12),CONCATENATE(\"Hul \",C486 + 7))","v":"Hul 7"}]
[null,{"$f":"IF(C486+8 > 12,CONCATENATE(\"Hul \",C486 + 8 - 12),CONCATENATE(\"Hul \",C486 + 8))","v":"Hul 8"}]
[null,{"$f":"IF(C486+9 > 12,CONCATENATE(\"Hul \",C486 + 9 - 12),CONCATENATE(\"Hul \",C486 + 9))","v":"Hul 9"}]
[null,{"$f":"IF(C486+10 > 12,CONCATENATE(\"Hul \",C486 + 10 - 12),CONCATENATE(\"Hul \",C486 + 10))","v":"Hul 10"}]
[null,{"$f":"IF(C486+11 > 12,CONCATENATE(\"Hul \",C486 + 11 - 12),CONCATENATE(\"Hul \",C486 + 11))","v":"Hul 11"}]
[null,"I alt"]
[null,{"$f":"Setup!$B$8","v":0}]
[null,"Dommer:"]

{"sheet":"KampsedlerEns 2","index":13,"n_rows":503,"n_cols":12,"rows_kept":503,"cut":false,"hidden":true,"merged":[[487,4,487,5],[487,6,487,7],[487,8,487,9],[487,10,487,11],[501,1,501,11],[502,1,502,2],[502,3,502,11],[484,1,484,2],[484,3,485,9],[485,10,485,11],[486,1,487,1],[486,2,486,3],[486,4,486,5],[486,6,486,7],[486,8,486,9],[486,10,486,11],[487,2,487,3],[466,4,466,5],[466,6,466,7],[466,8,466,9],[466,10,466,11],[480,1,480,11],[481,1,481,2],[481,3,481,11],[463,1,463,2],[463,3,464,9],[464,10,464,11],[465,1,466,1],[465,2,465,3],[465,4,465,5],[465,6,465,7],[465,8,465,9],[465,10,465,11],[466,2,466,3],[445,4,445,5],[445,6,445,7],[445,8,445,9],[445,10,445,11],[459,1,459,11],[460,1,460,2],[460,3,460,11],[442,1,442,2],[442,3,443,9],[443,10,443,11],[444,1,445,1],[444,2,444,3],[444,4,444,5],[444,6,444,7],[444,8,444,9],[444,10,444,11],[445,2,445,3],[424,4,424,5],[424,6,424,7],[424,8,424,9],[424,10,424,11],[438,1,438,11],[439,1,439,2],[439,3,439,11],[421,1,421,2],[421,3,422,9],[422,10,422,11],[423,1,424,1],[423,2,423,3],[423,4,423,5],[423,6,423,7],[423,8,423,9],[423,10,423,11],[424,2,424,3],[403,4,403,5],[403,6,403,7],[403,8,403,9],[403,10,403,11],[417,1,417,11],[418,1,418,2],[418,3,418,11],[400,1,400,2],[400,3,401,9],[401,10,401,11],[402,1,403,1],[402,2,402,3],[402,4,402,5],[402,6,402,7],[402,8,402,9],[402,10,402,11],[403,2,403,3],[382,4,382,5],[382,6,382,7],[382,8,382,9],[382,10,382,11],[396,1,396,11],[397,1,397,2],[397,3,397,11],[379,1,379,2],[379,3,380,9],[380,10,380,11],[381,1,382,1],[381,2,381,3],[381,4,381,5],[381,6,381,7],[381,8,381,9],[381,10,381,11],[382,2,382,3],[361,4,361,5],[361,6,361,7],[361,8,361,9],[361,10,361,11],[375,1,375,11],[376,1,376,2],[376,3,376,11],[358,1,358,2],[358,3,359,9],[359,10,359,11],[360,1,361,1],[360,2,360,3],[360,4,360,5],[360,6,360,7],[360,8,360,9],[360,10,360,11],[361,2,361,3],[340,4,340,5],[340,6,340,7],[340,8,340,9],[340,10,340,11],[354,1,354,11],[355,1,355,2],[355,3,355,11],[337,1,337,2],[337,3,338,9],[338,10,338,11],[339,1,340,1],[339,2,339,3],[339,4,339,5],[339,6,339,7],[339,8,339,9],[339,10,339,11],[340,2,340,3],[319,4,319,5],[319,6,319,7],[319,8,319,9],[319,10,319,11],[333,1,333,11],[334,1,334,2],[334,3,334,11],[316,1,316,2],[316,3,317,9],[317,10,317,11],[318,1,319,1],[318,2,318,3],[318,4,318,5],[318,6,318,7],[318,8,318,9],[318,10,318,11],[319,2,319,3],[298,4,298,5],[298,6,298,7],[298,8,298,9],[298,10,298,11],[312,1,312,11],[313,1,313,2],[313,3,313,11],[295,1,295,2],[295,3,296,9],[296,10,296,11],[297,1,298,1],[297,2,297,3],[297,4,297,5],[297,6,297,7],[297,8,297,9],[297,10,297,11],[298,2,298,3],[277,4,277,5],[277,6,277,7],[277,8,277,9],[277,10,277,11],[291,1,291,11],[292,1,292,2],[292,3,292,11],[274,1,274,2],[274,3,275,9],[275,10,275,11],[276,1,277,1],[276,2,276,3],[276,4,276,5],[276,6,276,7],[276,8,276,9],[276,10,276,11],[277,2,277,3],[256,4,256,5],[256,6,256,7],[256,8,256,9],[256,10,256,11],[270,1,270,11],[271,1,271,2],[271,3,271,11],[253,1,253,2],[253,3,254,9],[254,10,254,11],[255,1,256,1],[255,2,255,3],[255,4,255,5],[255,6,255,7],[255,8,255,9],[255,10,255,11],[256,2,256,3],[235,4,235,5],[235,6,235,7],[235,8,235,9],[235,10,235,11],[249,1,249,11],[250,1,250,2],[250,3,250,11],[232,1,232,2],[232,3,233,9],[233,10,233,11],[234,1,235,1],[234,2,234,3],[234,4,234,5],[234,6,234,7],[234,8,234,9],[234,10,234,11],[235,2,235,3],[214,4,214,5],[214,6,214,7],[214,8,214,9],[214,10,214,11],[228,1,228,11],[229,1,229,2],[229,3,229,11],[211,1,211,2],[211,3,212,9],[212,10,212,11],[213,1,214,1],[213,2,213,3],[213,4,213,5],[213,6,213,7],[213,8,213,9],[213,10,213,11],[214,2,214,3],[193,4,193,5],[193,6,193,7],[193,8,193,9],[193,10,193,11],[207,1,207,11],[208,1,208,2],[208,3,208,11],[190,1,190,2],[190,3,191,9],[191,10,191,11],[192,1,193,1],[192,2,192,3],[192,4,192,5],[192,6,192,7],[192,8,192,9],[192,10,192,11],[193,2,193,3],[172,4,172,5],[172,6,172,7],[172,8,172,9],[172,10,172,11],[186,1,186,11],[187,1,187,2],[187,3,187,11],[169,1,169,2],[169,3,170,9],[170,10,170,11],[171,1,172,1],[171,2,171,3],[171,4,171,5],[171,6,171,7],[171,8,171,9],[171,10,171,11],[172,2,172,3],[151,4,151,5],[151,6,151,7],[151,8,151,9],[151,10,151,11],[165,1,165,11],[166,1,166,2],[166,3,166,11],[148,1,148,2],[148,3,149,9],[149,10,149,11],[150,1,151,1],[150,2,150,3],[150,4,150,5],[150,6,150,7],[150,8,150,9],[150,10,150,11],[151,2,151,3],[130,4,130,5],[130,6,130,7],[130,8,130,9],[130,10,130,11],[144,1,144,11],[145,1,145,2],[145,3,145,11],[127,1,127,2],[127,3,128,9],[128,10,128,11],[129,1,130,1],[129,2,129,3],[129,4,129,5],[129,6,129,7],[129,8,129,9],[129,10,129,11],[130,2,130,3],[109,4,109,5],[109,6,109,7],[109,8,109,9],[109,10,109,11],[123,1,123,11],[124,1,124,2],[124,3,124,11],[106,1,106,2],[106,3,107,9],[107,10,107,11],[108,1,109,1],[108,2,108,3],[108,4,108,5],[108,6,108,7],[108,8,108,9],[108,10,108,11],[109,2,109,3],[88,4,88,5],[88,6,88,7],[88,8,88,9],[88,10,88,11],[102,1,102,11],[103,1,103,2],[103,3,103,11],[85,1,85,2],[85,3,86,9],[86,10,86,11],[87,1,88,1],[87,2,87,3],[87,4,87,5],[87,6,87,7],[87,8,87,9],[87,10,87,11],[88,2,88,3],[67,4,67,5],[67,6,67,7],[67,8,67,9],[67,10,67,11],[81,1,81,11],[82,1,82,2],[82,3,82,11],[64,1,64,2],[64,3,65,9],[65,10,65,11],[66,1,67,1],[66,2,66,3],[66,4,66,5],[66,6,66,7],[66,8,66,9],[66,10,66,11],[67,2,67,3],[46,4,46,5],[46,6,46,7],[46,8,46,9],[46,10,46,11],[60,1,60,11],[61,1,61,2],[61,3,61,11],[43,1,43,2],[43,3,44,9],[44,10,44,11],[45,1,46,1],[45,2,45,3],[45,4,45,5],[45,6,45,7],[45,8,45,9],[45,10,45,11],[46,2,46,3],[25,4,25,5],[25,6,25,7],[25,8,25,9],[25,10,25,11],[39,1,39,11],[40,1,40,2],[40,3,40,11],[22,1,22,2],[22,3,23,9],[23,10,23,11],[24,1,25,1],[24,2,24,3],[24,4,24,5],[24,6,24,7],[24,8,24,9],[24,10,24,11],[25,2,25,3],[4,4,4,5],[4,6,4,7],[4,8,4,9],[4,10,4,11],[18,1,18,11],[19,1,19,2],[19,3,19,11],[1,1,1,2],[1,3,2,9],[2,10,2,11],[3,1,4,1],[3,2,3,3],[3,4,3,5],[3,6,3,7],[3,8,3,9],[3,10,3,11],[4,2,4,3]]}
[]
[null,{"$f":"CONCATENATE(\"       \",'Puljer runde 1'!$A$16)","v":"       Bane 2"},null,{"$f":"Setup!$B$2","v":"Minitræf i Houlbjerg"},null,null,null,null,null,null,{"$f":"'Puljer runde 2'!$B$3","v":"Runde 2"},{"$f":"CONCATENATE('Puljer runde 1'!$A$5,\".\",'Puljer runde 1'!$M$6)","v":"Rød.1"}]
[null,"Til hul",{"$f":"'Puljer runde 1'!$L$6","v":1},null,null,null,null,null,null,null,{"$f":"Setup!$B$4","v":"29. juli 2015"}]
[null,null,{"$f":"IF('Puljer runde 1'!B$6=\"\",\"\",'Puljer runde 1'!B$6)","v":"Bente Nordmann"},null,{"$f":"IF('Puljer runde 1'!D$6=\"\",\"\",'Puljer runde 1'!D$6)","v":"Doris Thomsen"},null,{"$f":"IF('Puljer runde 1'!F$6=\"\",\"\",'Puljer runde 1'!F$6)","v":"Britta Axelsen"},null,{"$f":"IF('Puljer runde 1'!H$6=\"\",\"\",'Puljer runde 1'!H$6)","v":"Tage Hansen"},null,{"$f":"IF('Puljer runde 1'!J$6=\"\",\"\",'Puljer runde 1'!J$6)","v":"Lynge Madsen"}]
[null,null,{"$f":"IF('Puljer runde 1'!C$6=\"\",\"\",'Puljer runde 1'!C$6)","v":"Auning"},null,{"$f":"IF('Puljer runde 1'!E$6=\"\",\"\",'Puljer runde 1'!E$6)","v":"Houlbjerg"},null,{"$f":"IF('Puljer runde 1'!G$6=\"\",\"\",'Puljer runde 1'!G$6)","v":"Høst"},null,{"$f":"IF('Puljer runde 1'!I$6=\"\",\"\",'Puljer runde 1'!I$6)","v":"Låsby"},null,{"$f":"IF('Puljer runde 1'!K$6=\"\",\"\",'Puljer runde 1'!K$6)","v":"Silkeborg"}]
[null,{"$f":"CONCATENATE(\"Hul \",C3)","v":"Hul 1"}]
[null,{"$f":"IF(C3+1 > 12,CONCATENATE(\"Hul \",C3 + 1 - 12),CONCATENATE(\"Hul \",C3 + 1))","v":"Hul 2"}]
[null,{"$f":"IF(C3+2 > 12,CONCATENATE(\"Hul \",C3 + 2 - 12),CONCATENATE(\"Hul \",C3 + 2))","v":"Hul 3"}]
[null,{"$f":"IF(C3+3 > 12,CONCATENATE(\"Hul \",C3 + 3 - 12),CONCATENATE(\"Hul \",C3 + 3))","v":"Hul 4"}]
[null,{"$f":"IF(C3+4 > 12,CONCATENATE(\"Hul \",C3 + 4 - 12),CONCATENATE(\"Hul \",C3 + 4))","v":"Hul 5"}]
[null,{"$f":"IF(C3+5 > 12,CONCATENATE(\"Hul \",C3 + 5 - 12),CONCATENATE(\"Hul \",C3 + 5))","v":"Hul 6"}]
[null,{"$f":"IF(C3+6 > 12,CONCATENATE(\"Hul \",C3 + 6 - 12),CONCATENATE(\"Hul \",C3 + 6))","v":"Hul 7"}]
[null,{"$f":"IF(C3+7 > 12,CONCATENATE(\"Hul \",C3 + 7 - 12),CONCATENATE(\"Hul \",C3 + 7))","v":"Hul 8"}]
[null,{"$f":"IF(C3+8 > 12,CONCATENATE(\"Hul \",C3 + 8 - 12),CONCATENATE(\"Hul \",C3 + 8))","v":"Hul 9"}]
[null,{"$f":"IF(C3+9 > 12,CONCATENATE(\"Hul \",C3 + 9 - 12),CONCATENATE(\"Hul \",C3 + 9))","v":"Hul 10"}]
[null,{"$f":"IF(C3+10 > 12,CONCATENATE(\"Hul \",C3 + 10 - 12),CONCATENATE(\"Hul \",C3 + 10))","v":"Hul 11"}]
[null,{"$f":"IF(C3+11 > 12,CONCATENATE(\"Hul \",C3 + 11 - 12),CONCATENATE(\"Hul \",C3 + 11))","v":"Hul 12"}]
[null,"I alt"]
[null,{"$f":"Setup!$B$8","v":0}]
[null,"Dommer:"]
[]
[]
[null,{"$f":"CONCATENATE(\"       \",'Puljer runde 1'!$A$17)","v":"       Bane 2"},null,{"$f":"Setup!$B$2","v":"Minitræf i Houlbjerg"},null,null,null,null,null,null,{"$f":"'Puljer runde 2'!$B$3","v":"Runde 2"},{"$f":"CONCATENATE('Puljer runde 1'!$A$5,\".\",'Puljer runde 1'!$M$7)","v":"Rød.2"}]
[null,"Til hul",{"$f":"'Puljer runde 1'!$L$7","v":3},null,null,null,null,null,null,null,{"$f":"Setup!$B$4","v":"29. juli 2015"}]
[null,null,{"$f":"IF('Puljer runde 1'!B$7=\"\",\"\",'Puljer runde 1'!B$7)","v":"Maja Pedersen"},null,{"$f":"IF('Puljer runde 1'!D$7=\"\",\"\",'Puljer runde 1'!D$7)","v":"Grethe Gregersen"},null,{"$f":"IF('Puljer runde 1'!F$7=\"\",\"\",'Puljer runde 1'!F$7)","v":"Inger Rasmussen"},null,{"$f":"IF('Puljer runde 1'!H$7=\"\",\"\",'Puljer runde 1'!H$7)","v":"Jørgen Bjerre"},null,{"$f":"IF('Puljer runde 1'!J$7=\"\",\"\",'Puljer runde 1'!J$7)","v":"Christian Norentoft"}]
[null,null,{"$f":"IF('Puljer runde 1'!C$7=\"\",\"\",'Puljer runde 1'!C$7)","v":"Auning"},null,{"$f":"IF('Puljer runde 1'!E$7=\"\",\"\",'Puljer runde 1'!E$7)","v":"Houlbjerg"},null,{"$f":"IF('Puljer runde 1'!G$7=\"\",\"\",'Puljer runde 1'!G$7)","v":"Høst"},null,{"$f":"IF('Puljer runde 1'!I$7=\"\",\"\",'Puljer runde 1'!I$7)","v":"Pindstrup"},null,{"$f":"IF('Puljer runde 1'!K$7=\"\",\"\",'Puljer runde 1'!K$7)","v":"Thorsø"}]
[null,{"$f":"CONCATENATE(\"Hul \",C24)","v":"Hul 3"}]
[null,{"$f":"IF(C24+1 > 12,CONCATENATE(\"Hul \",C24 + 1 - 12),CONCATENATE(\"Hul \",C24 + 1))","v":"Hul 4"}]
[null,{"$f":"IF(C24+2 > 12,CONCATENATE(\"Hul \",C24 + 2 - 12),CONCATENATE(\"Hul \",C24 + 2))","v":"Hul 5"}]
[null,{"$f":"IF(C24+3 > 12,CONCATENATE(\"Hul \",C24 + 3 - 12),CONCATENATE(\"Hul \",C24 + 3))","v":"Hul 6"}]
[null,{"$f":"IF(C24+4 > 12,CONCATENATE(\"Hul \",C24 + 4 - 12),CONCATENATE(\"Hul \",C24 + 4))","v":"Hul 7"}]
[null,{"$f":"IF(C24+5 > 12,CONCATENATE(\"Hul \",C24 + 5 - 12),CONCATENATE(\"Hul \",C24 + 5))","v":"Hul 8"}]
[null,{"$f":"IF(C24+6 > 12,CONCATENATE(\"Hul \",C24 + 6 - 12),CONCATENATE(\"Hul \",C24 + 6))","v":"Hul 9"}]
[null,{"$f":"IF(C24+7 > 12,CONCATENATE(\"Hul \",C24 + 7 - 12),CONCATENATE(\"Hul \",C24 + 7))","v":"Hul 10"}]
[null,{"$f":"IF(C24+8 > 12,CONCATENATE(\"Hul \",C24 + 8 - 12),CONCATENATE(\"Hul \",C24 + 8))","v":"Hul 11"}]
[null,{"$f":"IF(C24+9 > 12,CONCATENATE(\"Hul \",C24 + 9 - 12),CONCATENATE(\"Hul \",C24 + 9))","v":"Hul 12"}]
[null,{"$f":"IF(C24+10 > 12,CONCATENATE(\"Hul \",C24 + 10 - 12),CONCATENATE(\"Hul \",C24 + 10))","v":"Hul 1"}]
[null,{"$f":"IF(C24+11 > 12,CONCATENATE(\"Hul \",C24 + 11 - 12),CONCATENATE(\"Hul \",C24 + 11))","v":"Hul 2"}]
[null,"I alt"]
[null,{"$f":"Setup!$B$8","v":0}]
[null,"Dommer:"]
[]
[]
[null,{"$f":"CONCATENATE(\"       \",'Puljer runde 1'!$A$18)","v":"       Bane 2"},null,{"$f":"Setup!$B$2","v":"Minitræf i Houlbjerg"},null,null,null,null,null,null,{"$f":"'Puljer runde 2'!$B$3","v":"Runde 2"},{"$f":"CONCATENATE('Puljer runde 1'!$A$5,\".\",'Puljer runde 1'!$M$8)","v":"Rød.3"}]
[null,"Til hul",{"$f":"'Puljer runde 1'!$L$8","v":5},null,null,null,null,null,null,null,{"$f":"Setup!$B$4","v":"29. juli 2015"}]
[null,null,{"$f":"IF('Puljer runde 1'!B$8=\"\",\"\",'Puljer runde 1'!B$8)","v":"Max Thomassen"},null,{"$f":"IF('Puljer runde 1'!D$8=\"\",\"\",'Puljer runde 1'!D$8)","v":"Juul Thomsen"},null,{"$f":"IF('Puljer runde 1'!F$8=\"\",\"\",'Puljer runde 1'!F$8)","v":"Kurt Rasmussen"},null,{"$f":"IF('Puljer runde 1'!H$8=\"\",\"\",'Puljer runde 1'!H$8)","v":"Marie Petersen"},null,{"$f":"IF('Puljer runde 1'!J$8=\"\",\"\",'Puljer runde 1'!J$8)","v":"Grethe Thomsen"}]
[null,null,{"$f":"IF('Puljer runde 1'!C$8=\"\",\"\",'Puljer runde 1'!C$8)","v":"Bjerregrav"},null,{"$f":"IF('Puljer runde 1'!E$8=\"\",\"\",'Puljer runde 1'!E$8)","v":"Houlbjerg"},null,{"$f":"IF('Puljer runde 1'!G$8=\"\",\"\",'Puljer runde 1'!G$8)","v":"Høst"},null,{"$f":"IF('Puljer runde 1'!I$8=\"\",\"\",'Puljer runde 1'!I$8)","v":"Rønde"},null,{"$f":"IF('Puljer runde 1'!K$8=\"\",\"\",'Puljer runde 1'!K$8)","v":"Thorsø"}]
[null,{"$f":"CONCATENATE(\"Hul \",C45)","v":"Hul 5"}]
[null,{"$f":"IF(C45+1 > 12,CONCATENATE(\"Hul \",C45 + 1 - 12),CONCATENATE(\"Hul \",C45 + 1))","v":"Hul 6"}]
[null,{"$f":"IF(C45+2 > 12,CONCATENATE(\"Hul \",C45 + 2 - 12),CONCATENATE(\"Hul \",C45 + 2))","v":"Hul 7"}]
[null,{"$f":"IF(C45+3 > 12,CONCATENATE(\"Hul \",C45 + 3 - 12),CONCATENATE(\"Hul \",C45 + 3))","v":"Hul 8"}]
[null,{"$f":"IF(C45+4 > 12,CONCATENATE(\"Hul \",C45 + 4 - 12),CONCATENATE(\"Hul \",C45 + 4))","v":"Hul 9"}]
[null,{"$f":"IF(C45+5 > 12,CONCATENATE(\"Hul \",C45 + 5 - 12),CONCATENATE(\"Hul \",C45 + 5))","v":"Hul 10"}]
[null,{"$f":"IF(C45+6 > 12,CONCATENATE(\"Hul \",C45 + 6 - 12),CONCATENATE(\"Hul \",C45 + 6))","v":"Hul 11"}]
[null,{"$f":"IF(C45+7 > 12,CONCATENATE(\"Hul \",C45 + 7 - 12),CONCATENATE(\"Hul \",C45 + 7))","v":"Hul 12"}]
[null,{"$f":"IF(C45+8 > 12,CONCATENATE(\"Hul \",C45 + 8 - 12),CONCATENATE(\"Hul \",C45 + 8))","v":"Hul 1"}]
[null,{"$f":"IF(C45+9 > 12,CONCATENATE(\"Hul \",C45 + 9 - 12),CONCATENATE(\"Hul \",C45 + 9))","v":"Hul 2"}]
[null,{"$f":"IF(C45+10 > 12,CONCATENATE(\"Hul \",C45 + 10 - 12),CONCATENATE(\"Hul \",C45 + 10))","v":"Hul 3"}]
[null,{"$f":"IF(C45+11 > 12,CONCATENATE(\"Hul \",C45 + 11 - 12),CONCATENATE(\"Hul \",C45 + 11))","v":"Hul 4"}]
[null,"I alt"]
[null,{"$f":"Setup!$B$8","v":0}]
[null,"Dommer:"]
[]
[]
[null,{"$f":"CONCATENATE(\"       \",'Puljer runde 1'!$A$19)","v":"       Bane 2"},null,{"$f":"Setup!$B$2","v":"Minitræf i Houlbjerg"},null,null,null,null,null,null,{"$f":"'Puljer runde 2'!$B$3","v":"Runde 2"},{"$f":"CONCATENATE('Puljer runde 1'!$A$5,\".\",'Puljer runde 1'!$M$9)","v":"Rød.4"}]
[null,"Til hul",{"$f":"'Puljer runde 1'!$L$9","v":7},null,null,null,null,null,null,null,{"$f":"Setup!$B$4","v":"29. juli 2015"}]
[null,null,{"$f":"IF('Puljer runde 1'!B$9=\"\",\"\",'Puljer runde 1'!B$9)","v":"Birthe Rosenkvist"},null,{"$f":"IF('Puljer runde 1'!D$9=\"\",\"\",'Puljer runde 1'!D$9)","v":"Lisbeth Sørensen"},null,{"$f":"IF('Puljer runde 1'!F$9=\"\",\"\",'Puljer runde 1'!F$9)","v":"Ulla Bjerring"},null,{"$f":"IF('Puljer runde 1'!H$9=\"\",\"\",'Puljer runde 1'!H$9)","v":"Svend B. G. Laursen"},null,{"$f":"IF('Puljer runde 1'!J$9=\"\",\"\",'Puljer runde 1'!J$9)","v":"Kirsten Nielsen"}]
[null,null,{"$f":"IF('Puljer runde 1'!C$9=\"\",\"\",'Puljer runde 1'!C$9)","v":"Hammel"},null,{"$f":"IF('Puljer runde 1'!E$9=\"\",\"\",'Puljer runde 1'!E$9)","v":"Houlbjerg"},null,{"$f":"IF('Puljer runde 1'!G$9=\"\",\"\",'Puljer runde 1'!G$9)","v":"Høst"},null,{"$f":"IF('Puljer runde 1'!I$9=\"\",\"\",'Puljer runde 1'!I$9)","v":"Rønde"},null,{"$f":"IF('Puljer runde 1'!K$9=\"\",\"\",'Puljer runde 1'!K$9)","v":"Thorsø"}]
[null,{"$f":"CONCATENATE(\"Hul \",C66)","v":"Hul 7"}]
[null,{"$f":"IF(C66+1 > 12,CONCATENATE(\"Hul \",C66 + 1 - 12),CONCATENATE(\"Hul \",C66 + 1))","v":"Hul 8"}]
[null,{"$f":"IF(C66+2 > 12,CONCATENATE(\"Hul \",C66 + 2 - 12),CONCATENATE(\"Hul \",C66 + 2))","v":"Hul 9"}]
[null,{"$f":"IF(C66+3 > 12,CONCATENATE(\"Hul \",C66 + 3 - 12),CONCATENATE(\"Hul \",C66 + 3))","v":"Hul 10"}]
[null,{"$f":"IF(C66+4 > 12,CONCATENATE(\"Hul \",C66 + 4 - 12),CONCATENATE(\"Hul \",C66 + 4))","v":"Hul 11"}]
[null,{"$f":"IF(C66+5 > 12,CONCATENATE(\"Hul \",C66 + 5 - 12),CONCATENATE(\"Hul \",C66 + 5))","v":"Hul 12"}]
[null,{"$f":"IF(C66+6 > 12,CONCATENATE(\"Hul \",C66 + 6 - 12),CONCATENATE(\"Hul \",C66 + 6))","v":"Hul 1"}]
[null,{"$f":"IF(C66+7 > 12,CONCATENATE(\"Hul \",C66 + 7 - 12),CONCATENATE(\"Hul \",C66 + 7))","v":"Hul 2"}]
[null,{"$f":"IF(C66+8 > 12,CONCATENATE(\"Hul \",C66 + 8 - 12),CONCATENATE(\"Hul \",C66 + 8))","v":"Hul 3"}]
[null,{"$f":"IF(C66+9 > 12,CONCATENATE(\"Hul \",C66 + 9 - 12),CONCATENATE(\"Hul \",C66 + 9))","v":"Hul 4"}]
[null,{"$f":"IF(C66+10 > 12,CONCATENATE(\"Hul \",C66 + 10 - 12),CONCATENATE(\"Hul \",C66 + 10))","v":"Hul 5"}]
[null,{"$f":"IF(C66+11 > 12,CONCATENATE(\"Hul \",C66 + 11 - 12),CONCATENATE(\"Hul \",C66 + 11))","v":"Hul 6"}]
[null,"I alt"]
[null,{"$f":"Setup!$B$8","v":0}]
[null,"Dommer:"]
[]
[]
[null,{"$f":"CONCATENATE(\"       \",'Puljer runde 1'!$A$20)","v":"       Bane 2"},null,{"$f":"Setup!$B$2","v":"Minitræf i Houlbjerg"},null,null,null,null,null,null,{"$f":"'Puljer runde 2'!$B$3","v":"Runde 2"},{"$f":"CONCATENATE('Puljer runde 1'!$A$5,\".\",'Puljer runde 1'!$M$10)","v":"Rød.5"}]
[null,"Til hul",{"$f":"'Puljer runde 1'!$L$10","v":9},null,null,null,null,null,null,null,{"$f":"Setup!$B$4","v":"29. juli 2015"}]
[null,null,{"$f":"IF('Puljer runde 1'!B$10=\"\",\"\",'Puljer runde 1'!B$10)","v":"Gerda Fogh"},null,{"$f":"IF('Puljer runde 1'!D$10=\"\",\"\",'Puljer runde 1'!D$10)","v":"Nanny Lægdsgaard"},null,{"$f":"IF('Puljer runde 1'!F$10=\"\",\"\",'Puljer runde 1'!F$10)","v":"Else-Marie Schmidt"},null,{"$f":"IF('Puljer runde 1'!H$10=\"\",\"\",'Puljer runde 1'!H$10)","v":"Ann Gaardsvig"},null,{"$f":"IF('Puljer runde 1'!J$10=\"\",\"\",'Puljer runde 1'!J$10)","v":"Ester Storgaard"}]
[null,null,{"$f":"IF('Puljer runde 1'!C$10=\"\",\"\",'Puljer runde 1'!C$10)","v":"Hammel"},null,{"$f":"IF('Puljer runde 1'!E$10=\"\",\"\",'Puljer runde 1'!E$10)","v":"Houlbjerg"},null,{"$f":"IF('Puljer runde 1'!G$10=\"\",\"\",'Puljer runde 1'!G$10)","v":"Lystrup"},null,{"$f":"IF('Puljer runde 1'!I$10=\"\",\"\",'Puljer runde 1'!I$10)","v":"Silkeborg"},null,{"$f":"IF('Puljer runde 1'!K$10=\"\",\"\",'Puljer runde 1'!K$10)","v":"Ulstrup"}]
[null,{"$f":"CONCATENATE(\"Hul \",C87)","v":"Hul 9"}]
[null,{"$f":"IF(C87+1 > 12,CONCATENATE(\"Hul \",C87 + 1 - 12),CONCATENATE(\"Hul \",C87 + 1))","v":"Hul 10"}]
[null,{"$f":"IF(C87+2 > 12,CONCATENATE(\"Hul \",C87 + 2 - 12),CONCATENATE(\"Hul \",C87 + 2))","v":"Hul 11"}]
[null,{"$f":"IF(C87+3 > 12,CONCATENATE(\"Hul \",C87 + 3 - 12),CONCATENATE(\"Hul \",C87 + 3))","v":"Hul 12"}]
[null,{"$f":"IF(C87+4 > 12,CONCATENATE(\"Hul \",C87 + 4 - 12),CONCATENATE(\"Hul \",C87 + 4))","v":"Hul 1"}]
[null,{"$f":"IF(C87+5 > 12,CONCATENATE(\"Hul \",C87 + 5 - 12),CONCATENATE(\"Hul \",C87 + 5))","v":"Hul 2"}]
[null,{"$f":"IF(C87+6 > 12,CONCATENATE(\"Hul \",C87 + 6 - 12),CONCATENATE(\"Hul \",C87 + 6))","v":"Hul 3"}]
[null,{"$f":"IF(C87+7 > 12,CONCATENATE(\"Hul \",C87 + 7 - 12),CONCATENATE(\"Hul \",C87 + 7))","v":"Hul 4"}]
[null,{"$f":"IF(C87+8 > 12,CONCATENATE(\"Hul \",C87 + 8 - 12),CONCATENATE(\"Hul \",C87 + 8))","v":"Hul 5"}]
[null,{"$f":"IF(C87+9 > 12,CONCATENATE(\"Hul \",C87 + 9 - 12),CONCATENATE(\"Hul \",C87 + 9))","v":"Hul 6"}]
[null,{"$f":"IF(C87+10 > 12,CONCATENATE(\"Hul \",C87 + 10 - 12),CONCATENATE(\"Hul \",C87 + 10))","v":"Hul 7"}]
[null,{"$f":"IF(C87+11 > 12,CONCATENATE(\"Hul \",C87 + 11 - 12),CONCATENATE(\"Hul \",C87 + 11))","v":"Hul 8"}]
[null,"I alt"]
[null,{"$f":"Setup!$B$8","v":0}]
[null,"Dommer:"]
[]
[]
[null,{"$f":"CONCATENATE(\"       \",'Puljer runde 1'!$A$21)","v":"       Bane 2"},null,{"$f":"Setup!$B$2","v":"Minitræf i Houlbjerg"},null,null,null,null,null,null,{"$f":"'Puljer runde 2'!$B$3","v":"Runde 2"},{"$f":"CONCATENATE('Puljer runde 1'!$A$5,\".\",'Puljer runde 1'!$M$11)","v":"Rød.6"}]
[null,"Til hul",{"$f":"'Puljer runde 1'!$L$11","v":11},null,null,null,null,null,null,null,{"$f":"Setup!$B$4","v":"29. juli 2015"}]
[null,null,{"$f":"IF('Puljer runde 1'!B$11=\"\",\"\",'Puljer runde 1'!B$11)","v":"Rosa Højgaard"},null,{"$f":"IF('Puljer runde 1'!D$11=\"\",\"\",'Puljer runde 1'!D$11)","v":"Yrsa Sørensen"},null,{"$f":"IF('Puljer runde 1'!F$11=\"\",\"\",'Puljer runde 1'!F$11)","v":"Lis Lassen"},null,{"$f":"IF('Puljer runde 1'!H$11=\"\",\"\",'Puljer runde 1'!H$11)","v":"Henning Larsen"},null,{"$f":"IF('Puljer runde 1'!J$11=\"\",\"\",'Puljer runde 1'!J$11)","v":"Kaj Storgaard"}]
[null,null,{"$f":"IF('Puljer runde 1'!C$11=\"\",\"\",'Puljer runde 1'!C$11)","v":"Hammel"},null,{"$f":"IF('Puljer runde 1'!E$11=\"\",\"\",'Puljer runde 1'!E$11)","v":"Houlbjerg"},null,{"$f":"IF('Puljer runde 1'!G$11=\"\",\"\",'Puljer runde 1'!G$11)","v":"Lystrup"},null,{"$f":"IF('Puljer runde 1'!I$11=\"\",\"\",'Puljer runde 1'!I$11)","v":"Silkeborg"},null,{"$f":"IF('Puljer runde 1'!K$11=\"\",\"\",'Puljer runde 1'!K$11)","v":"Ulstrup"}]
[null,{"$f":"CONCATENATE(\"Hul \",C108)","v":"Hul 11"}]
[null,{"$f":"IF(C108+1 > 12,CONCATENATE(\"Hul \",C108 + 1 - 12),CONCATENATE(\"Hul \",C108 + 1))","v":"Hul 12"}]
[null,{"$f":"IF(C108+2 > 12,CONCATENATE(\"Hul \",C108 + 2 - 12),CONCATENATE(\"Hul \",C108 + 2))","v":"Hul 1"}]
[null,{"$f":"IF(C108+3 > 12,CONCATENATE(\"Hul \",C108 + 3 - 12),CONCATENATE(\"Hul \",C108 + 3))","v":"Hul 2"}]
[null,{"$f":"IF(C108+4 > 12,CONCATENATE(\"Hul \",C108 + 4 - 12),CONCATENATE(\"Hul \",C108 + 4))","v":"Hul 3"}]
[null,{"$f":"IF(C108+5 > 12,CONCATENATE(\"Hul \",C108 + 5 - 12),CONCATENATE(\"Hul \",C108 + 5))","v":"Hul 4"}]
[null,{"$f":"IF(C108+6 > 12,CONCATENATE(\"Hul \",C108 + 6 - 12),CONCATENATE(\"Hul \",C108 + 6))","v":"Hul 5"}]
[null,{"$f":"IF(C108+7 > 12,CONCATENATE(\"Hul \",C108 + 7 - 12),CONCATENATE(\"Hul \",C108 + 7))","v":"Hul 6"}]
[null,{"$f":"IF(C108+8 > 12,CONCATENATE(\"Hul \",C108 + 8 - 12),CONCATENATE(\"Hul \",C108 + 8))","v":"Hul 7"}]
[null,{"$f":"IF(C108+9 > 12,CONCATENATE(\"Hul \",C108 + 9 - 12),CONCATENATE(\"Hul \",C108 + 9))","v":"Hul 8"}]
[null,{"$f":"IF(C108+10 > 12,CONCATENATE(\"Hul \",C108 + 10 - 12),CONCATENATE(\"Hul \",C108 + 10))","v":"Hul 9"}]
[null,{"$f":"IF(C108+11 > 12,CONCATENATE(\"Hul \",C108 + 11 - 12),CONCATENATE(\"Hul \",C108 + 11))","v":"Hul 10"}]
[null,"I alt"]
[null,{"$f":"Setup!$B$8","v":0}]
[null,"Dommer:"]
[]
[]
[null,{"$f":"CONCATENATE(\"       \",'Puljer runde 1'!$A$26)","v":"       0"},null,{"$f":"Setup!$B$2","v":"Minitræf i Houlbjerg"},null,null,null,null,null,null,{"$f":"'Puljer runde 2'!$B$3","v":"Runde 2"},{"$f":"CONCATENATE('Puljer runde 1'!$A$15,\".\",'Puljer runde 1'!$M$16)","v":"Grøn.1"}]
[null,"Til hul",{"$f":"'Puljer runde 1'!$L$16","v":1},null,null,null,null,null,null,null,{"$f":"Setup!$B$4","v":"29. juli 2015"}]
[null,null,{"$f":"IF('Puljer runde 1'!B$16=\"\",\"\",'Puljer runde 1'!B$16)","v":"Henning Pedersen"},null,{"$f":"IF('Puljer runde 1'!D$16=\"\",\"\",'Puljer runde 1'!D$16)","v":"Erik Lægdsgaard"},null,{"$f":"IF('Puljer runde 1'!F$16=\"\",\"\",'Puljer runde 1'!F$16)","v":"Erik Pedersen"},null,{"$f":"IF('Puljer runde 1'!H$16=\"\",\"\",'Puljer runde 1'!H$16)","v":"Hanne Bjerre"},null,{"$f":"IF('Puljer runde 1'!J$16=\"\",\"\",'Puljer runde 1'!J$16)","v":"Bent Nielsen"}]
[null,null,{"$f":"IF('Puljer runde 1'!C$16=\"\",\"\",'Puljer runde 1'!C$16)","v":"Auning"},null,{"$f":"IF('Puljer runde 1'!E$16=\"\",\"\",'Puljer runde 1'!E$16)","v":"Houlbjerg"},null,{"$f":"IF('Puljer runde 1'!G$16=\"\",\"\",'Puljer runde 1'!G$16)","v":"Høst"},null,{"$f":"IF('Puljer runde 1'!I$16=\"\",\"\",'Puljer runde 1'!I$16)","v":"Pindstrup"},null,{"$f":"IF('Puljer runde 1'!K$16=\"\",\"\",'Puljer runde 1'!K$16)","v":"Thorsø"}]
[null,{"$f":"CONCATENATE(\"Hul \",C129)","v":"Hul 1"}]
[null,{"$f":"IF(C129+1 > 12,CONCATENATE(\"Hul \",C129 + 1 - 12),CONCATENATE(\"Hul \",C129 + 1))","v":"Hul 2"}]
[null,{"$f":"IF(C129+2 > 12,CONCATENATE(\"Hul \",C129 + 2 - 12),CONCATENATE(\"Hul \",C129 + 2))","v":"Hul 3"}]
[null,{"$f":"IF(C129+3 > 12,CONCATENATE(\"Hul \",C129 + 3 - 12),CONCATENATE(\"Hul \",C129 + 3))","v":"Hul 4"}]
[null,{"$f":"IF(C129+4 > 12,CONCATENATE(\"Hul \",C129 + 4 - 12),CONCATENATE(\"Hul \",C129 + 4))","v":"Hul 5"}]
[null,{"$f":"IF(C129+5 > 12,CONCATENATE(\"Hul \",C129 + 5 - 12),CONCATENATE(\"Hul \",C129 + 5))","v":"Hul 6"}]
[null,{"$f":"IF(C129+6 > 12,CONCATENATE(\"Hul \",C129 + 6 - 12),CONCATENATE(\"Hul \",C129 + 6))","v":"Hul 7"}]
[null,{"$f":"IF(C129+7 > 12,CONCATENATE(\"Hul \",C129 + 7 - 12),CONCATENATE(\"Hul \",C129 + 7))","v":"Hul 8"}]
[null,{"$f":"IF(C129+8 > 12,CONCATENATE(\"Hul \",C129 + 8 - 12),CONCATENATE(\"Hul \",C129 + 8))","v":"Hul 9"}]
[null,{"$f":"IF(C129+9 > 12,CONCATENATE(\"Hul \",C129 + 9 - 12),CONCATENATE(\"Hul \",C129 + 9))","v":"Hul 10"}]
[null,{"$f":"IF(C129+10 > 12,CONCATENATE(\"Hul \",C129 + 10 - 12),CONCATENATE(\"Hul \",C129 + 10))","v":"Hul 11"}]
[null,{"$f":"IF(C129+11 > 12,CONCATENATE(\"Hul \",C129 + 11 - 12),CONCATENATE(\"Hul \",C129 + 11))","v":"Hul 12"}]
[null,"I alt"]
[null,{"$f":"Setup!$B$8","v":0}]
[null,"Dommer:"]
[]
[]
[null,{"$f":"CONCATENATE(\"       \",'Puljer runde 1'!$A$27)","v":"       0"},null,{"$f":"Setup!$B$2","v":"Minitræf i Houlbjerg"},null,null,null,null,null,null,{"$f":"'Puljer runde 2'!$B$3","v":"Runde 2"},{"$f":"CONCATENATE('Puljer runde 1'!$A$15,\".\",'Puljer runde 1'!$M$17)","v":"Grøn.2"}]
[null,"Til hul",{"$f":"'Puljer runde 1'!$L$17","v":3},null,null,null,null,null,null,null,{"$f":"Setup!$B$4","v":"29. juli 2015"}]
[null,null,{"$f":"IF('Puljer runde 1'!B$17=\"\",\"\",'Puljer runde 1'!B$17)","v":"Bente Thomassen"},null,{"$f":"IF('Puljer runde 1'!D$17=\"\",\"\",'Puljer runde 1'!D$17)","v":"Jens Henrik Juhl-Larsen"},null,{"$f":"IF('Puljer runde 1'!F$17=\"\",\"\",'Puljer runde 1'!F$17)","v":"Knud Frederiksen"},null,{"$f":"IF('Puljer runde 1'!H$17=\"\",\"\",'Puljer runde 1'!H$17)","v":"Jørgen Petersen"},null,{"$f":"IF('Puljer runde 1'!J$17=\"\",\"\",'Puljer runde 1'!J$17)","v":"Erik Thomsen"}]
[null,null,{"$f":"IF('Puljer runde 1'!C$17=\"\",\"\",'Puljer runde 1'!C$17)","v":"Bjerregrav"},null,{"$f":"IF('Puljer runde 1'!E$17=\"\",\"\",'Puljer runde 1'!E$17)","v":"Houlbjerg"},null,{"$f":"IF('Puljer runde 1'!G$17=\"\",\"\",'Puljer runde 1'!G$17)","v":"Høst"},null,{"$f":"IF('Puljer runde 1'!I$17=\"\",\"\",'Puljer runde 1'!I$17)","v":"Rønde"},null,{"$f":"IF('Puljer runde 1'!K$17=\"\",\"\",'Puljer runde 1'!K$17)","v":"Thorsø"}]
[null,{"$f":"CONCATENATE(\"Hul \",C150)","v":"Hul 3"}]
[null,{"$f":"IF(C150+1 > 12,CONCATENATE(\"Hul \",C150 + 1 - 12),CONCATENATE(\"Hul \",C150 + 1))","v":"Hul 4"}]
[null,{"$f":"IF(C150+2 > 12,CONCATENATE(\"Hul \",C150 + 2 - 12),CONCATENATE(\"Hul \",C150 + 2))","v":"Hul 5"}]
[null,{"$f":"IF(C150+3 > 12,CONCATENATE(\"Hul \",C150 + 3 - 12),CONCATENATE(\"Hul \",C150 + 3))","v":"Hul 6"}]
[null,{"$f":"IF(C150+4 > 12,CONCATENATE(\"Hul \",C150 + 4 - 12),CONCATENATE(\"Hul \",C150 + 4))","v":"Hul 7"}]
[null,{"$f":"IF(C150+5 > 12,CONCATENATE(\"Hul \",C150 + 5 - 12),CONCATENATE(\"Hul \",C150 + 5))","v":"Hul 8"}]
[null,{"$f":"IF(C150+6 > 12,CONCATENATE(\"Hul \",C150 + 6 - 12),CONCATENATE(\"Hul \",C150 + 6))","v":"Hul 9"}]
[null,{"$f":"IF(C150+7 > 12,CONCATENATE(\"Hul \",C150 + 7 - 12),CONCATENATE(\"Hul \",C150 + 7))","v":"Hul 10"}]
[null,{"$f":"IF(C150+8 > 12,CONCATENATE(\"Hul \",C150 + 8 - 12),CONCATENATE(\"Hul \",C150 + 8))","v":"Hul 11"}]
[null,{"$f":"IF(C150+9 > 12,CONCATENATE(\"Hul \",C150 + 9 - 12),CONCATENATE(\"Hul \",C150 + 9))","v":"Hul 12"}]
[null,{"$f":"IF(C150+10 > 12,CONCATENATE(\"Hul \",C150 + 10 - 12),CONCATENATE(\"Hul \",C150 + 10))","v":"Hul 1"}]
[null,{"$f":"IF(C150+11 > 12,CONCATENATE(\"Hul \",C150 + 11 - 12),CONCATENATE(\"Hul \",C150 + 11))","v":"Hul 2"}]
[null,"I alt"]
[null,{"$f":"Setup!$B$8","v":0}]
[null,"Dommer:"]
[]
[]
[null,{"$f":"CONCATENATE(\"       \",'Puljer runde 1'!$A$28)","v":"       0"},null,{"$f":"Setup!$B$2","v":"Minitræf i Houlbjerg"},null,null,null,null,null,null,{"$f":"'Puljer runde 2'!$B$3","v":"Runde 2"},{"$f":"CONCATENATE('Puljer runde 1'!$A$15,\".\",'Puljer runde 1'!$M$18)","v":"Grøn.3"}]
[null,"Til hul",{"$f":"'Puljer runde 1'!$L$18","v":5},null,null,null,null,null,null,null,{"$f":"Setup!$B$4","v":"29. juli 2015"}]
[null,null,{"$f":"IF('Puljer runde 1'!B$18=\"\",\"\",'Puljer runde 1'!B$18)","v":"Birgit Svoldgaard"},null,{"$f":"IF('Puljer runde 1'!D$18=\"\",\"\",'Puljer runde 1'!D$18)","v":"Kurt Thomsen"},null,{"$f":"IF('Puljer runde 1'!F$18=\"\",\"\",'Puljer runde 1'!F$18)","v":"Margit Jensen"},null,{"$f":"IF('Puljer runde 1'!H$18=\"\",\"\",'Puljer runde 1'!H$18)","v":"Myrna Rasmussen"},null,{"$f":"IF('Puljer runde 1'!J$18=\"\",\"\",'Puljer runde 1'!J$18)","v":"Grethe Thøgersen"}]
[null,null,{"$f":"IF('Puljer runde 1'!C$18=\"\",\"\",'Puljer runde 1'!C$18)","v":"Hammel"},null,{"$f":"IF('Puljer runde 1'!E$18=\"\",\"\",'Puljer runde 1'!E$18)","v":"Houlbjerg"},null,{"$f":"IF('Puljer runde 1'!G$18=\"\",\"\",'Puljer runde 1'!G$18)","v":"Høst"},null,{"$f":"IF('Puljer runde 1'!I$18=\"\",\"\",'Puljer runde 1'!I$18)","v":"Rønde"},null,{"$f":"IF('Puljer runde 1'!K$18=\"\",\"\",'Puljer runde 1'!K$18)","v":"Thorsø"}]
[null,{"$f":"CONCATENATE(\"Hul \",C171)","v":"Hul 5"}]
[null,{"$f":"IF(C171+1 > 12,CONCATENATE(\"Hul \",C171 + 1 - 12),CONCATENATE(\"Hul \",C171 + 1))","v":"Hul 6"}]
[null,{"$f":"IF(C171+2 > 12,CONCATENATE(\"Hul \",C171 + 2 - 12),CONCATENATE(\"Hul \",C171 + 2))","v":"Hul 7"}]
[null,{"$f":"IF(C171+3 > 12,CONCATENATE(\"Hul \",C171 + 3 - 12),CONCATENATE(\"Hul \",C171 + 3))","v":"Hul 8"}]
[null,{"$f":"IF(C171+4 > 12,CONCATENATE(\"Hul \",C171 + 4 - 12),CONCATENATE(\"Hul \",C171 + 4))","v":"Hul 9"}]
[null,{"$f":"IF(C171+5 > 12,CONCATENATE(\"Hul \",C171 + 5 - 12),CONCATENATE(\"Hul \",C171 + 5))","v":"Hul 10"}]
[null,{"$f":"IF(C171+6 > 12,CONCATENATE(\"Hul \",C171 + 6 - 12),CONCATENATE(\"Hul \",C171 + 6))","v":"Hul 11"}]
[null,{"$f":"IF(C171+7 > 12,CONCATENATE(\"Hul \",C171 + 7 - 12),CONCATENATE(\"Hul \",C171 + 7))","v":"Hul 12"}]
[null,{"$f":"IF(C171+8 > 12,CONCATENATE(\"Hul \",C171 + 8 - 12),CONCATENATE(\"Hul \",C171 + 8))","v":"Hul 1"}]
[null,{"$f":"IF(C171+9 > 12,CONCATENATE(\"Hul \",C171 + 9 - 12),CONCATENATE(\"Hul \",C171 + 9))","v":"Hul 2"}]
[null,{"$f":"IF(C171+10 > 12,CONCATENATE(\"Hul \",C171 + 10 - 12),CONCATENATE(\"Hul \",C171 + 10))","v":"Hul 3"}]
[null,{"$f":"IF(C171+11 > 12,CONCATENATE(\"Hul \",C171 + 11 - 12),CONCATENATE(\"Hul \",C171 + 11))","v":"Hul 4"}]
[null,"I alt"]
[null,{"$f":"Setup!$B$8","v":0}]
[null,"Dommer:"]
[]
[]
[null,{"$f":"CONCATENATE(\"       \",'Puljer runde 1'!$A$29)","v":"       0"},null,{"$f":"Setup!$B$2","v":"Minitræf i Houlbjerg"},null,null,null,null,null,null,{"$f":"'Puljer runde 2'!$B$3","v":"Runde 2"},{"$f":"CONCATENATE('Puljer runde 1'!$A$15,\".\",'Puljer runde 1'!$M$19)","v":"Grøn.4"}]
[null,"Til hul",{"$f":"'Puljer runde 1'!$L$19","v":7},null,null,null,null,null,null,null,{"$f":"Setup!$B$4","v":"29. juli 2015"}]
[null,null,{"$f":"IF('Puljer runde 1'!B$19=\"\",\"\",'Puljer runde 1'!B$19)","v":"Erik Rosenkvist"},null,{"$f":"IF('Puljer runde 1'!D$19=\"\",\"\",'Puljer runde 1'!D$19)","v":"Lissi Thomsen"},null,{"$f":"IF('Puljer runde 1'!F$19=\"\",\"\",'Puljer runde 1'!F$19)","v":"Christen Jespersen"},null,{"$f":"IF('Puljer runde 1'!H$19=\"\",\"\",'Puljer runde 1'!H$19)","v":"Vagn F. Nielsen"},null,{"$f":"IF('Puljer runde 1'!J$19=\"\",\"\",'Puljer runde 1'!J$19)","v":"Niels Kofoed"}]
[null,null,{"$f":"IF('Puljer runde 1'!C$19=\"\",\"\",'Puljer runde 1'!C$19)","v":"Hammel"},null,{"$f":"IF('Puljer runde 1'!E$19=\"\",\"\",'Puljer runde 1'!E$19)","v":"Houlbjerg"},null,{"$f":"IF('Puljer runde 1'!G$19=\"\",\"\",'Puljer runde 1'!G$19)","v":"Lystrup"},null,{"$f":"IF('Puljer runde 1'!I$19=\"\",\"\",'Puljer runde 1'!I$19)","v":"Rønde"},null,{"$f":"IF('Puljer runde 1'!K$19=\"\",\"\",'Puljer runde 1'!K$19)","v":"Tranbjerg"}]
[null,{"$f":"CONCATENATE(\"Hul \",C192)","v":"Hul 7"}]
[null,{"$f":"IF(C192+1 > 12,CONCATENATE(\"Hul \",C192 + 1 - 12),CONCATENATE(\"Hul \",C192 + 1))","v":"Hul 8"}]
[null,{"$f":"IF(C192+2 > 12,CONCATENATE(\"Hul \",C192 + 2 - 12),CONCATENATE(\"Hul \",C192 + 2))","v":"Hul 9"}]
[null,{"$f":"IF(C192+3 > 12,CONCATENATE(\"Hul \",C192 + 3 - 12),CONCATENATE(\"Hul \",C192 + 3))","v":"Hul 10"}]
[null,{"$f":"IF(C192+4 > 12,CONCATENATE(\"Hul \",C192 + 4 - 12),CONCATENATE(\"Hul \",C192 + 4))","v":"Hul 11"}]
[null,{"$f":"IF(C192+5 > 12,CONCATENATE(\"Hul \",C192 + 5 - 12),CONCATENATE(\"Hul \",C192 + 5))","v":"Hul 12"}]
[null,{"$f":"IF(C192+6 > 12,CONCATENATE(\"Hul \",C192 + 6 - 12),CONCATENATE(\"Hul \",C192 + 6))","v":"Hul 1"}]
[null,{"$f":"IF(C192+7 > 12,CONCATENATE(\"Hul \",C192 + 7 - 12),CONCATENATE(\"Hul \",C192 + 7))","v":"Hul 2"}]
[null,{"$f":"IF(C192+8 > 12,CONCATENATE(\"Hul \",C192 + 8 - 12),CONCATENATE(\"Hul \",C192 + 8))","v":"Hul 3"}]
[null,{"$f":"IF(C192+9 > 12,CONCATENATE(\"Hul \",C192 + 9 - 12),CONCATENATE(\"Hul \",C192 + 9))","v":"Hul 4"}]
[null,{"$f":"IF(C192+10 > 12,CONCATENATE(\"Hul \",C192 + 10 - 12),CONCATENATE(\"Hul \",C192 + 10))","v":"Hul 5"}]
[null,{"$f":"IF(C192+11 > 12,CONCATENATE(\"Hul \",C192 + 11 - 12),CONCATENATE(\"Hul \",C192 + 11))","v":"Hul 6"}]
[null,"I alt"]
[null,{"$f":"Setup!$B$8","v":0}]
[null,"Dommer:"]
[]
[]
[null,{"$f":"CONCATENATE(\"       \",'Puljer runde 1'!$A$30)","v":"       0"},null,{"$f":"Setup!$B$2","v":"Minitræf i Houlbjerg"},null,null,null,null,null,null,{"$f":"'Puljer runde 2'!$B$3","v":"Runde 2"},{"$f":"CONCATENATE('Puljer runde 1'!$A$15,\".\",'Puljer runde 1'!$M$20)","v":"Grøn.5"}]
[null,"Til hul",{"$f":"'Puljer runde 1'!$L$20","v":9},null,null,null,null,null,null,null,{"$f":"Setup!$B$4","v":"29. juli 2015"}]
[null,null,{"$f":"IF('Puljer runde 1'!B$20=\"\",\"\",'Puljer runde 1'!B$20)","v":"Jonna Kjeldsen"},null,{"$f":"IF('Puljer runde 1'!D$20=\"\",\"\",'Puljer runde 1'!D$20)","v":"Poul Henriksen"},null,{"$f":"IF('Puljer runde 1'!F$20=\"\",\"\",'Puljer runde 1'!F$20)","v":"Jens Tvi Holmsgaard"},null,{"$f":"IF('Puljer runde 1'!H$20=\"\",\"\",'Puljer runde 1'!H$20)","v":"Hanne Else Knudsen"},null,{"$f":"IF('Puljer runde 1'!J$20=\"\",\"\",'Puljer runde 1'!J$20)","v":"Hans J. Christensen"}]
[null,null,{"$f":"IF('Puljer runde 1'!C$20=\"\",\"\",'Puljer runde 1'!C$20)","v":"Hammel"},null,{"$f":"IF('Puljer runde 1'!E$20=\"\",\"\",'Puljer runde 1'!E$20)","v":"Houlbjerg"},null,{"$f":"IF('Puljer runde 1'!G$20=\"\",\"\",'Puljer runde 1'!G$20)","v":"Lystrup"},null,{"$f":"IF('Puljer runde 1'!I$20=\"\",\"\",'Puljer runde 1'!I$20)","v":"Silkeborg"},null,{"$f":"IF('Puljer runde 1'!K$20=\"\",\"\",'Puljer runde 1'!K$20)","v":"Ulstrup"}]
[null,{"$f":"CONCATENATE(\"Hul \",C213)","v":"Hul 9"}]
[null,{"$f":"IF(C213+1 > 12,CONCATENATE(\"Hul \",C213 + 1 - 12),CONCATENATE(\"Hul \",C213 + 1))","v":"Hul 10"}]
[null,{"$f":"IF(C213+2 > 12,CONCATENATE(\"Hul \",C213 + 2 - 12),CONCATENATE(\"Hul \",C213 + 2))","v":"Hul 11"}]
[null,{"$f":"IF(C213+3 > 12,CONCATENATE(\"Hul \",C213 + 3 - 12),CONCATENATE(\"Hul \",C213 + 3))","v":"Hul 12"}]
[null,{"$f":"IF(C213+4 > 12,CONCATENATE(\"Hul \",C213 + 4 - 12),CONCATENATE(\"Hul \",C213 + 4))","v":"Hul 1"}]
[null,{"$f":"IF(C213+5 > 12,CONCATENATE(\"Hul \",C213 + 5 - 12),CONCATENATE(\"Hul \",C213 + 5))","v":"Hul 2"}]
[null,{"$f":"IF(C213+6 > 12,CONCATENATE(\"Hul \",C213 + 6 - 12),CONCATENATE(\"Hul \",C213 + 6))","v":"Hul 3"}]
[null,{"$f":"IF(C213+7 > 12,CONCATENATE(\"Hul \",C213 + 7 - 12),CONCATENATE(\"Hul \",C213 + 7))","v":"Hul 4"}]
[null,{"$f":"IF(C213+8 > 12,CONCATENATE(\"Hul \",C213 + 8 - 12),CONCATENATE(\"Hul \",C213 + 8))","v":"Hul 5"}]
[null,{"$f":"IF(C213+9 > 12,CONCATENATE(\"Hul \",C213 + 9 - 12),CONCATENATE(\"Hul \",C213 + 9))","v":"Hul 6"}]
[null,{"$f":"IF(C213+10 > 12,CONCATENATE(\"Hul \",C213 + 10 - 12),CONCATENATE(\"Hul \",C213 + 10))","v":"Hul 7"}]
[null,{"$f":"IF(C213+11 > 12,CONCATENATE(\"Hul \",C213 + 11 - 12),CONCATENATE(\"Hul \",C213 + 11))","v":"Hul 8"}]
[null,"I alt"]
[null,{"$f":"Setup!$B$8","v":0}]
[null,"Dommer:"]
[]
[]
[null,{"$f":"CONCATENATE(\"       \",'Puljer runde 1'!$A$31)","v":"       0"},null,{"$f":"Setup!$B$2","v":"Minitræf i Houlbjerg"},null,null,null,null,null,null,{"$f":"'Puljer runde 2'!$B$3","v":"Runde 2"},{"$f":"CONCATENATE('Puljer runde 1'!$A$15,\".\",'Puljer runde 1'!$M$21)","v":"Grøn.6"}]
[null,"Til hul",{"$f":"'Puljer runde 1'!$L$21","v":11},null,null,null,null,null,null,null,{"$f":"Setup!$B$4","v":"29. juli 2015"}]
[null,null,{"$f":"IF('Puljer runde 1'!B$21=\"\",\"\",'Puljer runde 1'!B$21)","v":"Børge Jensen"},null,{"$f":"IF('Puljer runde 1'!D$21=\"\",\"\",'Puljer runde 1'!D$21)","v":"Alice Madsen"},null,{"$f":"IF('Puljer runde 1'!F$21=\"\",\"\",'Puljer runde 1'!F$21)","v":"Alma Eriksen"},null,{"$f":"IF('Puljer runde 1'!H$21=\"\",\"\",'Puljer runde 1'!H$21)","v":"Lilly Hansen"},null,{"$f":"IF('Puljer runde 1'!J$21=\"\",\"\",'Puljer runde 1'!J$21)","v":"Ulla Ravn"}]
[null,null,{"$f":"IF('Puljer runde 1'!C$21=\"\",\"\",'Puljer runde 1'!C$21)","v":"Houlbjerg"},null,{"$f":"IF('Puljer runde 1'!E$21=\"\",\"\",'Puljer runde 1'!E$21)","v":"Høst"},null,{"$f":"IF('Puljer runde 1'!G$21=\"\",\"\",'Puljer runde 1'!G$21)","v":"Låsby"},null,{"$f":"IF('Puljer runde 1'!I$21=\"\",\"\",'Puljer runde 1'!I$21)","v":"Silkeborg"},null,{"$f":"IF('Puljer runde 1'!K$21=\"\",\"\",'Puljer runde 1'!K$21)","v":"Ulstrup"}]
[null,{"$f":"CONCATENATE(\"Hul \",C234)","v":"Hul 11"}]
[null,{"$f":"IF(C234+1 > 12,CONCATENATE(\"Hul \",C234 + 1 - 12),CONCATENATE(\"Hul \",C234 + 1))","v":"Hul 12"}]
[null,{"$f":"IF(C234+2 > 12,CONCATENATE(\"Hul \",C234 + 2 - 12),CONCATENATE(\"Hul \",C234 + 2))","v":"Hul 1"}]
[null,{"$f":"IF(C234+3 > 12,CONCATENATE(\"Hul \",C234 + 3 - 12),CONCATENATE(\"Hul \",C234 + 3))","v":"Hul 2"}]
[null,{"$f":"IF(C234+4 > 12,CONCATENATE(\"Hul \",C234 + 4 - 12),CONCATENATE(\"Hul \",C234 + 4))","v":"Hul 3"}]
[null,{"$f":"IF(C234+5 > 12,CONCATENATE(\"Hul \",C234 + 5 - 12),CONCATENATE(\"Hul \",C234 + 5))","v":"Hul 4"}]
[null,{"$f":"IF(C234+6 > 12,CONCATENATE(\"Hul \",C234 + 6 - 12),CONCATENATE(\"Hul \",C234 + 6))","v":"Hul 5"}]
[null,{"$f":"IF(C234+7 > 12,CONCATENATE(\"Hul \",C234 + 7 - 12),CONCATENATE(\"Hul \",C234 + 7))","v":"Hul 6"}]
[null,{"$f":"IF(C234+8 > 12,CONCATENATE(\"Hul \",C234 + 8 - 12),CONCATENATE(\"Hul \",C234 + 8))","v":"Hul 7"}]
[null,{"$f":"IF(C234+9 > 12,CONCATENATE(\"Hul \",C234 + 9 - 12),CONCATENATE(\"Hul \",C234 + 9))","v":"Hul 8"}]
[null,{"$f":"IF(C234+10 > 12,CONCATENATE(\"Hul \",C234 + 10 - 12),CONCATENATE(\"Hul \",C234 + 10))","v":"Hul 9"}]
[null,{"$f":"IF(C234+11 > 12,CONCATENATE(\"Hul \",C234 + 11 - 12),CONCATENATE(\"Hul \",C234 + 11))","v":"Hul 10"}]
[null,"I alt"]
[null,{"$f":"Setup!$B$8","v":0}]
[null,"Dommer:"]
[]
[]
[null,{"$f":"CONCATENATE(\"       \",'Puljer runde 1'!$A$36)","v":"       "},null,{"$f":"Setup!$B$2","v":"Minitræf i Houlbjerg"},null,null,null,null,null,null,{"$f":"'Puljer runde 2'!$B$3","v":"Runde 2"},{"$f":"CONCATENATE('Puljer runde 1'!$A$25,\".\",'Puljer runde 1'!$M$26)","v":"x.1"}]
[null,"Til hul",{"$f":"'Puljer runde 1'!$L$26","v":0},null,null,null,null,null,null,null,{"$f":"Setup!$B$4","v":"29. juli 2015"}]
[null,null,{"$f":"IF('Puljer runde 1'!B$26=\"\",\"\",'Puljer runde 1'!B$26)","v":""},null,{"$f":"IF('Puljer runde 1'!D$26=\"\",\"\",'Puljer runde 1'!D$26)","v":""},null,{"$f":"IF('Puljer runde 1'!F$26=\"\",\"\",'Puljer runde 1'!F$26)","v":""},null,{"$f":"IF('Puljer runde 1'!H$26=\"\",\"\",'Puljer runde 1'!H$26)","v":""},null,{"$f":"IF('Puljer runde 1'!J$26=\"\",\"\",'Puljer runde 1'!J$26)","v":""}]
[null,null,{"$f":"IF('Puljer runde 1'!C$26=\"\",\"\",'Puljer runde 1'!C$26)","v":""},null,{"$f":"IF('Puljer runde 1'!E$26=\"\",\"\",'Puljer runde 1'!E$26)","v":""},null,{"$f":"IF('Puljer runde 1'!G$26=\"\",\"\",'Puljer runde 1'!G$26)","v":""},null,{"$f":"IF('Puljer runde 1'!I$26=\"\",\"\",'Puljer runde 1'!I$26)","v":""},null,{"$f":"IF('Puljer runde 1'!K$26=\"\",\"\",'Puljer runde 1'!K$26)","v":""}]
[null,{"$f":"CONCATENATE(\"Hul \",C255)","v":"Hul 0"}]
[null,{"$f":"IF(C255+1 > 12,CONCATENATE(\"Hul \",C255 + 1 - 12),CONCATENATE(\"Hul \",C255 + 1))","v":"Hul 1"}]
[null,{"$f":"IF(C255+2 > 12,CONCATENATE(\"Hul \",C255 + 2 - 12),CONCATENATE(\"Hul \",C255 + 2))","v":"Hul 2"}]
[null,{"$f":"IF(C255+3 > 12,CONCATENATE(\"Hul \",C255 + 3 - 12),CONCATENATE(\"Hul \",C255 + 3))","v":"Hul 3"}]
[null,{"$f":"IF(C255+4 > 12,CONCATENATE(\"Hul \",C255 + 4 - 12),CONCATENATE(\"Hul \",C255 + 4))","v":"Hul 4"}]
[null,{"$f":"IF(C255+5 > 12,CONCATENATE(\"Hul \",C255 + 5 - 12),CONCATENATE(\"Hul \",C255 + 5))","v":"Hul 5"}]
[null,{"$f":"IF(C255+6 > 12,CONCATENATE(\"Hul \",C255 + 6 - 12),CONCATENATE(\"Hul \",C255 + 6))","v":"Hul 6"}]
[null,{"$f":"IF(C255+7 > 12,CONCATENATE(\"Hul \",C255 + 7 - 12),CONCATENATE(\"Hul \",C255 + 7))","v":"Hul 7"}]
[null,{"$f":"IF(C255+8 > 12,CONCATENATE(\"Hul \",C255 + 8 - 12),CONCATENATE(\"Hul \",C255 + 8))","v":"Hul 8"}]
[null,{"$f":"IF(C255+9 > 12,CONCATENATE(\"Hul \",C255 + 9 - 12),CONCATENATE(\"Hul \",C255 + 9))","v":"Hul 9"}]
[null,{"$f":"IF(C255+10 > 12,CONCATENATE(\"Hul \",C255 + 10 - 12),CONCATENATE(\"Hul \",C255 + 10))","v":"Hul 10"}]
[null,{"$f":"IF(C255+11 > 12,CONCATENATE(\"Hul \",C255 + 11 - 12),CONCATENATE(\"Hul \",C255 + 11))","v":"Hul 11"}]
[null,"I alt"]
[null,{"$f":"Setup!$B$8","v":0}]
[null,"Dommer:"]
[]
[]
[null,{"$f":"CONCATENATE(\"       \",'Puljer runde 1'!$A$37)","v":"       "},null,{"$f":"Setup!$B$2","v":"Minitræf i Houlbjerg"},null,null,null,null,null,null,{"$f":"'Puljer runde 2'!$B$3","v":"Runde 2"},{"$f":"CONCATENATE('Puljer runde 1'!$A$25,\".\",'Puljer runde 1'!$M$27)","v":"x.2"}]
[null,"Til hul",{"$f":"'Puljer runde 1'!$L$27","v":0},null,null,null,null,null,null,null,{"$f":"Setup!$B$4","v":"29. juli 2015"}]
[null,null,{"$f":"IF('Puljer runde 1'!B$27=\"\",\"\",'Puljer runde 1'!B$27)","v":""},null,{"$f":"IF('Puljer runde 1'!D$27=\"\",\"\",'Puljer runde 1'!D$27)","v":""},null,{"$f":"IF('Puljer runde 1'!F$27=\"\",\"\",'Puljer runde 1'!F$27)","v":""},null,{"$f":"IF('Puljer runde 1'!H$27=\"\",\"\",'Puljer runde 1'!H$27)","v":""},null,{"$f":"IF('Puljer runde 1'!J$27=\"\",\"\",'Puljer runde 1'!J$27)","v":""}]
[null,null,{"$f":"IF('Puljer runde 1'!C$27=\"\",\"\",'Puljer runde 1'!C$27)","v":""},null,{"$f":"IF('Puljer runde 1'!E$27=\"\",\"\",'Puljer runde 1'!E$27)","v":""},null,{"$f":"IF('Puljer runde 1'!G$27=\"\",\"\",'Puljer runde 1'!G$27)","v":""},null,{"$f":"IF('Puljer runde 1'!I$27=\"\",\"\",'Puljer runde 1'!I$27)","v":""},null,{"$f":"IF('Puljer runde 1'!K$27=\"\",\"\",'Puljer runde 1'!K$27)","v":""}]
[null,{"$f":"CONCATENATE(\"Hul \",C276)","v":"Hul 0"}]
[null,{"$f":"IF(C276+1 > 12,CONCATENATE(\"Hul \",C276 + 1 - 12),CONCATENATE(\"Hul \",C276 + 1))","v":"Hul 1"}]
[null,{"$f":"IF(C276+2 > 12,CONCATENATE(\"Hul \",C276 + 2 - 12),CONCATENATE(\"Hul \",C276 + 2))","v":"Hul 2"}]
[null,{"$f":"IF(C276+3 > 12,CONCATENATE(\"Hul \",C276 + 3 - 12),CONCATENATE(\"Hul \",C276 + 3))","v":"Hul 3"}]
[null,{"$f":"IF(C276+4 > 12,CONCATENATE(\"Hul \",C276 + 4 - 12),CONCATENATE(\"Hul \",C276 + 4))","v":"Hul 4"}]
[null,{"$f":"IF(C276+5 > 12,CONCATENATE(\"Hul \",C276 + 5 - 12),CONCATENATE(\"Hul \",C276 + 5))","v":"Hul 5"}]
[null,{"$f":"IF(C276+6 > 12,CONCATENATE(\"Hul \",C276 + 6 - 12),CONCATENATE(\"Hul \",C276 + 6))","v":"Hul 6"}]
[null,{"$f":"IF(C276+7 > 12,CONCATENATE(\"Hul \",C276 + 7 - 12),CONCATENATE(\"Hul \",C276 + 7))","v":"Hul 7"}]
[null,{"$f":"IF(C276+8 > 12,CONCATENATE(\"Hul \",C276 + 8 - 12),CONCATENATE(\"Hul \",C276 + 8))","v":"Hul 8"}]
[null,{"$f":"IF(C276+9 > 12,CONCATENATE(\"Hul \",C276 + 9 - 12),CONCATENATE(\"Hul \",C276 + 9))","v":"Hul 9"}]
[null,{"$f":"IF(C276+10 > 12,CONCATENATE(\"Hul \",C276 + 10 - 12),CONCATENATE(\"Hul \",C276 + 10))","v":"Hul 10"}]
[null,{"$f":"IF(C276+11 > 12,CONCATENATE(\"Hul \",C276 + 11 - 12),CONCATENATE(\"Hul \",C276 + 11))","v":"Hul 11"}]
[null,"I alt"]
[null,{"$f":"Setup!$B$8","v":0}]
[null,"Dommer:"]
[]
[]
[null,{"$f":"CONCATENATE(\"       \",'Puljer runde 1'!$A$38)","v":"       "},null,{"$f":"Setup!$B$2","v":"Minitræf i Houlbjerg"},null,null,null,null,null,null,{"$f":"'Puljer runde 2'!$B$3","v":"Runde 2"},{"$f":"CONCATENATE('Puljer runde 1'!$A$25,\".\",'Puljer runde 1'!$M$28)","v":"x.3"}]
[null,"Til hul",{"$f":"'Puljer runde 1'!$L$28","v":0},null,null,null,null,null,null,null,{"$f":"Setup!$B$4","v":"29. juli 2015"}]
[null,null,{"$f":"IF('Puljer runde 1'!B$28=\"\",\"\",'Puljer runde 1'!B$28)","v":""},null,{"$f":"IF('Puljer runde 1'!D$28=\"\",\"\",'Puljer runde 1'!D$28)","v":""},null,{"$f":"IF('Puljer runde 1'!F$28=\"\",\"\",'Puljer runde 1'!F$28)","v":""},null,{"$f":"IF('Puljer runde 1'!H$28=\"\",\"\",'Puljer runde 1'!H$28)","v":""},null,{"$f":"IF('Puljer runde 1'!J$28=\"\",\"\",'Puljer runde 1'!J$28)","v":""}]
[null,null,{"$f":"IF('Puljer runde 1'!C$28=\"\",\"\",'Puljer runde 1'!C$28)","v":""},null,{"$f":"IF('Puljer runde 1'!E$28=\"\",\"\",'Puljer runde 1'!E$28)","v":""},null,{"$f":"IF('Puljer runde 1'!G$28=\"\",\"\",'Puljer runde 1'!G$28)","v":""},null,{"$f":"IF('Puljer runde 1'!I$28=\"\",\"\",'Puljer runde 1'!I$28)","v":""},null,{"$f":"IF('Puljer runde 1'!K$28=\"\",\"\",'Puljer runde 1'!K$28)","v":""}]
[null,{"$f":"CONCATENATE(\"Hul \",C297)","v":"Hul 0"}]
[null,{"$f":"IF(C297+1 > 12,CONCATENATE(\"Hul \",C297 + 1 - 12),CONCATENATE(\"Hul \",C297 + 1))","v":"Hul 1"}]
[null,{"$f":"IF(C297+2 > 12,CONCATENATE(\"Hul \",C297 + 2 - 12),CONCATENATE(\"Hul \",C297 + 2))","v":"Hul 2"}]
[null,{"$f":"IF(C297+3 > 12,CONCATENATE(\"Hul \",C297 + 3 - 12),CONCATENATE(\"Hul \",C297 + 3))","v":"Hul 3"}]
[null,{"$f":"IF(C297+4 > 12,CONCATENATE(\"Hul \",C297 + 4 - 12),CONCATENATE(\"Hul \",C297 + 4))","v":"Hul 4"}]
[null,{"$f":"IF(C297+5 > 12,CONCATENATE(\"Hul \",C297 + 5 - 12),CONCATENATE(\"Hul \",C297 + 5))","v":"Hul 5"}]
[null,{"$f":"IF(C297+6 > 12,CONCATENATE(\"Hul \",C297 + 6 - 12),CONCATENATE(\"Hul \",C297 + 6))","v":"Hul 6"}]
[null,{"$f":"IF(C297+7 > 12,CONCATENATE(\"Hul \",C297 + 7 - 12),CONCATENATE(\"Hul \",C297 + 7))","v":"Hul 7"}]
[null,{"$f":"IF(C297+8 > 12,CONCATENATE(\"Hul \",C297 + 8 - 12),CONCATENATE(\"Hul \",C297 + 8))","v":"Hul 8"}]
[null,{"$f":"IF(C297+9 > 12,CONCATENATE(\"Hul \",C297 + 9 - 12),CONCATENATE(\"Hul \",C297 + 9))","v":"Hul 9"}]
[null,{"$f":"IF(C297+10 > 12,CONCATENATE(\"Hul \",C297 + 10 - 12),CONCATENATE(\"Hul \",C297 + 10))","v":"Hul 10"}]
[null,{"$f":"IF(C297+11 > 12,CONCATENATE(\"Hul \",C297 + 11 - 12),CONCATENATE(\"Hul \",C297 + 11))","v":"Hul 11"}]
[null,"I alt"]
[null,{"$f":"Setup!$B$8","v":0}]
[null,"Dommer:"]
[]
[]
[null,{"$f":"CONCATENATE(\"       \",'Puljer runde 1'!$A$39)","v":"       "},null,{"$f":"Setup!$B$2","v":"Minitræf i Houlbjerg"},null,null,null,null,null,null,{"$f":"'Puljer runde 2'!$B$3","v":"Runde 2"},{"$f":"CONCATENATE('Puljer runde 1'!$A$25,\".\",'Puljer runde 1'!$M$29)","v":"x.4"}]
[null,"Til hul",{"$f":"'Puljer runde 1'!$L$29","v":0},null,null,null,null,null,null,null,{"$f":"Setup!$B$4","v":"29. juli 2015"}]
[null,null,{"$f":"IF('Puljer runde 1'!B$29=\"\",\"\",'Puljer runde 1'!B$29)","v":""},null,{"$f":"IF('Puljer runde 1'!D$29=\"\",\"\",'Puljer runde 1'!D$29)","v":""},null,{"$f":"IF('Puljer runde 1'!F$29=\"\",\"\",'Puljer runde 1'!F$29)","v":""},null,{"$f":"IF('Puljer runde 1'!H$29=\"\",\"\",'Puljer runde 1'!H$29)","v":""},null,{"$f":"IF('Puljer runde 1'!J$29=\"\",\"\",'Puljer runde 1'!J$29)","v":""}]
[null,null,{"$f":"IF('Puljer runde 1'!C$29=\"\",\"\",'Puljer runde 1'!C$29)","v":""},null,{"$f":"IF('Puljer runde 1'!E$29=\"\",\"\",'Puljer runde 1'!E$29)","v":""},null,{"$f":"IF('Puljer runde 1'!G$29=\"\",\"\",'Puljer runde 1'!G$29)","v":""},null,{"$f":"IF('Puljer runde 1'!I$29=\"\",\"\",'Puljer runde 1'!I$29)","v":""},null,{"$f":"IF('Puljer runde 1'!K$29=\"\",\"\",'Puljer runde 1'!K$29)","v":""}]
[null,{"$f":"CONCATENATE(\"Hul \",C318)","v":"Hul 0"}]
[null,{"$f":"IF(C318+1 > 12,CONCATENATE(\"Hul \",C318 + 1 - 12),CONCATENATE(\"Hul \",C318 + 1))","v":"Hul 1"}]
[null,{"$f":"IF(C318+2 > 12,CONCATENATE(\"Hul \",C318 + 2 - 12),CONCATENATE(\"Hul \",C318 + 2))","v":"Hul 2"}]
[null,{"$f":"IF(C318+3 > 12,CONCATENATE(\"Hul \",C318 + 3 - 12),CONCATENATE(\"Hul \",C318 + 3))","v":"Hul 3"}]
[null,{"$f":"IF(C318+4 > 12,CONCATENATE(\"Hul \",C318 + 4 - 12),CONCATENATE(\"Hul \",C318 + 4))","v":"Hul 4"}]
[null,{"$f":"IF(C318+5 > 12,CONCATENATE(\"Hul \",C318 + 5 - 12),CONCATENATE(\"Hul \",C318 + 5))","v":"Hul 5"}]
[null,{"$f":"IF(C318+6 > 12,CONCATENATE(\"Hul \",C318 + 6 - 12),CONCATENATE(\"Hul \",C318 + 6))","v":"Hul 6"}]
[null,{"$f":"IF(C318+7 > 12,CONCATENATE(\"Hul \",C318 + 7 - 12),CONCATENATE(\"Hul \",C318 + 7))","v":"Hul 7"}]
[null,{"$f":"IF(C318+8 > 12,CONCATENATE(\"Hul \",C318 + 8 - 12),CONCATENATE(\"Hul \",C318 + 8))","v":"Hul 8"}]
[null,{"$f":"IF(C318+9 > 12,CONCATENATE(\"Hul \",C318 + 9 - 12),CONCATENATE(\"Hul \",C318 + 9))","v":"Hul 9"}]
[null,{"$f":"IF(C318+10 > 12,CONCATENATE(\"Hul \",C318 + 10 - 12),CONCATENATE(\"Hul \",C318 + 10))","v":"Hul 10"}]
[null,{"$f":"IF(C318+11 > 12,CONCATENATE(\"Hul \",C318 + 11 - 12),CONCATENATE(\"Hul \",C318 + 11))","v":"Hul 11"}]
[null,"I alt"]
[null,{"$f":"Setup!$B$8","v":0}]
[null,"Dommer:"]
[]
[]
[null,{"$f":"CONCATENATE(\"       \",'Puljer runde 1'!$A$40)","v":"       "},null,{"$f":"Setup!$B$2","v":"Minitræf i Houlbjerg"},null,null,null,null,null,null,{"$f":"'Puljer runde 2'!$B$3","v":"Runde 2"},{"$f":"CONCATENATE('Puljer runde 1'!$A$25,\".\",'Puljer runde 1'!$M$30)","v":"x.5"}]
[null,"Til hul",{"$f":"'Puljer runde 1'!$L$30","v":0},null,null,null,null,null,null,null,{"$f":"Setup!$B$4","v":"29. juli 2015"}]
[null,null,{"$f":"IF('Puljer runde 1'!B$30=\"\",\"\",'Puljer runde 1'!B$30)","v":""},null,{"$f":"IF('Puljer runde 1'!D$30=\"\",\"\",'Puljer runde 1'!D$30)","v":""},null,{"$f":"IF('Puljer runde 1'!F$30=\"\",\"\",'Puljer runde 1'!F$30)","v":""},null,{"$f":"IF('Puljer runde 1'!H$30=\"\",\"\",'Puljer runde 1'!H$30)","v":""},null,{"$f":"IF('Puljer runde 1'!J$30=\"\",\"\",'Puljer runde 1'!J$30)","v":""}]
[null,null,{"$f":"IF('Puljer runde 1'!C$30=\"\",\"\",'Puljer runde 1'!C$30)","v":""},null,{"$f":"IF('Puljer runde 1'!E$30=\"\",\"\",'Puljer runde 1'!E$30)","v":""},null,{"$f":"IF('Puljer runde 1'!G$30=\"\",\"\",'Puljer runde 1'!G$30)","v":""},null,{"$f":"IF('Puljer runde 1'!I$30=\"\",\"\",'Puljer runde 1'!I$30)","v":""},null,{"$f":"IF('Puljer runde 1'!K$30=\"\",\"\",'Puljer runde 1'!K$30)","v":""}]
[null,{"$f":"CONCATENATE(\"Hul \",C339)","v":"Hul 0"}]
[null,{"$f":"IF(C339+1 > 12,CONCATENATE(\"Hul \",C339 + 1 - 12),CONCATENATE(\"Hul \",C339 + 1))","v":"Hul 1"}]
[null,{"$f":"IF(C339+2 > 12,CONCATENATE(\"Hul \",C339 + 2 - 12),CONCATENATE(\"Hul \",C339 + 2))","v":"Hul 2"}]
[null,{"$f":"IF(C339+3 > 12,CONCATENATE(\"Hul \",C339 + 3 - 12),CONCATENATE(\"Hul \",C339 + 3))","v":"Hul 3"}]
[null,{"$f":"IF(C339+4 > 12,CONCATENATE(\"Hul \",C339 + 4 - 12),CONCATENATE(\"Hul \",C339 + 4))","v":"Hul 4"}]
[null,{"$f":"IF(C339+5 > 12,CONCATENATE(\"Hul \",C339 + 5 - 12),CONCATENATE(\"Hul \",C339 + 5))","v":"Hul 5"}]
[null,{"$f":"IF(C339+6 > 12,CONCATENATE(\"Hul \",C339 + 6 - 12),CONCATENATE(\"Hul \",C339 + 6))","v":"Hul 6"}]
[null,{"$f":"IF(C339+7 > 12,CONCATENATE(\"Hul \",C339 + 7 - 12),CONCATENATE(\"Hul \",C339 + 7))","v":"Hul 7"}]
[null,{"$f":"IF(C339+8 > 12,CONCATENATE(\"Hul \",C339 + 8 - 12),CONCATENATE(\"Hul \",C339 + 8))","v":"Hul 8"}]
[null,{"$f":"IF(C339+9 > 12,CONCATENATE(\"Hul \",C339 + 9 - 12),CONCATENATE(\"Hul \",C339 + 9))","v":"Hul 9"}]
[null,{"$f":"IF(C339+10 > 12,CONCATENATE(\"Hul \",C339 + 10 - 12),CONCATENATE(\"Hul \",C339 + 10))","v":"Hul 10"}]
[null,{"$f":"IF(C339+11 > 12,CONCATENATE(\"Hul \",C339 + 11 - 12),CONCATENATE(\"Hul \",C339 + 11))","v":"Hul 11"}]
[null,"I alt"]
[null,{"$f":"Setup!$B$8","v":0}]
[null,"Dommer:"]
[]
[]
[null,{"$f":"CONCATENATE(\"       \",'Puljer runde 1'!$A$41)","v":"       "},null,{"$f":"Setup!$B$2","v":"Minitræf i Houlbjerg"},null,null,null,null,null,null,{"$f":"'Puljer runde 2'!$B$3","v":"Runde 2"},{"$f":"CONCATENATE('Puljer runde 1'!$A$25,\".\",'Puljer runde 1'!$M$31)","v":"x.6"}]
[null,"Til hul",{"$f":"'Puljer runde 1'!$L$31","v":0},null,null,null,null,null,null,null,{"$f":"Setup!$B$4","v":"29. juli 2015"}]
[null,null,{"$f":"IF('Puljer runde 1'!B$31=\"\",\"\",'Puljer runde 1'!B$31)","v":""},null,{"$f":"IF('Puljer runde 1'!D$31=\"\",\"\",'Puljer runde 1'!D$31)","v":""},null,{"$f":"IF('Puljer runde 1'!F$31=\"\",\"\",'Puljer runde 1'!F$31)","v":""},null,{"$f":"IF('Puljer runde 1'!H$31=\"\",\"\",'Puljer runde 1'!H$31)","v":""},null,{"$f":"IF('Puljer runde 1'!J$31=\"\",\"\",'Puljer runde 1'!J$31)","v":""}]
[null,null,{"$f":"IF('Puljer runde 1'!C$31=\"\",\"\",'Puljer runde 1'!C$31)","v":""},null,{"$f":"IF('Puljer runde 1'!E$31=\"\",\"\",'Puljer runde 1'!E$31)","v":""},null,{"$f":"IF('Puljer runde 1'!G$31=\"\",\"\",'Puljer runde 1'!G$31)","v":""},null,{"$f":"IF('Puljer runde 1'!I$31=\"\",\"\",'Puljer runde 1'!I$31)","v":""},null,{"$f":"IF('Puljer runde 1'!K$31=\"\",\"\",'Puljer runde 1'!K$31)","v":""}]
[null,{"$f":"CONCATENATE(\"Hul \",C360)","v":"Hul 0"}]
[null,{"$f":"IF(C360+1 > 12,CONCATENATE(\"Hul \",C360 + 1 - 12),CONCATENATE(\"Hul \",C360 + 1))","v":"Hul 1"}]
[null,{"$f":"IF(C360+2 > 12,CONCATENATE(\"Hul \",C360 + 2 - 12),CONCATENATE(\"Hul \",C360 + 2))","v":"Hul 2"}]
[null,{"$f":"IF(C360+3 > 12,CONCATENATE(\"Hul \",C360 + 3 - 12),CONCATENATE(\"Hul \",C360 + 3))","v":"Hul 3"}]
[null,{"$f":"IF(C360+4 > 12,CONCATENATE(\"Hul \",C360 + 4 - 12),CONCATENATE(\"Hul \",C360 + 4))","v":"Hul 4"}]
[null,{"$f":"IF(C360+5 > 12,CONCATENATE(\"Hul \",C360 + 5 - 12),CONCATENATE(\"Hul \",C360 + 5))","v":"Hul 5"}]
[null,{"$f":"IF(C360+6 > 12,CONCATENATE(\"Hul \",C360 + 6 - 12),CONCATENATE(\"Hul \",C360 + 6))","v":"Hul 6"}]
[null,{"$f":"IF(C360+7 > 12,CONCATENATE(\"Hul \",C360 + 7 - 12),CONCATENATE(\"Hul \",C360 + 7))","v":"Hul 7"}]
[null,{"$f":"IF(C360+8 > 12,CONCATENATE(\"Hul \",C360 + 8 - 12),CONCATENATE(\"Hul \",C360 + 8))","v":"Hul 8"}]
[null,{"$f":"IF(C360+9 > 12,CONCATENATE(\"Hul \",C360 + 9 - 12),CONCATENATE(\"Hul \",C360 + 9))","v":"Hul 9"}]
[null,{"$f":"IF(C360+10 > 12,CONCATENATE(\"Hul \",C360 + 10 - 12),CONCATENATE(\"Hul \",C360 + 10))","v":"Hul 10"}]
[null,{"$f":"IF(C360+11 > 12,CONCATENATE(\"Hul \",C360 + 11 - 12),CONCATENATE(\"Hul \",C360 + 11))","v":"Hul 11"}]
[null,"I alt"]
[null,{"$f":"Setup!$B$8","v":0}]
[null,"Dommer:"]
[]
[]
[null,{"$f":"CONCATENATE(\"       \",'Puljer runde 1'!$A$6)","v":"       Bane 1"},null,{"$f":"Setup!$B$2","v":"Minitræf i Houlbjerg"},null,null,null,null,null,null,{"$f":"'Puljer runde 2'!$B$3","v":"Runde 2"},{"$f":"CONCATENATE('Puljer runde 1'!$A$35,\".\",'Puljer runde 1'!$M$36)","v":"x.1"}]
[null,"Til hul",{"$f":"'Puljer runde 1'!$L$36","v":0},null,null,null,null,null,null,null,{"$f":"Setup!$B$4","v":"29. juli 2015"}]
[null,null,{"$f":"IF('Puljer runde 1'!B$36=\"\",\"\",'Puljer runde 1'!B$36)","v":""},null,{"$f":"IF('Puljer runde 1'!D$36=\"\",\"\",'Puljer runde 1'!D$36)","v":""},null,{"$f":"IF('Puljer runde 1'!F$36=\"\",\"\",'Puljer runde 1'!F$36)","v":""},null,{"$f":"IF('Puljer runde 1'!H$36=\"\",\"\",'Puljer runde 1'!H$36)","v":""},null,{"$f":"IF('Puljer runde 1'!J$36=\"\",\"\",'Puljer runde 1'!J$36)","v":""}]
[null,null,{"$f":"IF('Puljer runde 1'!C$36=\"\",\"\",'Puljer runde 1'!C$36)","v":""},null,{"$f":"IF('Puljer runde 1'!E$36=\"\",\"\",'Puljer runde 1'!E$36)","v":""},null,{"$f":"IF('Puljer runde 1'!G$36=\"\",\"\",'Puljer runde 1'!G$36)","v":""},null,{"$f":"IF('Puljer runde 1'!I$36=\"\",\"\",'Puljer runde 1'!I$36)","v":""},null,{"$f":"IF('Puljer runde 1'!K$36=\"\",\"\",'Puljer runde 1'!K$36)","v":""}]
[null,{"$f":"CONCATENATE(\"Hul \",C381)","v":"Hul 0"}]
[null,{"$f":"IF(C381+1 > 12,CONCATENATE(\"Hul \",C381 + 1 - 12),CONCATENATE(\"Hul \",C381 + 1))","v":"Hul 1"}]
[null,{"$f":"IF(C381+2 > 12,CONCATENATE(\"Hul \",C381 + 2 - 12),CONCATENATE(\"Hul \",C381 + 2))","v":"Hul 2"}]
[null,{"$f":"IF(C381+3 > 12,CONCATENATE(\"Hul \",C381 + 3 - 12),CONCATENATE(\"Hul \",C381 + 3))","v":"Hul 3"}]
[null,{"$f":"IF(C381+4 > 12,CONCATENATE(\"Hul \",C381 + 4 - 12),CONCATENATE(\"Hul \",C381 + 4))","v":"Hul 4"}]
[null,{"$f":"IF(C381+5 > 12,CONCATENATE(\"Hul \",C381 + 5 - 12),CONCATENATE(\"Hul \",C381 + 5))","v":"Hul 5"}]
[null,{"$f":"IF(C381+6 > 12,CONCATENATE(\"Hul \",C381 + 6 - 12),CONCATENATE(\"Hul \",C381 + 6))","v":"Hul 6"}]
[null,{"$f":"IF(C381+7 > 12,CONCATENATE(\"Hul \",C381 + 7 - 12),CONCATENATE(\"Hul \",C381 + 7))","v":"Hul 7"}]
[null,{"$f":"IF(C381+8 > 12,CONCATENATE(\"Hul \",C381 + 8 - 12),CONCATENATE(\"Hul \",C381 + 8))","v":"Hul 8"}]
[null,{"$f":"IF(C381+9 > 12,CONCATENATE(\"Hul \",C381 + 9 - 12),CONCATENATE(\"Hul \",C381 + 9))","v":"Hul 9"}]
[null,{"$f":"IF(C381+10 > 12,CONCATENATE(\"Hul \",C381 + 10 - 12),CONCATENATE(\"Hul \",C381 + 10))","v":"Hul 10"}]
[null,{"$f":"IF(C381+11 > 12,CONCATENATE(\"Hul \",C381 + 11 - 12),CONCATENATE(\"Hul \",C381 + 11))","v":"Hul 11"}]
[null,"I alt"]
[null,{"$f":"Setup!$B$8","v":0}]
[null,"Dommer:"]
[]
[]
[null,{"$f":"CONCATENATE(\"       \",'Puljer runde 1'!$A$7)","v":"       Bane 1"},null,{"$f":"Setup!$B$2","v":"Minitræf i Houlbjerg"},null,null,null,null,null,null,{"$f":"'Puljer runde 2'!$B$3","v":"Runde 2"},{"$f":"CONCATENATE('Puljer runde 1'!$A$35,\".\",'Puljer runde 1'!$M$37)","v":"x.2"}]
[null,"Til hul",{"$f":"'Puljer runde 1'!$L$37","v":0},null,null,null,null,null,null,null,{"$f":"Setup!$B$4","v":"29. juli 2015"}]
[null,null,{"$f":"IF('Puljer runde 1'!B$37=\"\",\"\",'Puljer runde 1'!B$37)","v":""},null,{"$f":"IF('Puljer runde 1'!D$37=\"\",\"\",'Puljer runde 1'!D$37)","v":""},null,{"$f":"IF('Puljer runde 1'!F$37=\"\",\"\",'Puljer runde 1'!F$37)","v":""},null,{"$f":"IF('Puljer runde 1'!H$37=\"\",\"\",'Puljer runde 1'!H$37)","v":""},null,{"$f":"IF('Puljer runde 1'!J$37=\"\",\"\",'Puljer runde 1'!J$37)","v":""}]
[null,null,{"$f":"IF('Puljer runde 1'!C$37=\"\",\"\",'Puljer runde 1'!C$37)","v":""},null,{"$f":"IF('Puljer runde 1'!E$37=\"\",\"\",'Puljer runde 1'!E$37)","v":""},null,{"$f":"IF('Puljer runde 1'!G$37=\"\",\"\",'Puljer runde 1'!G$37)","v":""},null,{"$f":"IF('Puljer runde 1'!I$37=\"\",\"\",'Puljer runde 1'!I$37)","v":""},null,{"$f":"IF('Puljer runde 1'!K$37=\"\",\"\",'Puljer runde 1'!K$37)","v":""}]
[null,{"$f":"CONCATENATE(\"Hul \",C402)","v":"Hul 0"}]
[null,{"$f":"IF(C402+1 > 12,CONCATENATE(\"Hul \",C402 + 1 - 12),CONCATENATE(\"Hul \",C402 + 1))","v":"Hul 1"}]
[null,{"$f":"IF(C402+2 > 12,CONCATENATE(\"Hul \",C402 + 2 - 12),CONCATENATE(\"Hul \",C402 + 2))","v":"Hul 2"}]
[null,{"$f":"IF(C402+3 > 12,CONCATENATE(\"Hul \",C402 + 3 - 12),CONCATENATE(\"Hul \",C402 + 3))","v":"Hul 3"}]
[null,{"$f":"IF(C402+4 > 12,CONCATENATE(\"Hul \",C402 + 4 - 12),CONCATENATE(\"Hul \",C402 + 4))","v":"Hul 4"}]
[null,{"$f":"IF(C402+5 > 12,CONCATENATE(\"Hul \",C402 + 5 - 12),CONCATENATE(\"Hul \",C402 + 5))","v":"Hul 5"}]
[null,{"$f":"IF(C402+6 > 12,CONCATENATE(\"Hul \",C402 + 6 - 12),CONCATENATE(\"Hul \",C402 + 6))","v":"Hul 6"}]
[null,{"$f":"IF(C402+7 > 12,CONCATENATE(\"Hul \",C402 + 7 - 12),CONCATENATE(\"Hul \",C402 + 7))","v":"Hul 7"}]
[null,{"$f":"IF(C402+8 > 12,CONCATENATE(\"Hul \",C402 + 8 - 12),CONCATENATE(\"Hul \",C402 + 8))","v":"Hul 8"}]
[null,{"$f":"IF(C402+9 > 12,CONCATENATE(\"Hul \",C402 + 9 - 12),CONCATENATE(\"Hul \",C402 + 9))","v":"Hul 9"}]
[null,{"$f":"IF(C402+10 > 12,CONCATENATE(\"Hul \",C402 + 10 - 12),CONCATENATE(\"Hul \",C402 + 10))","v":"Hul 10"}]
[null,{"$f":"IF(C402+11 > 12,CONCATENATE(\"Hul \",C402 + 11 - 12),CONCATENATE(\"Hul \",C402 + 11))","v":"Hul 11"}]
[null,"I alt"]
[null,{"$f":"Setup!$B$8","v":0}]
[null,"Dommer:"]
[]
[]
[null,{"$f":"CONCATENATE(\"       \",'Puljer runde 1'!$A$8)","v":"       Bane 1"},null,{"$f":"Setup!$B$2","v":"Minitræf i Houlbjerg"},null,null,null,null,null,null,{"$f":"'Puljer runde 2'!$B$3","v":"Runde 2"},{"$f":"CONCATENATE('Puljer runde 1'!$A$35,\".\",'Puljer runde 1'!$M$38)","v":"x.3"}]
[null,"Til hul",{"$f":"'Puljer runde 1'!$L$38","v":0},null,null,null,null,null,null,null,{"$f":"Setup!$B$4","v":"29. juli 2015"}]
[null,null,{"$f":"IF('Puljer runde 1'!B$38=\"\",\"\",'Puljer runde 1'!B$38)","v":""},null,{"$f":"IF('Puljer runde 1'!D$38=\"\",\"\",'Puljer runde 1'!D$38)","v":""},null,{"$f":"IF('Puljer runde 1'!F$38=\"\",\"\",'Puljer runde 1'!F$38)","v":""},null,{"$f":"IF('Puljer runde 1'!H$38=\"\",\"\",'Puljer runde 1'!H$38)","v":""},null,{"$f":"IF('Puljer runde 1'!J$38=\"\",\"\",'Puljer runde 1'!J$38)","v":""}]
[null,null,{"$f":"IF('Puljer runde 1'!C$38=\"\",\"\",'Puljer runde 1'!C$38)","v":""},null,{"$f":"IF('Puljer runde 1'!E$38=\"\",\"\",'Puljer runde 1'!E$38)","v":""},null,{"$f":"IF('Puljer runde 1'!G$38=\"\",\"\",'Puljer runde 1'!G$38)","v":""},null,{"$f":"IF('Puljer runde 1'!I$38=\"\",\"\",'Puljer runde 1'!I$38)","v":""},null,{"$f":"IF('Puljer runde 1'!K$38=\"\",\"\",'Puljer runde 1'!K$38)","v":""}]
[null,{"$f":"CONCATENATE(\"Hul \",C423)","v":"Hul 0"}]
[null,{"$f":"IF(C423+1 > 12,CONCATENATE(\"Hul \",C423 + 1 - 12),CONCATENATE(\"Hul \",C423 + 1))","v":"Hul 1"}]
[null,{"$f":"IF(C423+2 > 12,CONCATENATE(\"Hul \",C423 + 2 - 12),CONCATENATE(\"Hul \",C423 + 2))","v":"Hul 2"}]
[null,{"$f":"IF(C423+3 > 12,CONCATENATE(\"Hul \",C423 + 3 - 12),CONCATENATE(\"Hul \",C423 + 3))","v":"Hul 3"}]
[null,{"$f":"IF(C423+4 > 12,CONCATENATE(\"Hul \",C423 + 4 - 12),CONCATENATE(\"Hul \",C423 + 4))","v":"Hul 4"}]
[null,{"$f":"IF(C423+5 > 12,CONCATENATE(\"Hul \",C423 + 5 - 12),CONCATENATE(\"Hul \",C423 + 5))","v":"Hul 5"}]
[null,{"$f":"IF(C423+6 > 12,CONCATENATE(\"Hul \",C423 + 6 - 12),CONCATENATE(\"Hul \",C423 + 6))","v":"Hul 6"}]
[null,{"$f":"IF(C423+7 > 12,CONCATENATE(\"Hul \",C423 + 7 - 12),CONCATENATE(\"Hul \",C423 + 7))","v":"Hul 7"}]
[null,{"$f":"IF(C423+8 > 12,CONCATENATE(\"Hul \",C423 + 8 - 12),CONCATENATE(\"Hul \",C423 + 8))","v":"Hul 8"}]
[null,{"$f":"IF(C423+9 > 12,CONCATENATE(\"Hul \",C423 + 9 - 12),CONCATENATE(\"Hul \",C423 + 9))","v":"Hul 9"}]
[null,{"$f":"IF(C423+10 > 12,CONCATENATE(\"Hul \",C423 + 10 - 12),CONCATENATE(\"Hul \",C423 + 10))","v":"Hul 10"}]
[null,{"$f":"IF(C423+11 > 12,CONCATENATE(\"Hul \",C423 + 11 - 12),CONCATENATE(\"Hul \",C423 + 11))","v":"Hul 11"}]
[null,"I alt"]
[null,{"$f":"Setup!$B$8","v":0}]
[null,"Dommer:"]
[]
[]
[null,{"$f":"CONCATENATE(\"       \",'Puljer runde 1'!$A$9)","v":"       Bane 1"},null,{"$f":"Setup!$B$2","v":"Minitræf i Houlbjerg"},null,null,null,null,null,null,{"$f":"'Puljer runde 2'!$B$3","v":"Runde 2"},{"$f":"CONCATENATE('Puljer runde 1'!$A$35,\".\",'Puljer runde 1'!$M$39)","v":"x.4"}]
[null,"Til hul",{"$f":"'Puljer runde 1'!$L$39","v":0},null,null,null,null,null,null,null,{"$f":"Setup!$B$4","v":"29. juli 2015"}]
[null,null,{"$f":"IF('Puljer runde 1'!B$39=\"\",\"\",'Puljer runde 1'!B$39)","v":""},null,{"$f":"IF('Puljer runde 1'!D$39=\"\",\"\",'Puljer runde 1'!D$39)","v":""},null,{"$f":"IF('Puljer runde 1'!F$39=\"\",\"\",'Puljer runde 1'!F$39)","v":""},null,{"$f":"IF('Puljer runde 1'!H$39=\"\",\"\",'Puljer runde 1'!H$39)","v":""},null,{"$f":"IF('Puljer runde 1'!J$39=\"\",\"\",'Puljer runde 1'!J$39)","v":""}]
[null,null,{"$f":"IF('Puljer runde 1'!C$39=\"\",\"\",'Puljer runde 1'!C$39)","v":""},null,{"$f":"IF('Puljer runde 1'!E$39=\"\",\"\",'Puljer runde 1'!E$39)","v":""},null,{"$f":"IF('Puljer runde 1'!G$39=\"\",\"\",'Puljer runde 1'!G$39)","v":""},null,{"$f":"IF('Puljer runde 1'!I$39=\"\",\"\",'Puljer runde 1'!I$39)","v":""},null,{"$f":"IF('Puljer runde 1'!K$39=\"\",\"\",'Puljer runde 1'!K$39)","v":""}]
[null,{"$f":"CONCATENATE(\"Hul \",C444)","v":"Hul 0"}]
[null,{"$f":"IF(C444+1 > 12,CONCATENATE(\"Hul \",C444 + 1 - 12),CONCATENATE(\"Hul \",C444 + 1))","v":"Hul 1"}]
[null,{"$f":"IF(C444+2 > 12,CONCATENATE(\"Hul \",C444 + 2 - 12),CONCATENATE(\"Hul \",C444 + 2))","v":"Hul 2"}]
[null,{"$f":"IF(C444+3 > 12,CONCATENATE(\"Hul \",C444 + 3 - 12),CONCATENATE(\"Hul \",C444 + 3))","v":"Hul 3"}]
[null,{"$f":"IF(C444+4 > 12,CONCATENATE(\"Hul \",C444 + 4 - 12),CONCATENATE(\"Hul \",C444 + 4))","v":"Hul 4"}]
[null,{"$f":"IF(C444+5 > 12,CONCATENATE(\"Hul \",C444 + 5 - 12),CONCATENATE(\"Hul \",C444 + 5))","v":"Hul 5"}]
[null,{"$f":"IF(C444+6 > 12,CONCATENATE(\"Hul \",C444 + 6 - 12),CONCATENATE(\"Hul \",C444 + 6))","v":"Hul 6"}]
[null,{"$f":"IF(C444+7 > 12,CONCATENATE(\"Hul \",C444 + 7 - 12),CONCATENATE(\"Hul \",C444 + 7))","v":"Hul 7"}]
[null,{"$f":"IF(C444+8 > 12,CONCATENATE(\"Hul \",C444 + 8 - 12),CONCATENATE(\"Hul \",C444 + 8))","v":"Hul 8"}]
[null,{"$f":"IF(C444+9 > 12,CONCATENATE(\"Hul \",C444 + 9 - 12),CONCATENATE(\"Hul \",C444 + 9))","v":"Hul 9"}]
[null,{"$f":"IF(C444+10 > 12,CONCATENATE(\"Hul \",C444 + 10 - 12),CONCATENATE(\"Hul \",C444 + 10))","v":"Hul 10"}]
[null,{"$f":"IF(C444+11 > 12,CONCATENATE(\"Hul \",C444 + 11 - 12),CONCATENATE(\"Hul \",C444 + 11))","v":"Hul 11"}]
[null,"I alt"]
[null,{"$f":"Setup!$B$8","v":0}]
[null,"Dommer:"]
[]
[]
[null,{"$f":"CONCATENATE(\"       \",'Puljer runde 1'!$A$10)","v":"       Bane 1"},null,{"$f":"Setup!$B$2","v":"Minitræf i Houlbjerg"},null,null,null,null,null,null,{"$f":"'Puljer runde 2'!$B$3","v":"Runde 2"},{"$f":"CONCATENATE('Puljer runde 1'!$A$35,\".\",'Puljer runde 1'!$M$40)","v":"x.5"}]
[null,"Til hul",{"$f":"'Puljer runde 1'!$L$40","v":0},null,null,null,null,null,null,null,{"$f":"Setup!$B$4","v":"29. juli 2015"}]
[null,null,{"$f":"IF('Puljer runde 1'!B$40=\"\",\"\",'Puljer runde 1'!B$40)","v":""},null,{"$f":"IF('Puljer runde 1'!D$40=\"\",\"\",'Puljer runde 1'!D$40)","v":""},null,{"$f":"IF('Puljer runde 1'!F$40=\"\",\"\",'Puljer runde 1'!F$40)","v":""},null,{"$f":"IF('Puljer runde 1'!H$40=\"\",\"\",'Puljer runde 1'!H$40)","v":""},null,{"$f":"IF('Puljer runde 1'!J$40=\"\",\"\",'Puljer runde 1'!J$40)","v":""}]
[null,null,{"$f":"IF('Puljer runde 1'!C$40=\"\",\"\",'Puljer runde 1'!C$40)","v":""},null,{"$f":"IF('Puljer runde 1'!E$40=\"\",\"\",'Puljer runde 1'!E$40)","v":""},null,{"$f":"IF('Puljer runde 1'!G$40=\"\",\"\",'Puljer runde 1'!G$40)","v":""},null,{"$f":"IF('Puljer runde 1'!I$40=\"\",\"\",'Puljer runde 1'!I$40)","v":""},null,{"$f":"IF('Puljer runde 1'!K$40=\"\",\"\",'Puljer runde 1'!K$40)","v":""}]
[null,{"$f":"CONCATENATE(\"Hul \",C465)","v":"Hul 0"}]
[null,{"$f":"IF(C465+1 > 12,CONCATENATE(\"Hul \",C465 + 1 - 12),CONCATENATE(\"Hul \",C465 + 1))","v":"Hul 1"}]
[null,{"$f":"IF(C465+2 > 12,CONCATENATE(\"Hul \",C465 + 2 - 12),CONCATENATE(\"Hul \",C465 + 2))","v":"Hul 2"}]
[null,{"$f":"IF(C465+3 > 12,CONCATENATE(\"Hul \",C465 + 3 - 12),CONCATENATE(\"Hul \",C465 + 3))","v":"Hul 3"}]
[null,{"$f":"IF(C465+4 > 12,CONCATENATE(\"Hul \",C465 + 4 - 12),CONCATENATE(\"Hul \",C465 + 4))","v":"Hul 4"}]
[null,{"$f":"IF(C465+5 > 12,CONCATENATE(\"Hul \",C465 + 5 - 12),CONCATENATE(\"Hul \",C465 + 5))","v":"Hul 5"}]
[null,{"$f":"IF(C465+6 > 12,CONCATENATE(\"Hul \",C465 + 6 - 12),CONCATENATE(\"Hul \",C465 + 6))","v":"Hul 6"}]
[null,{"$f":"IF(C465+7 > 12,CONCATENATE(\"Hul \",C465 + 7 - 12),CONCATENATE(\"Hul \",C465 + 7))","v":"Hul 7"}]
[null,{"$f":"IF(C465+8 > 12,CONCATENATE(\"Hul \",C465 + 8 - 12),CONCATENATE(\"Hul \",C465 + 8))","v":"Hul 8"}]
[null,{"$f":"IF(C465+9 > 12,CONCATENATE(\"Hul \",C465 + 9 - 12),CONCATENATE(\"Hul \",C465 + 9))","v":"Hul 9"}]
[null,{"$f":"IF(C465+10 > 12,CONCATENATE(\"Hul \",C465 + 10 - 12),CONCATENATE(\"Hul \",C465 + 10))","v":"Hul 10"}]
[null,{"$f":"IF(C465+11 > 12,CONCATENATE(\"Hul \",C465 + 11 - 12),CONCATENATE(\"Hul \",C465 + 11))","v":"Hul 11"}]
[null,"I alt"]
[null,{"$f":"Setup!$B$8","v":0}]
[null,"Dommer:"]
[]
[]
[null,{"$f":"CONCATENATE(\"       \",'Puljer runde 1'!$A$11)","v":"       Bane 1"},null,{"$f":"Setup!$B$2","v":"Minitræf i Houlbjerg"},null,null,null,null,null,null,{"$f":"'Puljer runde 2'!$B$3","v":"Runde 2"},{"$f":"CONCATENATE('Puljer runde 1'!$A$35,\".\",'Puljer runde 1'!$M$41)","v":"x.6"}]
[null,"Til hul",{"$f":"'Puljer runde 1'!$L$41","v":0},null,null,null,null,null,null,null,{"$f":"Setup!$B$4","v":"29. juli 2015"}]
[null,null,{"$f":"IF('Puljer runde 1'!B$41=\"\",\"\",'Puljer runde 1'!B$41)","v":""},null,{"$f":"IF('Puljer runde 1'!D$41=\"\",\"\",'Puljer runde 1'!D$41)","v":""},null,{"$f":"IF('Puljer runde 1'!F$41=\"\",\"\",'Puljer runde 1'!F$41)","v":""},null,{"$f":"IF('Puljer runde 1'!H$41=\"\",\"\",'Puljer runde 1'!H$41)","v":""},null,{"$f":"IF('Puljer runde 1'!J$41=\"\",\"\",'Puljer runde 1'!J$41)","v":""}]
[null,null,{"$f":"IF('Puljer runde 1'!C$41=\"\",\"\",'Puljer runde 1'!C$41)","v":""},null,{"$f":"IF('Puljer runde 1'!E$41=\"\",\"\",'Puljer runde 1'!E$41)","v":""},null,{"$f":"IF('Puljer runde 1'!G$41=\"\",\"\",'Puljer runde 1'!G$41)","v":""},null,{"$f":"IF('Puljer runde 1'!I$41=\"\",\"\",'Puljer runde 1'!I$41)","v":""},null,{"$f":"IF('Puljer runde 1'!K$41=\"\",\"\",'Puljer runde 1'!K$41)","v":""}]
[null,{"$f":"CONCATENATE(\"Hul \",C486)","v":"Hul 0"}]
[null,{"$f":"IF(C486+1 > 12,CONCATENATE(\"Hul \",C486 + 1 - 12),CONCATENATE(\"Hul \",C486 + 1))","v":"Hul 1"}]
[null,{"$f":"IF(C486+2 > 12,CONCATENATE(\"Hul \",C486 + 2 - 12),CONCATENATE(\"Hul \",C486 + 2))","v":"Hul 2"}]
[null,{"$f":"IF(C486+3 > 12,CONCATENATE(\"Hul \",C486 + 3 - 12),CONCATENATE(\"Hul \",C486 + 3))","v":"Hul 3"}]
[null,{"$f":"IF(C486+4 > 12,CONCATENATE(\"Hul \",C486 + 4 - 12),CONCATENATE(\"Hul \",C486 + 4))","v":"Hul 4"}]
[null,{"$f":"IF(C486+5 > 12,CONCATENATE(\"Hul \",C486 + 5 - 12),CONCATENATE(\"Hul \",C486 + 5))","v":"Hul 5"}]
[null,{"$f":"IF(C486+6 > 12,CONCATENATE(\"Hul \",C486 + 6 - 12),CONCATENATE(\"Hul \",C486 + 6))","v":"Hul 6"}]
[null,{"$f":"IF(C486+7 > 12,CONCATENATE(\"Hul \",C486 + 7 - 12),CONCATENATE(\"Hul \",C486 + 7))","v":"Hul 7"}]
[null,{"$f":"IF(C486+8 > 12,CONCATENATE(\"Hul \",C486 + 8 - 12),CONCATENATE(\"Hul \",C486 + 8))","v":"Hul 8"}]
[null,{"$f":"IF(C486+9 > 12,CONCATENATE(\"Hul \",C486 + 9 - 12),CONCATENATE(\"Hul \",C486 + 9))","v":"Hul 9"}]
[null,{"$f":"IF(C486+10 > 12,CONCATENATE(\"Hul \",C486 + 10 - 12),CONCATENATE(\"Hul \",C486 + 10))","v":"Hul 10"}]
[null,{"$f":"IF(C486+11 > 12,CONCATENATE(\"Hul \",C486 + 11 - 12),CONCATENATE(\"Hul \",C486 + 11))","v":"Hul 11"}]
[null,"I alt"]
[null,{"$f":"Setup!$B$8","v":0}]
[null,"Dommer:"]

{"sheet":"KampsedlerEns 3","index":14,"n_rows":503,"n_cols":12,"rows_kept":503,"cut":false,"hidden":true,"merged":[[487,4,487,5],[487,6,487,7],[487,8,487,9],[487,10,487,11],[501,1,501,11],[502,1,502,2],[502,3,502,11],[484,1,484,2],[484,3,485,9],[485,10,485,11],[486,1,487,1],[486,2,486,3],[486,4,486,5],[486,6,486,7],[486,8,486,9],[486,10,486,11],[487,2,487,3],[466,4,466,5],[466,6,466,7],[466,8,466,9],[466,10,466,11],[480,1,480,11],[481,1,481,2],[481,3,481,11],[463,1,463,2],[463,3,464,9],[464,10,464,11],[465,1,466,1],[465,2,465,3],[465,4,465,5],[465,6,465,7],[465,8,465,9],[465,10,465,11],[466,2,466,3],[445,4,445,5],[445,6,445,7],[445,8,445,9],[445,10,445,11],[459,1,459,11],[460,1,460,2],[460,3,460,11],[442,1,442,2],[442,3,443,9],[443,10,443,11],[444,1,445,1],[444,2,444,3],[444,4,444,5],[444,6,444,7],[444,8,444,9],[444,10,444,11],[445,2,445,3],[424,4,424,5],[424,6,424,7],[424,8,424,9],[424,10,424,11],[438,1,438,11],[439,1,439,2],[439,3,439,11],[421,1,421,2],[421,3,422,9],[422,10,422,11],[423,1,424,1],[423,2,423,3],[423,4,423,5],[423,6,423,7],[423,8,423,9],[423,10,423,11],[424,2,424,3],[403,4,403,5],[403,6,403,7],[403,8,403,9],[403,10,403,11],[417,1,417,11],[418,1,418,2],[418,3,418,11],[400,1,400,2],[400,3,401,9],[401,10,401,11],[402,1,403,1],[402,2,402,3],[402,4,402,5],[402,6,402,7],[402,8,402,9],[402,10,402,11],[403,2,403,3],[382,4,382,5],[382,6,382,7],[382,8,382,9],[382,10,382,11],[396,1,396,11],[397,1,397,2],[397,3,397,11],[379,1,379,2],[379,3,380,9],[380,10,380,11],[381,1,382,1],[381,2,381,3],[381,4,381,5],[381,6,381,7],[381,8,381,9],[381,10,381,11],[382,2,382,3],[361,4,361,5],[361,6,361,7],[361,8,361,9],[361,10,361,11],[375,1,375,11],[376,1,376,2],[376,3,376,11],[358,1,358,2],[358,3,359,9],[359,10,359,11],[360,1,361,1],[360,2,360,3],[360,4,360,5],[360,6,360,7],[360,8,360,9],[360,10,360,11],[361,2,361,3],[340,4,340,5],[340,6,340,7],[340,8,340,9],[340,10,340,11],[354,1,354,11],[355,1,355,2],[355,3,355,11],[337,1,337,2],[337,3,338,9],[338,10,338,11],[339,1,340,1],[339,2,339,3],[339,4,339,5],[339,6,339,7],[339,8,339,9],[339,10,339,11],[340,2,340,3],[319,4,319,5],[319,6,319,7],[319,8,319,9],[319,10,319,11],[333,1,333,11],[334,1,334,2],[334,3,334,11],[316,1,316,2],[316,3,317,9],[317,10,317,11],[318,1,319,1],[318,2,318,3],[318,4,318,5],[318,6,318,7],[318,8,318,9],[318,10,318,11],[319,2,319,3],[298,4,298,5],[298,6,298,7],[298,8,298,9],[298,10,298,11],[312,1,312,11],[313,1,313,2],[313,3,313,11],[295,1,295,2],[295,3,296,9],[296,10,296,11],[297,1,298,1],[297,2,297,3],[297,4,297,5],[297,6,297,7],[297,8,297,9],[297,10,297,11],[298,2,298,3],[277,4,277,5],[277,6,277,7],[277,8,277,9],[277,10,277,11],[291,1,291,11],[292,1,292,2],[292,3,292,11],[274,1,274,2],[274,3,275,9],[275,10,275,11],[276,1,277,1],[276,2,276,3],[276,4,276,5],[276,6,276,7],[276,8,276,9],[276,10,276,11],[277,2,277,3],[256,4,256,5],[256,6,256,7],[256,8,256,9],[256,10,256,11],[270,1,270,11],[271,1,271,2],[271,3,271,11],[253,1,253,2],[253,3,254,9],[254,10,254,11],[255,1,256,1],[255,2,255,3],[255,4,255,5],[255,6,255,7],[255,8,255,9],[255,10,255,11],[256,2,256,3],[235,4,235,5],[235,6,235,7],[235,8,235,9],[235,10,235,11],[249,1,249,11],[250,1,250,2],[250,3,250,11],[232,1,232,2],[232,3,233,9],[233,10,233,11],[234,1,235,1],[234,2,234,3],[234,4,234,5],[234,6,234,7],[234,8,234,9],[234,10,234,11],[235,2,235,3],[214,4,214,5],[214,6,214,7],[214,8,214,9],[214,10,214,11],[228,1,228,11],[229,1,229,2],[229,3,229,11],[211,1,211,2],[211,3,212,9],[212,10,212,11],[213,1,214,1],[213,2,213,3],[213,4,213,5],[213,6,213,7],[213,8,213,9],[213,10,213,11],[214,2,214,3],[193,4,193,5],[193,6,193,7],[193,8,193,9],[193,10,193,11],[207,1,207,11],[208,1,208,2],[208,3,208,11],[190,1,190,2],[190,3,191,9],[191,10,191,11],[192,1,193,1],[192,2,192,3],[192,4,192,5],[192,6,192,7],[192,8,192,9],[192,10,192,11],[193,2,193,3],[172,4,172,5],[172,6,172,7],[172,8,172,9],[172,10,172,11],[186,1,186,11],[187,1,187,2],[187,3,187,11],[169,1,169,2],[169,3,170,9],[170,10,170,11],[171,1,172,1],[171,2,171,3],[171,4,171,5],[171,6,171,7],[171,8,171,9],[171,10,171,11],[172,2,172,3],[151,4,151,5],[151,6,151,7],[151,8,151,9],[151,10,151,11],[165,1,165,11],[166,1,166,2],[166,3,166,11],[148,1,148,2],[148,3,149,9],[149,10,149,11],[150,1,151,1],[150,2,150,3],[150,4,150,5],[150,6,150,7],[150,8,150,9],[150,10,150,11],[151,2,151,3],[130,4,130,5],[130,6,130,7],[130,8,130,9],[130,10,130,11],[144,1,144,11],[145,1,145,2],[145,3,145,11],[127,1,127,2],[127,3,128,9],[128,10,128,11],[129,1,130,1],[129,2,129,3],[129,4,129,5],[129,6,129,7],[129,8,129,9],[129,10,129,11],[130,2,130,3],[109,4,109,5],[109,6,109,7],[109,8,109,9],[109,10,109,11],[123,1,123,11],[124,1,124,2],[124,3,124,11],[106,1,106,2],[106,3,107,9],[107,10,107,11],[108,1,109,1],[108,2,108,3],[108,4,108,5],[108,6,108,7],[108,8,108,9],[108,10,108,11],[109,2,109,3],[88,4,88,5],[88,6,88,7],[88,8,88,9],[88,10,88,11],[102,1,102,11],[103,1,103,2],[103,3,103,11],[85,1,85,2],[85,3,86,9],[86,10,86,11],[87,1,88,1],[87,2,87,3],[87,4,87,5],[87,6,87,7],[87,8,87,9],[87,10,87,11],[88,2,88,3],[67,4,67,5],[67,6,67,7],[67,8,67,9],[67,10,67,11],[81,1,81,11],[82,1,82,2],[82,3,82,11],[64,1,64,2],[64,3,65,9],[65,10,65,11],[66,1,67,1],[66,2,66,3],[66,4,66,5],[66,6,66,7],[66,8,66,9],[66,10,66,11],[67,2,67,3],[46,4,46,5],[46,6,46,7],[46,8,46,9],[46,10,46,11],[60,1,60,11],[61,1,61,2],[61,3,61,11],[43,1,43,2],[43,3,44,9],[44,10,44,11],[45,1,46,1],[45,2,45,3],[45,4,45,5],[45,6,45,7],[45,8,45,9],[45,10,45,11],[46,2,46,3],[25,4,25,5],[25,6,25,7],[25,8,25,9],[25,10,25,11],[39,1,39,11],[40,1,40,2],[40,3,40,11],[22,1,22,2],[22,3,23,9],[23,10,23,11],[24,1,25,1],[24,2,24,3],[24,4,24,5],[24,6,24,7],[24,8,24,9],[24,10,24,11],[25,2,25,3],[4,4,4,5],[4,6,4,7],[4,8,4,9],[4,10,4,11],[18,1,18,11],[19,1,19,2],[19,3,19,11],[1,1,1,2],[1,3,2,9],[2,10,2,11],[3,1,4,1],[3,2,3,3],[3,4,3,5],[3,6,3,7],[3,8,3,9],[3,10,3,11],[4,2,4,3]]}
[]
[null,{"$f":"CONCATENATE(\"       \",'Puljer runde 1'!$A$26)","v":"       0"},null,{"$f":"Setup!$B$2","v":"Minitræf i Houlbjerg"},null,null,null,null,null,null,{"$f":"'Puljer runde 3'!$B$3","v":"Runde 3"},{"$f":"CONCATENATE('Puljer runde 1'!$A$5,\".\",'Puljer runde 1'!$M$6)","v":"Rød.1"}]
[null,"Til hul",{"$f":"'Puljer runde 1'!$L$6","v":1},null,null,null,null,null,null,null,{"$f":"Setup!$B$4","v":"29. juli 2015"}]
[null,null,{"$f":"IF('Puljer runde 1'!B$6=\"\",\"\",'Puljer runde 1'!B$6)","v":"Bente Nordmann"},null,{"$f":"IF('Puljer runde 1'!D$6=\"\",\"\",'Puljer runde 1'!D$6)","v":"Doris Thomsen"},null,{"$f":"IF('Puljer runde 1'!F$6=\"\",\"\",'Puljer runde 1'!F$6)","v":"Britta Axelsen"},null,{"$f":"IF('Puljer runde 1'!H$6=\"\",\"\",'Puljer runde 1'!H$6)","v":"Tage Hansen"},null,{"$f":"IF('Puljer runde 1'!J$6=\"\",\"\",'Puljer runde 1'!J$6)","v":"Lynge Madsen"}]
[null,null,{"$f":"IF('Puljer runde 1'!C$6=\"\",\"\",'Puljer runde 1'!C$6)","v":"Auning"},null,{"$f":"IF('Puljer runde 1'!E$6=\"\",\"\",'Puljer runde 1'!E$6)","v":"Houlbjerg"},null,{"$f":"IF('Puljer runde 1'!G$6=\"\",\"\",'Puljer runde 1'!G$6)","v":"Høst"},null,{"$f":"IF('Puljer runde 1'!I$6=\"\",\"\",'Puljer runde 1'!I$6)","v":"Låsby"},null,{"$f":"IF('Puljer runde 1'!K$6=\"\",\"\",'Puljer runde 1'!K$6)","v":"Silkeborg"}]
[null,{"$f":"CONCATENATE(\"Hul \",C3)","v":"Hul 1"}]
[null,{"$f":"IF(C3+1 > 12,CONCATENATE(\"Hul \",C3 + 1 - 12),CONCATENATE(\"Hul \",C3 + 1))","v":"Hul 2"}]
[null,{"$f":"IF(C3+2 > 12,CONCATENATE(\"Hul \",C3 + 2 - 12),CONCATENATE(\"Hul \",C3 + 2))","v":"Hul 3"}]
[null,{"$f":"IF(C3+3 > 12,CONCATENATE(\"Hul \",C3 + 3 - 12),CONCATENATE(\"Hul \",C3 + 3))","v":"Hul 4"}]
[null,{"$f":"IF(C3+4 > 12,CONCATENATE(\"Hul \",C3 + 4 - 12),CONCATENATE(\"Hul \",C3 + 4))","v":"Hul 5"}]
[null,{"$f":"IF(C3+5 > 12,CONCATENATE(\"Hul \",C3 + 5 - 12),CONCATENATE(\"Hul \",C3 + 5))","v":"Hul 6"}]
[null,{"$f":"IF(C3+6 > 12,CONCATENATE(\"Hul \",C3 + 6 - 12),CONCATENATE(\"Hul \",C3 + 6))","v":"Hul 7"}]
[null,{"$f":"IF(C3+7 > 12,CONCATENATE(\"Hul \",C3 + 7 - 12),CONCATENATE(\"Hul \",C3 + 7))","v":"Hul 8"}]
[null,{"$f":"IF(C3+8 > 12,CONCATENATE(\"Hul \",C3 + 8 - 12),CONCATENATE(\"Hul \",C3 + 8))","v":"Hul 9"}]
[null,{"$f":"IF(C3+9 > 12,CONCATENATE(\"Hul \",C3 + 9 - 12),CONCATENATE(\"Hul \",C3 + 9))","v":"Hul 10"}]
[null,{"$f":"IF(C3+10 > 12,CONCATENATE(\"Hul \",C3 + 10 - 12),CONCATENATE(\"Hul \",C3 + 10))","v":"Hul 11"}]
[null,{"$f":"IF(C3+11 > 12,CONCATENATE(\"Hul \",C3 + 11 - 12),CONCATENATE(\"Hul \",C3 + 11))","v":"Hul 12"}]
[null,"I alt"]
[null,{"$f":"Setup!$B$8","v":0}]
[null,"Dommer:"]
[]
[]
[null,{"$f":"CONCATENATE(\"       \",'Puljer runde 1'!$A$27)","v":"       0"},null,{"$f":"Setup!$B$2","v":"Minitræf i Houlbjerg"},null,null,null,null,null,null,{"$f":"'Puljer runde 3'!$B$3","v":"Runde 3"},{"$f":"CONCATENATE('Puljer runde 1'!$A$5,\".\",'Puljer runde 1'!$M$7)","v":"Rød.2"}]
[null,"Til hul",{"$f":"'Puljer runde 1'!$L$7","v":3},null,null,null,null,null,null,null,{"$f":"Setup!$B$4","v":"29. juli 2015"}]
[null,null,{"$f":"IF('Puljer runde 1'!B$7=\"\",\"\",'Puljer runde 1'!B$7)","v":"Maja Pedersen"},null,{"$f":"IF('Puljer runde 1'!D$7=\"\",\"\",'Puljer runde 1'!D$7)","v":"Grethe Gregersen"},null,{"$f":"IF('Puljer runde 1'!F$7=\"\",\"\",'Puljer runde 1'!F$7)","v":"Inger Rasmussen"},null,{"$f":"IF('Puljer runde 1'!H$7=\"\",\"\",'Puljer runde 1'!H$7)","v":"Jørgen Bjerre"},null,{"$f":"IF('Puljer runde 1'!J$7=\"\",\"\",'Puljer runde 1'!J$7)","v":"Christian Norentoft"}]
[null,null,{"$f":"IF('Puljer runde 1'!C$7=\"\",\"\",'Puljer runde 1'!C$7)","v":"Auning"},null,{"$f":"IF('Puljer runde 1'!E$7=\"\",\"\",'Puljer runde 1'!E$7)","v":"Houlbjerg"},null,{"$f":"IF('Puljer runde 1'!G$7=\"\",\"\",'Puljer runde 1'!G$7)","v":"Høst"},null,{"$f":"IF('Puljer runde 1'!I$7=\"\",\"\",'Puljer runde 1'!I$7)","v":"Pindstrup"},null,{"$f":"IF('Puljer runde 1'!K$7=\"\",\"\",'Puljer runde 1'!K$7)","v":"Thorsø"}]
[null,{"$f":"CONCATENATE(\"Hul \",C24)","v":"Hul 3"}]
[null,{"$f":"IF(C24+1 > 12,CONCATENATE(\"Hul \",C24 + 1 - 12),CONCATENATE(\"Hul \",C24 + 1))","v":"Hul 4"}]
[null,{"$f":"IF(C24+2 > 12,CONCATENATE(\"Hul \",C24 + 2 - 12),CONCATENATE(\"Hul \",C24 + 2))","v":"Hul 5"}]
[null,{"$f":"IF(C24+3 > 12,CONCATENATE(\"Hul \",C24 + 3 - 12),CONCATENATE(\"Hul \",C24 + 3))","v":"Hul 6"}]
[null,{"$f":"IF(C24+4 > 12,CONCATENATE(\"Hul \",C24 + 4 - 12),CONCATENATE(\"Hul \",C24 + 4))","v":"Hul 7"}]
[null,{"$f":"IF(C24+5 > 12,CONCATENATE(\"Hul \",C24 + 5 - 12),CONCATENATE(\"Hul \",C24 + 5))","v":"Hul 8"}]
[null,{"$f":"IF(C24+6 > 12,CONCATENATE(\"Hul \",C24 + 6 - 12),CONCATENATE(\"Hul \",C24 + 6))","v":"Hul 9"}]
[null,{"$f":"IF(C24+7 > 12,CONCATENATE(\"Hul \",C24 + 7 - 12),CONCATENATE(\"Hul \",C24 + 7))","v":"Hul 10"}]
[null,{"$f":"IF(C24+8 > 12,CONCATENATE(\"Hul \",C24 + 8 - 12),CONCATENATE(\"Hul \",C24 + 8))","v":"Hul 11"}]
[null,{"$f":"IF(C24+9 > 12,CONCATENATE(\"Hul \",C24 + 9 - 12),CONCATENATE(\"Hul \",C24 + 9))","v":"Hul 12"}]
[null,{"$f":"IF(C24+10 > 12,CONCATENATE(\"Hul \",C24 + 10 - 12),CONCATENATE(\"Hul \",C24 + 10))","v":"Hul 1"}]
[null,{"$f":"IF(C24+11 > 12,CONCATENATE(\"Hul \",C24 + 11 - 12),CONCATENATE(\"Hul \",C24 + 11))","v":"Hul 2"}]
[null,"I alt"]
[null,{"$f":"Setup!$B$8","v":0}]
[null,"Dommer:"]
[]
[]
[null,{"$f":"CONCATENATE(\"       \",'Puljer runde 1'!$A$28)","v":"       0"},null,{"$f":"Setup!$B$2","v":"Minitræf i Houlbjerg"},null,null,null,null,null,null,{"$f":"'Puljer runde 3'!$B$3","v":"Runde 3"},{"$f":"CONCATENATE('Puljer runde 1'!$A$5,\".\",'Puljer runde 1'!$M$8)","v":"Rød.3"}]
[null,"Til hul",{"$f":"'Puljer runde 1'!$L$8","v":5},null,null,null,null,null,null,null,{"$f":"Setup!$B$4","v":"29. juli 2015"}]
[null,null,{"$f":"IF('Puljer runde 1'!B$8=\"\",\"\",'Puljer runde 1'!B$8)","v":"Max Thomassen"},null,{"$f":"IF('Puljer runde 1'!D$8=\"\",\"\",'Puljer runde 1'!D$8)","v":"Juul Thomsen"},null,{"$f":"IF('Puljer runde 1'!F$8=\"\",\"\",'Puljer runde 1'!F$8)","v":"Kurt Rasmussen"},null,{"$f":"IF('Puljer runde 1'!H$8=\"\",\"\",'Puljer runde 1'!H$8)","v":"Marie Petersen"},null,{"$f":"IF('Puljer runde 1'!J$8=\"\",\"\",'Puljer runde 1'!J$8)","v":"Grethe Thomsen"}]
[null,null,{"$f":"IF('Puljer runde 1'!C$8=\"\",\"\",'Puljer runde 1'!C$8)","v":"Bjerregrav"},null,{"$f":"IF('Puljer runde 1'!E$8=\"\",\"\",'Puljer runde 1'!E$8)","v":"Houlbjerg"},null,{"$f":"IF('Puljer runde 1'!G$8=\"\",\"\",'Puljer runde 1'!G$8)","v":"Høst"},null,{"$f":"IF('Puljer runde 1'!I$8=\"\",\"\",'Puljer runde 1'!I$8)","v":"Rønde"},null,{"$f":"IF('Puljer runde 1'!K$8=\"\",\"\",'Puljer runde 1'!K$8)","v":"Thorsø"}]
[null,{"$f":"CONCATENATE(\"Hul \",C45)","v":"Hul 5"}]
[null,{"$f":"IF(C45+1 > 12,CONCATENATE(\"Hul \",C45 + 1 - 12),CONCATENATE(\"Hul \",C45 + 1))","v":"Hul 6"}]
[null,{"$f":"IF(C45+2 > 12,CONCATENATE(\"Hul \",C45 + 2 - 12),CONCATENATE(\"Hul \",C45 + 2))","v":"Hul 7"}]
[null,{"$f":"IF(C45+3 > 12,CONCATENATE(\"Hul \",C45 + 3 - 12),CONCATENATE(\"Hul \",C45 + 3))","v":"Hul 8"}]
[null,{"$f":"IF(C45+4 > 12,CONCATENATE(\"Hul \",C45 + 4 - 12),CONCATENATE(\"Hul \",C45 + 4))","v":"Hul 9"}]
[null,{"$f":"IF(C45+5 > 12,CONCATENATE(\"Hul \",C45 + 5 - 12),CONCATENATE(\"Hul \",C45 + 5))","v":"Hul 10"}]
[null,{"$f":"IF(C45+6 > 12,CONCATENATE(\"Hul \",C45 + 6 - 12),CONCATENATE(\"Hul \",C45 + 6))","v":"Hul 11"}]
[null,{"$f":"IF(C45+7 > 12,CONCATENATE(\"Hul \",C45 + 7 - 12),CONCATENATE(\"Hul \",C45 + 7))","v":"Hul 12"}]
[null,{"$f":"IF(C45+8 > 12,CONCATENATE(\"Hul \",C45 + 8 - 12),CONCATENATE(\"Hul \",C45 + 8))","v":"Hul 1"}]
[null,{"$f":"IF(C45+9 > 12,CONCATENATE(\"Hul \",C45 + 9 - 12),CONCATENATE(\"Hul \",C45 + 9))","v":"Hul 2"}]
[null,{"$f":"IF(C45+10 > 12,CONCATENATE(\"Hul \",C45 + 10 - 12),CONCATENATE(\"Hul \",C45 + 10))","v":"Hul 3"}]
[null,{"$f":"IF(C45+11 > 12,CONCATENATE(\"Hul \",C45 + 11 - 12),CONCATENATE(\"Hul \",C45 + 11))","v":"Hul 4"}]
[null,"I alt"]
[null,{"$f":"Setup!$B$8","v":0}]
[null,"Dommer:"]
[]
[]
[null,{"$f":"CONCATENATE(\"       \",'Puljer runde 1'!$A$29)","v":"       0"},null,{"$f":"Setup!$B$2","v":"Minitræf i Houlbjerg"},null,null,null,null,null,null,{"$f":"'Puljer runde 3'!$B$3","v":"Runde 3"},{"$f":"CONCATENATE('Puljer runde 1'!$A$5,\".\",'Puljer runde 1'!$M$9)","v":"Rød.4"}]
[null,"Til hul",{"$f":"'Puljer runde 1'!$L$9","v":7},null,null,null,null,null,null,null,{"$f":"Setup!$B$4","v":"29. juli 2015"}]
[null,null,{"$f":"IF('Puljer runde 1'!B$9=\"\",\"\",'Puljer runde 1'!B$9)","v":"Birthe Rosenkvist"},null,{"$f":"IF('Puljer runde 1'!D$9=\"\",\"\",'Puljer runde 1'!D$9)","v":"Lisbeth Sørensen"},null,{"$f":"IF('Puljer runde 1'!F$9=\"\",\"\",'Puljer runde 1'!F$9)","v":"Ulla Bjerring"},null,{"$f":"IF('Puljer runde 1'!H$9=\"\",\"\",'Puljer runde 1'!H$9)","v":"Svend B. G. Laursen"},null,{"$f":"IF('Puljer runde 1'!J$9=\"\",\"\",'Puljer runde 1'!J$9)","v":"Kirsten Nielsen"}]
[null,null,{"$f":"IF('Puljer runde 1'!C$9=\"\",\"\",'Puljer runde 1'!C$9)","v":"Hammel"},null,{"$f":"IF('Puljer runde 1'!E$9=\"\",\"\",'Puljer runde 1'!E$9)","v":"Houlbjerg"},null,{"$f":"IF('Puljer runde 1'!G$9=\"\",\"\",'Puljer runde 1'!G$9)","v":"Høst"},null,{"$f":"IF('Puljer runde 1'!I$9=\"\",\"\",'Puljer runde 1'!I$9)","v":"Rønde"},null,{"$f":"IF('Puljer runde 1'!K$9=\"\",\"\",'Puljer runde 1'!K$9)","v":"Thorsø"}]
[null,{"$f":"CONCATENATE(\"Hul \",C66)","v":"Hul 7"}]
[null,{"$f":"IF(C66+1 > 12,CONCATENATE(\"Hul \",C66 + 1 - 12),CONCATENATE(\"Hul \",C66 + 1))","v":"Hul 8"}]
[null,{"$f":"IF(C66+2 > 12,CONCATENATE(\"Hul \",C66 + 2 - 12),CONCATENATE(\"Hul \",C66 + 2))","v":"Hul 9"}]
[null,{"$f":"IF(C66+3 > 12,CONCATENATE(\"Hul \",C66 + 3 - 12),CONCATENATE(\"Hul \",C66 + 3))","v":"Hul 10"}]
[null,{"$f":"IF(C66+4 > 12,CONCATENATE(\"Hul \",C66 + 4 - 12),CONCATENATE(\"Hul \",C66 + 4))","v":"Hul 11"}]
[null,{"$f":"IF(C66+5 > 12,CONCATENATE(\"Hul \",C66 + 5 - 12),CONCATENATE(\"Hul \",C66 + 5))","v":"Hul 12"}]
[null,{"$f":"IF(C66+6 > 12,CONCATENATE(\"Hul \",C66 + 6 - 12),CONCATENATE(\"Hul \",C66 + 6))","v":"Hul 1"}]
[null,{"$f":"IF(C66+7 > 12,CONCATENATE(\"Hul \",C66 + 7 - 12),CONCATENATE(\"Hul \",C66 + 7))","v":"Hul 2"}]
[null,{"$f":"IF(C66+8 > 12,CONCATENATE(\"Hul \",C66 + 8 - 12),CONCATENATE(\"Hul \",C66 + 8))","v":"Hul 3"}]
[null,{"$f":"IF(C66+9 > 12,CONCATENATE(\"Hul \",C66 + 9 - 12),CONCATENATE(\"Hul \",C66 + 9))","v":"Hul 4"}]
[null,{"$f":"IF(C66+10 > 12,CONCATENATE(\"Hul \",C66 + 10 - 12),CONCATENATE(\"Hul \",C66 + 10))","v":"Hul 5"}]
[null,{"$f":"IF(C66+11 > 12,CONCATENATE(\"Hul \",C66 + 11 - 12),CONCATENATE(\"Hul \",C66 + 11))","v":"Hul 6"}]
[null,"I alt"]
[null,{"$f":"Setup!$B$8","v":0}]
[null,"Dommer:"]
[]
[]
[null,{"$f":"CONCATENATE(\"       \",'Puljer runde 1'!$A$30)","v":"       0"},null,{"$f":"Setup!$B$2","v":"Minitræf i Houlbjerg"},null,null,null,null,null,null,{"$f":"'Puljer runde 3'!$B$3","v":"Runde 3"},{"$f":"CONCATENATE('Puljer runde 1'!$A$5,\".\",'Puljer runde 1'!$M$10)","v":"Rød.5"}]
[null,"Til hul",{"$f":"'Puljer runde 1'!$L$10","v":9},null,null,null,null,null,null,null,{"$f":"Setup!$B$4","v":"29. juli 2015"}]
[null,null,{"$f":"IF('Puljer runde 1'!B$10=\"\",\"\",'Puljer runde 1'!B$10)","v":"Gerda Fogh"},null,{"$f":"IF('Puljer runde 1'!D$10=\"\",\"\",'Puljer runde 1'!D$10)","v":"Nanny Lægdsgaard"},null,{"$f":"IF('Puljer runde 1'!F$10=\"\",\"\",'Puljer runde 1'!F$10)","v":"Else-Marie Schmidt"},null,{"$f":"IF('Puljer runde 1'!H$10=\"\",\"\",'Puljer runde 1'!H$10)","v":"Ann Gaardsvig"},null,{"$f":"IF('Puljer runde 1'!J$10=\"\",\"\",'Puljer runde 1'!J$10)","v":"Ester Storgaard"}]
[null,null,{"$f":"IF('Puljer runde 1'!C$10=\"\",\"\",'Puljer runde 1'!C$10)","v":"Hammel"},null,{"$f":"IF('Puljer runde 1'!E$10=\"\",\"\",'Puljer runde 1'!E$10)","v":"Houlbjerg"},null,{"$f":"IF('Puljer runde 1'!G$10=\"\",\"\",'Puljer runde 1'!G$10)","v":"Lystrup"},null,{"$f":"IF('Puljer runde 1'!I$10=\"\",\"\",'Puljer runde 1'!I$10)","v":"Silkeborg"},null,{"$f":"IF('Puljer runde 1'!K$10=\"\",\"\",'Puljer runde 1'!K$10)","v":"Ulstrup"}]
[null,{"$f":"CONCATENATE(\"Hul \",C87)","v":"Hul 9"}]
[null,{"$f":"IF(C87+1 > 12,CONCATENATE(\"Hul \",C87 + 1 - 12),CONCATENATE(\"Hul \",C87 + 1))","v":"Hul 10"}]
[null,{"$f":"IF(C87+2 > 12,CONCATENATE(\"Hul \",C87 + 2 - 12),CONCATENATE(\"Hul \",C87 + 2))","v":"Hul 11"}]
[null,{"$f":"IF(C87+3 > 12,CONCATENATE(\"Hul \",C87 + 3 - 12),CONCATENATE(\"Hul \",C87 + 3))","v":"Hul 12"}]
[null,{"$f":"IF(C87+4 > 12,CONCATENATE(\"Hul \",C87 + 4 - 12),CONCATENATE(\"Hul \",C87 + 4))","v":"Hul 1"}]
[null,{"$f":"IF(C87+5 > 12,CONCATENATE(\"Hul \",C87 + 5 - 12),CONCATENATE(\"Hul \",C87 + 5))","v":"Hul 2"}]
[null,{"$f":"IF(C87+6 > 12,CONCATENATE(\"Hul \",C87 + 6 - 12),CONCATENATE(\"Hul \",C87 + 6))","v":"Hul 3"}]
[null,{"$f":"IF(C87+7 > 12,CONCATENATE(\"Hul \",C87 + 7 - 12),CONCATENATE(\"Hul \",C87 + 7))","v":"Hul 4"}]
[null,{"$f":"IF(C87+8 > 12,CONCATENATE(\"Hul \",C87 + 8 - 12),CONCATENATE(\"Hul \",C87 + 8))","v":"Hul 5"}]
[null,{"$f":"IF(C87+9 > 12,CONCATENATE(\"Hul \",C87 + 9 - 12),CONCATENATE(\"Hul \",C87 + 9))","v":"Hul 6"}]
[null,{"$f":"IF(C87+10 > 12,CONCATENATE(\"Hul \",C87 + 10 - 12),CONCATENATE(\"Hul \",C87 + 10))","v":"Hul 7"}]
[null,{"$f":"IF(C87+11 > 12,CONCATENATE(\"Hul \",C87 + 11 - 12),CONCATENATE(\"Hul \",C87 + 11))","v":"Hul 8"}]
[null,"I alt"]
[null,{"$f":"Setup!$B$8","v":0}]
[null,"Dommer:"]
[]
[]
[null,{"$f":"CONCATENATE(\"       \",'Puljer runde 1'!$A$31)","v":"       0"},null,{"$f":"Setup!$B$2","v":"Minitræf i Houlbjerg"},null,null,null,null,null,null,{"$f":"'Puljer runde 3'!$B$3","v":"Runde 3"},{"$f":"CONCATENATE('Puljer runde 1'!$A$5,\".\",'Puljer runde 1'!$M$11)","v":"Rød.6"}]
[null,"Til hul",{"$f":"'Puljer runde 1'!$L$11","v":11},null,null,null,null,null,null,null,{"$f":"Setup!$B$4","v":"29. juli 2015"}]
[null,null,{"$f":"IF('Puljer runde 1'!B$11=\"\",\"\",'Puljer runde 1'!B$11)","v":"Rosa Højgaard"},null,{"$f":"IF('Puljer runde 1'!D$11=\"\",\"\",'Puljer runde 1'!D$11)","v":"Yrsa Sørensen"},null,{"$f":"IF('Puljer runde 1'!F$11=\"\",\"\",'Puljer runde 1'!F$11)","v":"Lis Lassen"},null,{"$f":"IF('Puljer runde 1'!H$11=\"\",\"\",'Puljer runde 1'!H$11)","v":"Henning Larsen"},null,{"$f":"IF('Puljer runde 1'!J$11=\"\",\"\",'Puljer runde 1'!J$11)","v":"Kaj Storgaard"}]
[null,null,{"$f":"IF('Puljer runde 1'!C$11=\"\",\"\",'Puljer runde 1'!C$11)","v":"Hammel"},null,{"$f":"IF('Puljer runde 1'!E$11=\"\",\"\",'Puljer runde 1'!E$11)","v":"Houlbjerg"},null,{"$f":"IF('Puljer runde 1'!G$11=\"\",\"\",'Puljer runde 1'!G$11)","v":"Lystrup"},null,{"$f":"IF('Puljer runde 1'!I$11=\"\",\"\",'Puljer runde 1'!I$11)","v":"Silkeborg"},null,{"$f":"IF('Puljer runde 1'!K$11=\"\",\"\",'Puljer runde 1'!K$11)","v":"Ulstrup"}]
[null,{"$f":"CONCATENATE(\"Hul \",C108)","v":"Hul 11"}]
[null,{"$f":"IF(C108+1 > 12,CONCATENATE(\"Hul \",C108 + 1 - 12),CONCATENATE(\"Hul \",C108 + 1))","v":"Hul 12"}]
[null,{"$f":"IF(C108+2 > 12,CONCATENATE(\"Hul \",C108 + 2 - 12),CONCATENATE(\"Hul \",C108 + 2))","v":"Hul 1"}]
[null,{"$f":"IF(C108+3 > 12,CONCATENATE(\"Hul \",C108 + 3 - 12),CONCATENATE(\"Hul \",C108 + 3))","v":"Hul 2"}]
[null,{"$f":"IF(C108+4 > 12,CONCATENATE(\"Hul \",C108 + 4 - 12),CONCATENATE(\"Hul \",C108 + 4))","v":"Hul 3"}]
[null,{"$f":"IF(C108+5 > 12,CONCATENATE(\"Hul \",C108 + 5 - 12),CONCATENATE(\"Hul \",C108 + 5))","v":"Hul 4"}]
[null,{"$f":"IF(C108+6 > 12,CONCATENATE(\"Hul \",C108 + 6 - 12),CONCATENATE(\"Hul \",C108 + 6))","v":"Hul 5"}]
[null,{"$f":"IF(C108+7 > 12,CONCATENATE(\"Hul \",C108 + 7 - 12),CONCATENATE(\"Hul \",C108 + 7))","v":"Hul 6"}]
[null,{"$f":"IF(C108+8 > 12,CONCATENATE(\"Hul \",C108 + 8 - 12),CONCATENATE(\"Hul \",C108 + 8))","v":"Hul 7"}]
[null,{"$f":"IF(C108+9 > 12,CONCATENATE(\"Hul \",C108 + 9 - 12),CONCATENATE(\"Hul \",C108 + 9))","v":"Hul 8"}]
[null,{"$f":"IF(C108+10 > 12,CONCATENATE(\"Hul \",C108 + 10 - 12),CONCATENATE(\"Hul \",C108 + 10))","v":"Hul 9"}]
[null,{"$f":"IF(C108+11 > 12,CONCATENATE(\"Hul \",C108 + 11 - 12),CONCATENATE(\"Hul \",C108 + 11))","v":"Hul 10"}]
[null,"I alt"]
[null,{"$f":"Setup!$B$8","v":0}]
[null,"Dommer:"]
[]
[]
[null,{"$f":"CONCATENATE(\"       \",'Puljer runde 1'!$A$36)","v":"       "},null,{"$f":"Setup!$B$2","v":"Minitræf i Houlbjerg"},null,null,null,null,null,null,{"$f":"'Puljer runde 3'!$B$3","v":"Runde 3"},{"$f":"CONCATENATE('Puljer runde 1'!$A$15,\".\",'Puljer runde 1'!$M$16)","v":"Grøn.1"}]
[null,"Til hul",{"$f":"'Puljer runde 1'!$L$16","v":1},null,null,null,null,null,null,null,{"$f":"Setup!$B$4","v":"29. juli 2015"}]
[null,null,{"$f":"IF('Puljer runde 1'!B$16=\"\",\"\",'Puljer runde 1'!B$16)","v":"Henning Pedersen"},null,{"$f":"IF('Puljer runde 1'!D$16=\"\",\"\",'Puljer runde 1'!D$16)","v":"Erik Lægdsgaard"},null,{"$f":"IF('Puljer runde 1'!F$16=\"\",\"\",'Puljer runde 1'!F$16)","v":"Erik Pedersen"},null,{"$f":"IF('Puljer runde 1'!H$16=\"\",\"\",'Puljer runde 1'!H$16)","v":"Hanne Bjerre"},null,{"$f":"IF('Puljer runde 1'!J$16=\"\",\"\",'Puljer runde 1'!J$16)","v":"Bent Nielsen"}]
[null,null,{"$f":"IF('Puljer runde 1'!C$16=\"\",\"\",'Puljer runde 1'!C$16)","v":"Auning"},null,{"$f":"IF('Puljer runde 1'!E$16=\"\",\"\",'Puljer runde 1'!E$16)","v":"Houlbjerg"},null,{"$f":"IF('Puljer runde 1'!G$16=\"\",\"\",'Puljer runde 1'!G$16)","v":"Høst"},null,{"$f":"IF('Puljer runde 1'!I$16=\"\",\"\",'Puljer runde 1'!I$16)","v":"Pindstrup"},null,{"$f":"IF('Puljer runde 1'!K$16=\"\",\"\",'Puljer runde 1'!K$16)","v":"Thorsø"}]
[null,{"$f":"CONCATENATE(\"Hul \",C129)","v":"Hul 1"}]
[null,{"$f":"IF(C129+1 > 12,CONCATENATE(\"Hul \",C129 + 1 - 12),CONCATENATE(\"Hul \",C129 + 1))","v":"Hul 2"}]
[null,{"$f":"IF(C129+2 > 12,CONCATENATE(\"Hul \",C129 + 2 - 12),CONCATENATE(\"Hul \",C129 + 2))","v":"Hul 3"}]
[null,{"$f":"IF(C129+3 > 12,CONCATENATE(\"Hul \",C129 + 3 - 12),CONCATENATE(\"Hul \",C129 + 3))","v":"Hul 4"}]
[null,{"$f":"IF(C129+4 > 12,CONCATENATE(\"Hul \",C129 + 4 - 12),CONCATENATE(\"Hul \",C129 + 4))","v":"Hul 5"}]
[null,{"$f":"IF(C129+5 > 12,CONCATENATE(\"Hul \",C129 + 5 - 12),CONCATENATE(\"Hul \",C129 + 5))","v":"Hul 6"}]
[null,{"$f":"IF(C129+6 > 12,CONCATENATE(\"Hul \",C129 + 6 - 12),CONCATENATE(\"Hul \",C129 + 6))","v":"Hul 7"}]
[null,{"$f":"IF(C129+7 > 12,CONCATENATE(\"Hul \",C129 + 7 - 12),CONCATENATE(\"Hul \",C129 + 7))","v":"Hul 8"}]
[null,{"$f":"IF(C129+8 > 12,CONCATENATE(\"Hul \",C129 + 8 - 12),CONCATENATE(\"Hul \",C129 + 8))","v":"Hul 9"}]
[null,{"$f":"IF(C129+9 > 12,CONCATENATE(\"Hul \",C129 + 9 - 12),CONCATENATE(\"Hul \",C129 + 9))","v":"Hul 10"}]
[null,{"$f":"IF(C129+10 > 12,CONCATENATE(\"Hul \",C129 + 10 - 12),CONCATENATE(\"Hul \",C129 + 10))","v":"Hul 11"}]
[null,{"$f":"IF(C129+11 > 12,CONCATENATE(\"Hul \",C129 + 11 - 12),CONCATENATE(\"Hul \",C129 + 11))","v":"Hul 12"}]
[null,"I alt"]
[null,{"$f":"Setup!$B$8","v":0}]
[null,"Dommer:"]
[]
[]
[null,{"$f":"CONCATENATE(\"       \",'Puljer runde 1'!$A$37)","v":"       "},null,{"$f":"Setup!$B$2","v":"Minitræf i Houlbjerg"},null,null,null,null,null,null,{"$f":"'Puljer runde 3'!$B$3","v":"Runde 3"},{"$f":"CONCATENATE('Puljer runde 1'!$A$15,\".\",'Puljer runde 1'!$M$17)","v":"Grøn.2"}]
[null,"Til hul",{"$f":"'Puljer runde 1'!$L$17","v":3},null,null,null,null,null,null,null,{"$f":"Setup!$B$4","v":"29. juli 2015"}]
[null,null,{"$f":"IF('Puljer runde 1'!B$17=\"\",\"\",'Puljer runde 1'!B$17)","v":"Bente Thomassen"},null,{"$f":"IF('Puljer runde 1'!D$17=\"\",\"\",'Puljer runde 1'!D$17)","v":"Jens Henrik Juhl-Larsen"},null,{"$f":"IF('Puljer runde 1'!F$17=\"\",\"\",'Puljer runde 1'!F$17)","v":"Knud Frederiksen"},null,{"$f":"IF('Puljer runde 1'!H$17=\"\",\"\",'Puljer runde 1'!H$17)","v":"Jørgen Petersen"},null,{"$f":"IF('Puljer runde 1'!J$17=\"\",\"\",'Puljer runde 1'!J$17)","v":"Erik Thomsen"}]
[null,null,{"$f":"IF('Puljer runde 1'!C$17=\"\",\"\",'Puljer runde 1'!C$17)","v":"Bjerregrav"},null,{"$f":"IF('Puljer runde 1'!E$17=\"\",\"\",'Puljer runde 1'!E$17)","v":"Houlbjerg"},null,{"$f":"IF('Puljer runde 1'!G$17=\"\",\"\",'Puljer runde 1'!G$17)","v":"Høst"},null,{"$f":"IF('Puljer runde 1'!I$17=\"\",\"\",'Puljer runde 1'!I$17)","v":"Rønde"},null,{"$f":"IF('Puljer runde 1'!K$17=\"\",\"\",'Puljer runde 1'!K$17)","v":"Thorsø"}]
[null,{"$f":"CONCATENATE(\"Hul \",C150)","v":"Hul 3"}]
[null,{"$f":"IF(C150+1 > 12,CONCATENATE(\"Hul \",C150 + 1 - 12),CONCATENATE(\"Hul \",C150 + 1))","v":"Hul 4"}]
[null,{"$f":"IF(C150+2 > 12,CONCATENATE(\"Hul \",C150 + 2 - 12),CONCATENATE(\"Hul \",C150 + 2))","v":"Hul 5"}]
[null,{"$f":"IF(C150+3 > 12,CONCATENATE(\"Hul \",C150 + 3 - 12),CONCATENATE(\"Hul \",C150 + 3))","v":"Hul 6"}]
[null,{"$f":"IF(C150+4 > 12,CONCATENATE(\"Hul \",C150 + 4 - 12),CONCATENATE(\"Hul \",C150 + 4))","v":"Hul 7"}]
[null,{"$f":"IF(C150+5 > 12,CONCATENATE(\"Hul \",C150 + 5 - 12),CONCATENATE(\"Hul \",C150 + 5))","v":"Hul 8"}]
[null,{"$f":"IF(C150+6 > 12,CONCATENATE(\"Hul \",C150 + 6 - 12),CONCATENATE(\"Hul \",C150 + 6))","v":"Hul 9"}]
[null,{"$f":"IF(C150+7 > 12,CONCATENATE(\"Hul \",C150 + 7 - 12),CONCATENATE(\"Hul \",C150 + 7))","v":"Hul 10"}]
[null,{"$f":"IF(C150+8 > 12,CONCATENATE(\"Hul \",C150 + 8 - 12),CONCATENATE(\"Hul \",C150 + 8))","v":"Hul 11"}]
[null,{"$f":"IF(C150+9 > 12,CONCATENATE(\"Hul \",C150 + 9 - 12),CONCATENATE(\"Hul \",C150 + 9))","v":"Hul 12"}]
[null,{"$f":"IF(C150+10 > 12,CONCATENATE(\"Hul \",C150 + 10 - 12),CONCATENATE(\"Hul \",C150 + 10))","v":"Hul 1"}]
[null,{"$f":"IF(C150+11 > 12,CONCATENATE(\"Hul \",C150 + 11 - 12),CONCATENATE(\"Hul \",C150 + 11))","v":"Hul 2"}]
[null,"I alt"]
[null,{"$f":"Setup!$B$8","v":0}]
[null,"Dommer:"]
[]
[]
[null,{"$f":"CONCATENATE(\"       \",'Puljer runde 1'!$A$38)","v":"       "},null,{"$f":"Setup!$B$2","v":"Minitræf i Houlbjerg"},null,null,null,null,null,null,{"$f":"'Puljer runde 3'!$B$3","v":"Runde 3"},{"$f":"CONCATENATE('Puljer runde 1'!$A$15,\".\",'Puljer runde 1'!$M$18)","v":"Grøn.3"}]
[null,"Til hul",{"$f":"'Puljer runde 1'!$L$18","v":5},null,null,null,null,null,null,null,{"$f":"Setup!$B$4","v":"29. juli 2015"}]
[null,null,{"$f":"IF('Puljer runde 1'!B$18=\"\",\"\",'Puljer runde 1'!B$18)","v":"Birgit Svoldgaard"},null,{"$f":"IF('Puljer runde 1'!D$18=\"\",\"\",'Puljer runde 1'!D$18)","v":"Kurt Thomsen"},null,{"$f":"IF('Puljer runde 1'!F$18=\"\",\"\",'Puljer runde 1'!F$18)","v":"Margit Jensen"},null,{"$f":"IF('Puljer runde 1'!H$18=\"\",\"\",'Puljer runde 1'!H$18)","v":"Myrna Rasmussen"},null,{"$f":"IF('Puljer runde 1'!J$18=\"\",\"\",'Puljer runde 1'!J$18)","v":"Grethe Thøgersen"}]
[null,null,{"$f":"IF('Puljer runde 1'!C$18=\"\",\"\",'Puljer runde 1'!C$18)","v":"Hammel"},null,{"$f":"IF('Puljer runde 1'!E$18=\"\",\"\",'Puljer runde 1'!E$18)","v":"Houlbjerg"},null,{"$f":"IF('Puljer runde 1'!G$18=\"\",\"\",'Puljer runde 1'!G$18)","v":"Høst"},null,{"$f":"IF('Puljer runde 1'!I$18=\"\",\"\",'Puljer runde 1'!I$18)","v":"Rønde"},null,{"$f":"IF('Puljer runde 1'!K$18=\"\",\"\",'Puljer runde 1'!K$18)","v":"Thorsø"}]
[null,{"$f":"CONCATENATE(\"Hul \",C171)","v":"Hul 5"}]
[null,{"$f":"IF(C171+1 > 12,CONCATENATE(\"Hul \",C171 + 1 - 12),CONCATENATE(\"Hul \",C171 + 1))","v":"Hul 6"}]
[null,{"$f":"IF(C171+2 > 12,CONCATENATE(\"Hul \",C171 + 2 - 12),CONCATENATE(\"Hul \",C171 + 2))","v":"Hul 7"}]
[null,{"$f":"IF(C171+3 > 12,CONCATENATE(\"Hul \",C171 + 3 - 12),CONCATENATE(\"Hul \",C171 + 3))","v":"Hul 8"}]
[null,{"$f":"IF(C171+4 > 12,CONCATENATE(\"Hul \",C171 + 4 - 12),CONCATENATE(\"Hul \",C171 + 4))","v":"Hul 9"}]
[null,{"$f":"IF(C171+5 > 12,CONCATENATE(\"Hul \",C171 + 5 - 12),CONCATENATE(\"Hul \",C171 + 5))","v":"Hul 10"}]
[null,{"$f":"IF(C171+6 > 12,CONCATENATE(\"Hul \",C171 + 6 - 12),CONCATENATE(\"Hul \",C171 + 6))","v":"Hul 11"}]
[null,{"$f":"IF(C171+7 > 12,CONCATENATE(\"Hul \",C171 + 7 - 12),CONCATENATE(\"Hul \",C171 + 7))","v":"Hul 12"}]
[null,{"$f":"IF(C171+8 > 12,CONCATENATE(\"Hul \",C171 + 8 - 12),CONCATENATE(\"Hul \",C171 + 8))","v":"Hul 1"}]
[null,{"$f":"IF(C171+9 > 12,CONCATENATE(\"Hul \",C171 + 9 - 12),CONCATENATE(\"Hul \",C171 + 9))","v":"Hul 2"}]
[null,{"$f":"IF(C171+10 > 12,CONCATENATE(\"Hul \",C171 + 10 - 12),CONCATENATE(\"Hul \",C171 + 10))","v":"Hul 3"}]
[null,{"$f":"IF(C171+11 > 12,CONCATENATE(\"Hul \",C171 + 11 - 12),CONCATENATE(\"Hul \",C171 + 11))","v":"Hul 4"}]
[null,"I alt"]
[null,{"$f":"Setup!$B$8","v":0}]
[null,"Dommer:"]
[]
[]
[null,{"$f":"CONCATENATE(\"       \",'Puljer runde 1'!$A$39)","v":"       "},null,{"$f":"Setup!$B$2","v":"Minitræf i Houlbjerg"},null,null,null,null,null,null,{"$f":"'Puljer runde 3'!$B$3","v":"Runde 3"},{"$f":"CONCATENATE('Puljer runde 1'!$A$15,\".\",'Puljer runde 1'!$M$19)","v":"Grøn.4"}]
[null,"Til hul",{"$f":"'Puljer runde 1'!$L$19","v":7},null,null,null,null,null,null,null,{"$f":"Setup!$B$4","v":"29. juli 2015"}]
[null,null,{"$f":"IF('Puljer runde 1'!B$19=\"\",\"\",'Puljer runde 1'!B$19)","v":"Erik Rosenkvist"},null,{"$f":"IF('Puljer runde 1'!D$19=\"\",\"\",'Puljer runde 1'!D$19)","v":"Lissi Thomsen"},null,{"$f":"IF('Puljer runde 1'!F$19=\"\",\"\",'Puljer runde 1'!F$19)","v":"Christen Jespersen"},null,{"$f":"IF('Puljer runde 1'!H$19=\"\",\"\",'Puljer runde 1'!H$19)","v":"Vagn F. Nielsen"},null,{"$f":"IF('Puljer runde 1'!J$19=\"\",\"\",'Puljer runde 1'!J$19)","v":"Niels Kofoed"}]
[null,null,{"$f":"IF('Puljer runde 1'!C$19=\"\",\"\",'Puljer runde 1'!C$19)","v":"Hammel"},null,{"$f":"IF('Puljer runde 1'!E$19=\"\",\"\",'Puljer runde 1'!E$19)","v":"Houlbjerg"},null,{"$f":"IF('Puljer runde 1'!G$19=\"\",\"\",'Puljer runde 1'!G$19)","v":"Lystrup"},null,{"$f":"IF('Puljer runde 1'!I$19=\"\",\"\",'Puljer runde 1'!I$19)","v":"Rønde"},null,{"$f":"IF('Puljer runde 1'!K$19=\"\",\"\",'Puljer runde 1'!K$19)","v":"Tranbjerg"}]
[null,{"$f":"CONCATENATE(\"Hul \",C192)","v":"Hul 7"}]
[null,{"$f":"IF(C192+1 > 12,CONCATENATE(\"Hul \",C192 + 1 - 12),CONCATENATE(\"Hul \",C192 + 1))","v":"Hul 8"}]
[null,{"$f":"IF(C192+2 > 12,CONCATENATE(\"Hul \",C192 + 2 - 12),CONCATENATE(\"Hul \",C192 + 2))","v":"Hul 9"}]
[null,{"$f":"IF(C192+3 > 12,CONCATENATE(\"Hul \",C192 + 3 - 12),CONCATENATE(\"Hul \",C192 + 3))","v":"Hul 10"}]
[null,{"$f":"IF(C192+4 > 12,CONCATENATE(\"Hul \",C192 + 4 - 12),CONCATENATE(\"Hul \",C192 + 4))","v":"Hul 11"}]
[null,{"$f":"IF(C192+5 > 12,CONCATENATE(\"Hul \",C192 + 5 - 12),CONCATENATE(\"Hul \",C192 + 5))","v":"Hul 12"}]
[null,{"$f":"IF(C192+6 > 12,CONCATENATE(\"Hul \",C192 + 6 - 12),CONCATENATE(\"Hul \",C192 + 6))","v":"Hul 1"}]
[null,{"$f":"IF(C192+7 > 12,CONCATENATE(\"Hul \",C192 + 7 - 12),CONCATENATE(\"Hul \",C192 + 7))","v":"Hul 2"}]
[null,{"$f":"IF(C192+8 > 12,CONCATENATE(\"Hul \",C192 + 8 - 12),CONCATENATE(\"Hul \",C192 + 8))","v":"Hul 3"}]
[null,{"$f":"IF(C192+9 > 12,CONCATENATE(\"Hul \",C192 + 9 - 12),CONCATENATE(\"Hul \",C192 + 9))","v":"Hul 4"}]
[null,{"$f":"IF(C192+10 > 12,CONCATENATE(\"Hul \",C192 + 10 - 12),CONCATENATE(\"Hul \",C192 + 10))","v":"Hul 5"}]
[null,{"$f":"IF(C192+11 > 12,CONCATENATE(\"Hul \",C192 + 11 - 12),CONCATENATE(\"Hul \",C192 + 11))","v":"Hul 6"}]
[null,"I alt"]
[null,{"$f":"Setup!$B$8","v":0}]
[null,"Dommer:"]
[]
[]
[null,{"$f":"CONCATENATE(\"       \",'Puljer runde 1'!$A$40)","v":"       "},null,{"$f":"Setup!$B$2","v":"Minitræf i Houlbjerg"},null,null,null,null,null,null,{"$f":"'Puljer runde 3'!$B$3","v":"Runde 3"},{"$f":"CONCATENATE('Puljer runde 1'!$A$15,\".\",'Puljer runde 1'!$M$20)","v":"Grøn.5"}]
[null,"Til hul",{"$f":"'Puljer runde 1'!$L$20","v":9},null,null,null,null,null,null,null,{"$f":"Setup!$B$4","v":"29. juli 2015"}]
[null,null,{"$f":"IF('Puljer runde 1'!B$20=\"\",\"\",'Puljer runde 1'!B$20)","v":"Jonna Kjeldsen"},null,{"$f":"IF('Puljer runde 1'!D$20=\"\",\"\",'Puljer runde 1'!D$20)","v":"Poul Henriksen"},null,{"$f":"IF('Puljer runde 1'!F$20=\"\",\"\",'Puljer runde 1'!F$20)","v":"Jens Tvi Holmsgaard"},null,{"$f":"IF('Puljer runde 1'!H$20=\"\",\"\",'Puljer runde 1'!H$20)","v":"Hanne Else Knudsen"},null,{"$f":"IF('Puljer runde 1'!J$20=\"\",\"\",'Puljer runde 1'!J$20)","v":"Hans J. Christensen"}]
[null,null,{"$f":"IF('Puljer runde 1'!C$20=\"\",\"\",'Puljer runde 1'!C$20)","v":"Hammel"},null,{"$f":"IF('Puljer runde 1'!E$20=\"\",\"\",'Puljer runde 1'!E$20)","v":"Houlbjerg"},null,{"$f":"IF('Puljer runde 1'!G$20=\"\",\"\",'Puljer runde 1'!G$20)","v":"Lystrup"},null,{"$f":"IF('Puljer runde 1'!I$20=\"\",\"\",'Puljer runde 1'!I$20)","v":"Silkeborg"},null,{"$f":"IF('Puljer runde 1'!K$20=\"\",\"\",'Puljer runde 1'!K$20)","v":"Ulstrup"}]
[null,{"$f":"CONCATENATE(\"Hul \",C213)","v":"Hul 9"}]
[null,{"$f":"IF(C213+1 > 12,CONCATENATE(\"Hul \",C213 + 1 - 12),CONCATENATE(\"Hul \",C213 + 1))","v":"Hul 10"}]
[null,{"$f":"IF(C213+2 > 12,CONCATENATE(\"Hul \",C213 + 2 - 12),CONCATENATE(\"Hul \",C213 + 2))","v":"Hul 11"}]
[null,{"$f":"IF(C213+3 > 12,CONCATENATE(\"Hul \",C213 + 3 - 12),CONCATENATE(\"Hul \",C213 + 3))","v":"Hul 12"}]
[null,{"$f":"IF(C213+4 > 12,CONCATENATE(\"Hul \",C213 + 4 - 12),CONCATENATE(\"Hul \",C213 + 4))","v":"Hul 1"}]
[null,{"$f":"IF(C213+5 > 12,CONCATENATE(\"Hul \",C213 + 5 - 12),CONCATENATE(\"Hul \",C213 + 5))","v":"Hul 2"}]
[null,{"$f":"IF(C213+6 > 12,CONCATENATE(\"Hul \",C213 + 6 - 12),CONCATENATE(\"Hul \",C213 + 6))","v":"Hul 3"}]
[null,{"$f":"IF(C213+7 > 12,CONCATENATE(\"Hul \",C213 + 7 - 12),CONCATENATE(\"Hul \",C213 + 7))","v":"Hul 4"}]
[null,{"$f":"IF(C213+8 > 12,CONCATENATE(\"Hul \",C213 + 8 - 12),CONCATENATE(\"Hul \",C213 + 8))","v":"Hul 5"}]
[null,{"$f":"IF(C213+9 > 12,CONCATENATE(\"Hul \",C213 + 9 - 12),CONCATENATE(\"Hul \",C213 + 9))","v":"Hul 6"}]
[null,{"$f":"IF(C213+10 > 12,CONCATENATE(\"Hul \",C213 + 10 - 12),CONCATENATE(\"Hul \",C213 + 10))","v":"Hul 7"}]
[null,{"$f":"IF(C213+11 > 12,CONCATENATE(\"Hul \",C213 + 11 - 12),CONCATENATE(\"Hul \",C213 + 11))","v":"Hul 8"}]
[null,"I alt"]
[null,{"$f":"Setup!$B$8","v":0}]
[null,"Dommer:"]
[]
[]
[null,{"$f":"CONCATENATE(\"       \",'Puljer runde 1'!$A$41)","v":"       "},null,{"$f":"Setup!$B$2","v":"Minitræf i Houlbjerg"},null,null,null,null,null,null,{"$f":"'Puljer runde 3'!$B$3","v":"Runde 3"},{"$f":"CONCATENATE('Puljer runde 1'!$A$15,\".\",'Puljer runde 1'!$M$21)","v":"Grøn.6"}]
[null,"Til hul",{"$f":"'Puljer runde 1'!$L$21","v":11},null,null,null,null,null,null,null,{"$f":"Setup!$B$4","v":"29. juli 2015"}]
[null,null,{"$f":"IF('Puljer runde 1'!B$21=\"\",\"\",'Puljer runde 1'!B$21)","v":"Børge Jensen"},null,{"$f":"IF('Puljer runde 1'!D$21=\"\",\"\",'Puljer runde 1'!D$21)","v":"Alice Madsen"},null,{"$f":"IF('Puljer runde 1'!F$21=\"\",\"\",'Puljer runde 1'!F$21)","v":"Alma Eriksen"},null,{"$f":"IF('Puljer runde 1'!H$21=\"\",\"\",'Puljer runde 1'!H$21)","v":"Lilly Hansen"},null,{"$f":"IF('Puljer runde 1'!J$21=\"\",\"\",'Puljer runde 1'!J$21)","v":"Ulla Ravn"}]
[null,null,{"$f":"IF('Puljer runde 1'!C$21=\"\",\"\",'Puljer runde 1'!C$21)","v":"Houlbjerg"},null,{"$f":"IF('Puljer runde 1'!E$21=\"\",\"\",'Puljer runde 1'!E$21)","v":"Høst"},null,{"$f":"IF('Puljer runde 1'!G$21=\"\",\"\",'Puljer runde 1'!G$21)","v":"Låsby"},null,{"$f":"IF('Puljer runde 1'!I$21=\"\",\"\",'Puljer runde 1'!I$21)","v":"Silkeborg"},null,{"$f":"IF('Puljer runde 1'!K$21=\"\",\"\",'Puljer runde 1'!K$21)","v":"Ulstrup"}]
[null,{"$f":"CONCATENATE(\"Hul \",C234)","v":"Hul 11"}]
[null,{"$f":"IF(C234+1 > 12,CONCATENATE(\"Hul \",C234 + 1 - 12),CONCATENATE(\"Hul \",C234 + 1))","v":"Hul 12"}]
[null,{"$f":"IF(C234+2 > 12,CONCATENATE(\"Hul \",C234 + 2 - 12),CONCATENATE(\"Hul \",C234 + 2))","v":"Hul 1"}]
[null,{"$f":"IF(C234+3 > 12,CONCATENATE(\"Hul \",C234 + 3 - 12),CONCATENATE(\"Hul \",C234 + 3))","v":"Hul 2"}]
[null,{"$f":"IF(C234+4 > 12,CONCATENATE(\"Hul \",C234 + 4 - 12),CONCATENATE(\"Hul \",C234 + 4))","v":"Hul 3"}]
[null,{"$f":"IF(C234+5 > 12,CONCATENATE(\"Hul \",C234 + 5 - 12),CONCATENATE(\"Hul \",C234 + 5))","v":"Hul 4"}]
[null,{"$f":"IF(C234+6 > 12,CONCATENATE(\"Hul \",C234 + 6 - 12),CONCATENATE(\"Hul \",C234 + 6))","v":"Hul 5"}]
[null,{"$f":"IF(C234+7 > 12,CONCATENATE(\"Hul \",C234 + 7 - 12),CONCATENATE(\"Hul \",C234 + 7))","v":"Hul 6"}]
[null,{"$f":"IF(C234+8 > 12,CONCATENATE(\"Hul \",C234 + 8 - 12),CONCATENATE(\"Hul \",C234 + 8))","v":"Hul 7"}]
[null,{"$f":"IF(C234+9 > 12,CONCATENATE(\"Hul \",C234 + 9 - 12),CONCATENATE(\"Hul \",C234 + 9))","v":"Hul 8"}]
[null,{"$f":"IF(C234+10 > 12,CONCATENATE(\"Hul \",C234 + 10 - 12),CONCATENATE(\"Hul \",C234 + 10))","v":"Hul 9"}]
[null,{"$f":"IF(C234+11 > 12,CONCATENATE(\"Hul \",C234 + 11 - 12),CONCATENATE(\"Hul \",C234 + 11))","v":"Hul 10"}]
[null,"I alt"]
[null,{"$f":"Setup!$B$8","v":0}]
[null,"Dommer:"]
[]
[]
[null,{"$f":"CONCATENATE(\"       \",'Puljer runde 1'!$A$6)","v":"       Bane 1"},null,{"$f":"Setup!$B$2","v":"Minitræf i Houlbjerg"},null,null,null,null,null,null,{"$f":"'Puljer runde 3'!$B$3","v":"Runde 3"},{"$f":"CONCATENATE('Puljer runde 1'!$A$25,\".\",'Puljer runde 1'!$M$26)","v":"x.1"}]
[null,"Til hul",{"$f":"'Puljer runde 1'!$L$26","v":0},null,null,null,null,null,null,null,{"$f":"Setup!$B$4","v":"29. juli 2015"}]
[null,null,{"$f":"IF('Puljer runde 1'!B$26=\"\",\"\",'Puljer runde 1'!B$26)","v":""},null,{"$f":"IF('Puljer runde 1'!D$26=\"\",\"\",'Puljer runde 1'!D$26)","v":""},null,{"$f":"IF('Puljer runde 1'!F$26=\"\",\"\",'Puljer runde 1'!F$26)","v":""},null,{"$f":"IF('Puljer runde 1'!H$26=\"\",\"\",'Puljer runde 1'!H$26)","v":""},null,{"$f":"IF('Puljer runde 1'!J$26=\"\",\"\",'Puljer runde 1'!J$26)","v":""}]
[null,null,{"$f":"IF('Puljer runde 1'!C$26=\"\",\"\",'Puljer runde 1'!C$26)","v":""},null,{"$f":"IF('Puljer runde 1'!E$26=\"\",\"\",'Puljer runde 1'!E$26)","v":""},null,{"$f":"IF('Puljer runde 1'!G$26=\"\",\"\",'Puljer runde 1'!G$26)","v":""},null,{"$f":"IF('Puljer runde 1'!I$26=\"\",\"\",'Puljer runde 1'!I$26)","v":""},null,{"$f":"IF('Puljer runde 1'!K$26=\"\",\"\",'Puljer runde 1'!K$26)","v":""}]
[null,{"$f":"CONCATENATE(\"Hul \",C255)","v":"Hul 0"}]
[null,{"$f":"IF(C255+1 > 12,CONCATENATE(\"Hul \",C255 + 1 - 12),CONCATENATE(\"Hul \",C255 + 1))","v":"Hul 1"}]
[null,{"$f":"IF(C255+2 > 12,CONCATENATE(\"Hul \",C255 + 2 - 12),CONCATENATE(\"Hul \",C255 + 2))","v":"Hul 2"}]
[null,{"$f":"IF(C255+3 > 12,CONCATENATE(\"Hul \",C255 + 3 - 12),CONCATENATE(\"Hul \",C255 + 3))","v":"Hul 3"}]
[null,{"$f":"IF(C255+4 > 12,CONCATENATE(\"Hul \",C255 + 4 - 12),CONCATENATE(\"Hul \",C255 + 4))","v":"Hul 4"}]
[null,{"$f":"IF(C255+5 > 12,CONCATENATE(\"Hul \",C255 + 5 - 12),CONCATENATE(\"Hul \",C255 + 5))","v":"Hul 5"}]
[null,{"$f":"IF(C255+6 > 12,CONCATENATE(\"Hul \",C255 + 6 - 12),CONCATENATE(\"Hul \",C255 + 6))","v":"Hul 6"}]
[null,{"$f":"IF(C255+7 > 12,CONCATENATE(\"Hul \",C255 + 7 - 12),CONCATENATE(\"Hul \",C255 + 7))","v":"Hul 7"}]
[null,{"$f":"IF(C255+8 > 12,CONCATENATE(\"Hul \",C255 + 8 - 12),CONCATENATE(\"Hul \",C255 + 8))","v":"Hul 8"}]
[null,{"$f":"IF(C255+9 > 12,CONCATENATE(\"Hul \",C255 + 9 - 12),CONCATENATE(\"Hul \",C255 + 9))","v":"Hul 9"}]
[null,{"$f":"IF(C255+10 > 12,CONCATENATE(\"Hul \",C255 + 10 - 12),CONCATENATE(\"Hul \",C255 + 10))","v":"Hul 10"}]
[null,{"$f":"IF(C255+11 > 12,CONCATENATE(\"Hul \",C255 + 11 - 12),CONCATENATE(\"Hul \",C255 + 11))","v":"Hul 11"}]
[null,"I alt"]
[null,{"$f":"Setup!$B$8","v":0}]
[null,"Dommer:"]
[]
[]
[null,{"$f":"CONCATENATE(\"       \",'Puljer runde 1'!$A$7)","v":"       Bane 1"},null,{"$f":"Setup!$B$2","v":"Minitræf i Houlbjerg"},null,null,null,null,null,null,{"$f":"'Puljer runde 3'!$B$3","v":"Runde 3"},{"$f":"CONCATENATE('Puljer runde 1'!$A$25,\".\",'Puljer runde 1'!$M$27)","v":"x.2"}]
[null,"Til hul",{"$f":"'Puljer runde 1'!$L$27","v":0},null,null,null,null,null,null,null,{"$f":"Setup!$B$4","v":"29. juli 2015"}]
[null,null,{"$f":"IF('Puljer runde 1'!B$27=\"\",\"\",'Puljer runde 1'!B$27)","v":""},null,{"$f":"IF('Puljer runde 1'!D$27=\"\",\"\",'Puljer runde 1'!D$27)","v":""},null,{"$f":"IF('Puljer runde 1'!F$27=\"\",\"\",'Puljer runde 1'!F$27)","v":""},null,{"$f":"IF('Puljer runde 1'!H$27=\"\",\"\",'Puljer runde 1'!H$27)","v":""},null,{"$f":"IF('Puljer runde 1'!J$27=\"\",\"\",'Puljer runde 1'!J$27)","v":""}]
[null,null,{"$f":"IF('Puljer runde 1'!C$27=\"\",\"\",'Puljer runde 1'!C$27)","v":""},null,{"$f":"IF('Puljer runde 1'!E$27=\"\",\"\",'Puljer runde 1'!E$27)","v":""},null,{"$f":"IF('Puljer runde 1'!G$27=\"\",\"\",'Puljer runde 1'!G$27)","v":""},null,{"$f":"IF('Puljer runde 1'!I$27=\"\",\"\",'Puljer runde 1'!I$27)","v":""},null,{"$f":"IF('Puljer runde 1'!K$27=\"\",\"\",'Puljer runde 1'!K$27)","v":""}]
[null,{"$f":"CONCATENATE(\"Hul \",C276)","v":"Hul 0"}]
[null,{"$f":"IF(C276+1 > 12,CONCATENATE(\"Hul \",C276 + 1 - 12),CONCATENATE(\"Hul \",C276 + 1))","v":"Hul 1"}]
[null,{"$f":"IF(C276+2 > 12,CONCATENATE(\"Hul \",C276 + 2 - 12),CONCATENATE(\"Hul \",C276 + 2))","v":"Hul 2"}]
[null,{"$f":"IF(C276+3 > 12,CONCATENATE(\"Hul \",C276 + 3 - 12),CONCATENATE(\"Hul \",C276 + 3))","v":"Hul 3"}]
[null,{"$f":"IF(C276+4 > 12,CONCATENATE(\"Hul \",C276 + 4 - 12),CONCATENATE(\"Hul \",C276 + 4))","v":"Hul 4"}]
[null,{"$f":"IF(C276+5 > 12,CONCATENATE(\"Hul \",C276 + 5 - 12),CONCATENATE(\"Hul \",C276 + 5))","v":"Hul 5"}]
[null,{"$f":"IF(C276+6 > 12,CONCATENATE(\"Hul \",C276 + 6 - 12),CONCATENATE(\"Hul \",C276 + 6))","v":"Hul 6"}]
[null,{"$f":"IF(C276+7 > 12,CONCATENATE(\"Hul \",C276 + 7 - 12),CONCATENATE(\"Hul \",C276 + 7))","v":"Hul 7"}]
[null,{"$f":"IF(C276+8 > 12,CONCATENATE(\"Hul \",C276 + 8 - 12),CONCATENATE(\"Hul \",C276 + 8))","v":"Hul 8"}]
[null,{"$f":"IF(C276+9 > 12,CONCATENATE(\"Hul \",C276 + 9 - 12),CONCATENATE(\"Hul \",C276 + 9))","v":"Hul 9"}]
[null,{"$f":"IF(C276+10 > 12,CONCATENATE(\"Hul \",C276 + 10 - 12),CONCATENATE(\"Hul \",C276 + 10))","v":"Hul 10"}]
[null,{"$f":"IF(C276+11 > 12,CONCATENATE(\"Hul \",C276 + 11 - 12),CONCATENATE(\"Hul \",C276 + 11))","v":"Hul 11"}]
[null,"I alt"]
[null,{"$f":"Setup!$B$8","v":0}]
[null,"Dommer:"]
[]
[]
[null,{"$f":"CONCATENATE(\"       \",'Puljer runde 1'!$A$8)","v":"       Bane 1"},null,{"$f":"Setup!$B$2","v":"Minitræf i Houlbjerg"},null,null,null,null,null,null,{"$f":"'Puljer runde 3'!$B$3","v":"Runde 3"},{"$f":"CONCATENATE('Puljer runde 1'!$A$25,\".\",'Puljer runde 1'!$M$28)","v":"x.3"}]
[null,"Til hul",{"$f":"'Puljer runde 1'!$L$28","v":0},null,null,null,null,null,null,null,{"$f":"Setup!$B$4","v":"29. juli 2015"}]
[null,null,{"$f":"IF('Puljer runde 1'!B$28=\"\",\"\",'Puljer runde 1'!B$28)","v":""},null,{"$f":"IF('Puljer runde 1'!D$28=\"\",\"\",'Puljer runde 1'!D$28)","v":""},null,{"$f":"IF('Puljer runde 1'!F$28=\"\",\"\",'Puljer runde 1'!F$28)","v":""},null,{"$f":"IF('Puljer runde 1'!H$28=\"\",\"\",'Puljer runde 1'!H$28)","v":""},null,{"$f":"IF('Puljer runde 1'!J$28=\"\",\"\",'Puljer runde 1'!J$28)","v":""}]
[null,null,{"$f":"IF('Puljer runde 1'!C$28=\"\",\"\",'Puljer runde 1'!C$28)","v":""},null,{"$f":"IF('Puljer runde 1'!E$28=\"\",\"\",'Puljer runde 1'!E$28)","v":""},null,{"$f":"IF('Puljer runde 1'!G$28=\"\",\"\",'Puljer runde 1'!G$28)","v":""},null,{"$f":"IF('Puljer runde 1'!I$28=\"\",\"\",'Puljer runde 1'!I$28)","v":""},null,{"$f":"IF('Puljer runde 1'!K$28=\"\",\"\",'Puljer runde 1'!K$28)","v":""}]
[null,{"$f":"CONCATENATE(\"Hul \",C297)","v":"Hul 0"}]
[null,{"$f":"IF(C297+1 > 12,CONCATENATE(\"Hul \",C297 + 1 - 12),CONCATENATE(\"Hul \",C297 + 1))","v":"Hul 1"}]
[null,{"$f":"IF(C297+2 > 12,CONCATENATE(\"Hul \",C297 + 2 - 12),CONCATENATE(\"Hul \",C297 + 2))","v":"Hul 2"}]
[null,{"$f":"IF(C297+3 > 12,CONCATENATE(\"Hul \",C297 + 3 - 12),CONCATENATE(\"Hul \",C297 + 3))","v":"Hul 3"}]
[null,{"$f":"IF(C297+4 > 12,CONCATENATE(\"Hul \",C297 + 4 - 12),CONCATENATE(\"Hul \",C297 + 4))","v":"Hul 4"}]
[null,{"$f":"IF(C297+5 > 12,CONCATENATE(\"Hul \",C297 + 5 - 12),CONCATENATE(\"Hul \",C297 + 5))","v":"Hul 5"}]
[null,{"$f":"IF(C297+6 > 12,CONCATENATE(\"Hul \",C297 + 6 - 12),CONCATENATE(\"Hul \",C297 + 6))","v":"Hul 6"}]
[null,{"$f":"IF(C297+7 > 12,CONCATENATE(\"Hul \",C297 + 7 - 12),CONCATENATE(\"Hul \",C297 + 7))","v":"Hul 7"}]
[null,{"$f":"IF(C297+8 > 12,CONCATENATE(\"Hul \",C297 + 8 - 12),CONCATENATE(\"Hul \",C297 + 8))","v":"Hul 8"}]
[null,{"$f":"IF(C297+9 > 12,CONCATENATE(\"Hul \",C297 + 9 - 12),CONCATENATE(\"Hul \",C297 + 9))","v":"Hul 9"}]
[null,{"$f":"IF(C297+10 > 12,CONCATENATE(\"Hul \",C297 + 10 - 12),CONCATENATE(\"Hul \",C297 + 10))","v":"Hul 10"}]
[null,{"$f":"IF(C297+11 > 12,CONCATENATE(\"Hul \",C297 + 11 - 12),CONCATENATE(\"Hul \",C297 + 11))","v":"Hul 11"}]
[null,"I alt"]
[null,{"$f":"Setup!$B$8","v":0}]
[null,"Dommer:"]
[]
[]
[null,{"$f":"CONCATENATE(\"       \",'Puljer runde 1'!$A$9)","v":"       Bane 1"},null,{"$f":"Setup!$B$2","v":"Minitræf i Houlbjerg"},null,null,null,null,null,null,{"$f":"'Puljer runde 3'!$B$3","v":"Runde 3"},{"$f":"CONCATENATE('Puljer runde 1'!$A$25,\".\",'Puljer runde 1'!$M$29)","v":"x.4"}]
[null,"Til hul",{"$f":"'Puljer runde 1'!$L$29","v":0},null,null,null,null,null,null,null,{"$f":"Setup!$B$4","v":"29. juli 2015"}]
[null,null,{"$f":"IF('Puljer runde 1'!B$29=\"\",\"\",'Puljer runde 1'!B$29)","v":""},null,{"$f":"IF('Puljer runde 1'!D$29=\"\",\"\",'Puljer runde 1'!D$29)","v":""},null,{"$f":"IF('Puljer runde 1'!F$29=\"\",\"\",'Puljer runde 1'!F$29)","v":""},null,{"$f":"IF('Puljer runde 1'!H$29=\"\",\"\",'Puljer runde 1'!H$29)","v":""},null,{"$f":"IF('Puljer runde 1'!J$29=\"\",\"\",'Puljer runde 1'!J$29)","v":""}]
[null,null,{"$f":"IF('Puljer runde 1'!C$29=\"\",\"\",'Puljer runde 1'!C$29)","v":""},null,{"$f":"IF('Puljer runde 1'!E$29=\"\",\"\",'Puljer runde 1'!E$29)","v":""},null,{"$f":"IF('Puljer runde 1'!G$29=\"\",\"\",'Puljer runde 1'!G$29)","v":""},null,{"$f":"IF('Puljer runde 1'!I$29=\"\",\"\",'Puljer runde 1'!I$29)","v":""},null,{"$f":"IF('Puljer runde 1'!K$29=\"\",\"\",'Puljer runde 1'!K$29)","v":""}]
[null,{"$f":"CONCATENATE(\"Hul \",C318)","v":"Hul 0"}]
[null,{"$f":"IF(C318+1 > 12,CONCATENATE(\"Hul \",C318 + 1 - 12),CONCATENATE(\"Hul \",C318 + 1))","v":"Hul 1"}]
[null,{"$f":"IF(C318+2 > 12,CONCATENATE(\"Hul \",C318 + 2 - 12),CONCATENATE(\"Hul \",C318 + 2))","v":"Hul 2"}]
[null,{"$f":"IF(C318+3 > 12,CONCATENATE(\"Hul \",C318 + 3 - 12),CONCATENATE(\"Hul \",C318 + 3))","v":"Hul 3"}]
[null,{"$f":"IF(C318+4 > 12,CONCATENATE(\"Hul \",C318 + 4 - 12),CONCATENATE(\"Hul \",C318 + 4))","v":"Hul 4"}]
[null,{"$f":"IF(C318+5 > 12,CONCATENATE(\"Hul \",C318 + 5 - 12),CONCATENATE(\"Hul \",C318 + 5))","v":"Hul 5"}]
[null,{"$f":"IF(C318+6 > 12,CONCATENATE(\"Hul \",C318 + 6 - 12),CONCATENATE(\"Hul \",C318 + 6))","v":"Hul 6"}]
[null,{"$f":"IF(C318+7 > 12,CONCATENATE(\"Hul \",C318 + 7 - 12),CONCATENATE(\"Hul \",C318 + 7))","v":"Hul 7"}]
[null,{"$f":"IF(C318+8 > 12,CONCATENATE(\"Hul \",C318 + 8 - 12),CONCATENATE(\"Hul \",C318 + 8))","v":"Hul 8"}]
[null,{"$f":"IF(C318+9 > 12,CONCATENATE(\"Hul \",C318 + 9 - 12),CONCATENATE(\"Hul \",C318 + 9))","v":"Hul 9"}]
[null,{"$f":"IF(C318+10 > 12,CONCATENATE(\"Hul \",C318 + 10 - 12),CONCATENATE(\"Hul \",C318 + 10))","v":"Hul 10"}]
[null,{"$f":"IF(C318+11 > 12,CONCATENATE(\"Hul \",C318 + 11 - 12),CONCATENATE(\"Hul \",C318 + 11))","v":"Hul 11"}]
[null,"I alt"]
[null,{"$f":"Setup!$B$8","v":0}]
[null,"Dommer:"]
[]
[]
[null,{"$f":"CONCATENATE(\"       \",'Puljer runde 1'!$A$10)","v":"       Bane 1"},null,{"$f":"Setup!$B$2","v":"Minitræf i Houlbjerg"},null,null,null,null,null,null,{"$f":"'Puljer runde 3'!$B$3","v":"Runde 3"},{"$f":"CONCATENATE('Puljer runde 1'!$A$25,\".\",'Puljer runde 1'!$M$30)","v":"x.5"}]
[null,"Til hul",{"$f":"'Puljer runde 1'!$L$30","v":0},null,null,null,null,null,null,null,{"$f":"Setup!$B$4","v":"29. juli 2015"}]
[null,null,{"$f":"IF('Puljer runde 1'!B$30=\"\",\"\",'Puljer runde 1'!B$30)","v":""},null,{"$f":"IF('Puljer runde 1'!D$30=\"\",\"\",'Puljer runde 1'!D$30)","v":""},null,{"$f":"IF('Puljer runde 1'!F$30=\"\",\"\",'Puljer runde 1'!F$30)","v":""},null,{"$f":"IF('Puljer runde 1'!H$30=\"\",\"\",'Puljer runde 1'!H$30)","v":""},null,{"$f":"IF('Puljer runde 1'!J$30=\"\",\"\",'Puljer runde 1'!J$30)","v":""}]
[null,null,{"$f":"IF('Puljer runde 1'!C$30=\"\",\"\",'Puljer runde 1'!C$30)","v":""},null,{"$f":"IF('Puljer runde 1'!E$30=\"\",\"\",'Puljer runde 1'!E$30)","v":""},null,{"$f":"IF('Puljer runde 1'!G$30=\"\",\"\",'Puljer runde 1'!G$30)","v":""},null,{"$f":"IF('Puljer runde 1'!I$30=\"\",\"\",'Puljer runde 1'!I$30)","v":""},null,{"$f":"IF('Puljer runde 1'!K$30=\"\",\"\",'Puljer runde 1'!K$30)","v":""}]
[null,{"$f":"CONCATENATE(\"Hul \",C339)","v":"Hul 0"}]
[null,{"$f":"IF(C339+1 > 12,CONCATENATE(\"Hul \",C339 + 1 - 12),CONCATENATE(\"Hul \",C339 + 1))","v":"Hul 1"}]
[null,{"$f":"IF(C339+2 > 12,CONCATENATE(\"Hul \",C339 + 2 - 12),CONCATENATE(\"Hul \",C339 + 2))","v":"Hul 2"}]
[null,{"$f":"IF(C339+3 > 12,CONCATENATE(\"Hul \",C339 + 3 - 12),CONCATENATE(\"Hul \",C339 + 3))","v":"Hul 3"}]
[null,{"$f":"IF(C339+4 > 12,CONCATENATE(\"Hul \",C339 + 4 - 12),CONCATENATE(\"Hul \",C339 + 4))","v":"Hul 4"}]
[null,{"$f":"IF(C339+5 > 12,CONCATENATE(\"Hul \",C339 + 5 - 12),CONCATENATE(\"Hul \",C339 + 5))","v":"Hul 5"}]
[null,{"$f":"IF(C339+6 > 12,CONCATENATE(\"Hul \",C339 + 6 - 12),CONCATENATE(\"Hul \",C339 + 6))","v":"Hul 6"}]
[null,{"$f":"IF(C339+7 > 12,CONCATENATE(\"Hul \",C339 + 7 - 12),CONCATENATE(\"Hul \",C339 + 7))","v":"Hul 7"}]
[null,{"$f":"IF(C339+8 > 12,CONCATENATE(\"Hul \",C339 + 8 - 12),CONCATENATE(\"Hul \",C339 + 8))","v":"Hul 8"}]
[null,{"$f":"IF(C339+9 > 12,CONCATENATE(\"Hul \",C339 + 9 - 12),CONCATENATE(\"Hul \",C339 + 9))","v":"Hul 9"}]
[null,{"$f":"IF(C339+10 > 12,CONCATENATE(\"Hul \",C339 + 10 - 12),CONCATENATE(\"Hul \",C339 + 10))","v":"Hul 10"}]
[null,{"$f":"IF(C339+11 > 12,CONCATENATE(\"Hul \",C339 + 11 - 12),CONCATENATE(\"Hul \",C339 + 11))","v":"Hul 11"}]
[null,"I alt"]
[null,{"$f":"Setup!$B$8","v":0}]
[null,"Dommer:"]
[]
[]
[null,{"$f":"CONCATENATE(\"       \",'Puljer runde 1'!$A$11)","v":"       Bane 1"},null,{"$f":"Setup!$B$2","v":"Minitræf i Houlbjerg"},null,null,null,null,null,null,{"$f":"'Puljer runde 3'!$B$3","v":"Runde 3"},{"$f":"CONCATENATE('Puljer runde 1'!$A$25,\".\",'Puljer runde 1'!$M$31)","v":"x.6"}]
[null,"Til hul",{"$f":"'Puljer runde 1'!$L$31","v":0},null,null,null,null,null,null,null,{"$f":"Setup!$B$4","v":"29. juli 2015"}]
[null,null,{"$f":"IF('Puljer runde 1'!B$31=\"\",\"\",'Puljer runde 1'!B$31)","v":""},null,{"$f":"IF('Puljer runde 1'!D$31=\"\",\"\",'Puljer runde 1'!D$31)","v":""},null,{"$f":"IF('Puljer runde 1'!F$31=\"\",\"\",'Puljer runde 1'!F$31)","v":""},null,{"$f":"IF('Puljer runde 1'!H$31=\"\",\"\",'Puljer runde 1'!H$31)","v":""},null,{"$f":"IF('Puljer runde 1'!J$31=\"\",\"\",'Puljer runde 1'!J$31)","v":""}]
[null,null,{"$f":"IF('Puljer runde 1'!C$31=\"\",\"\",'Puljer runde 1'!C$31)","v":""},null,{"$f":"IF('Puljer runde 1'!E$31=\"\",\"\",'Puljer runde 1'!E$31)","v":""},null,{"$f":"IF('Puljer runde 1'!G$31=\"\",\"\",'Puljer runde 1'!G$31)","v":""},null,{"$f":"IF('Puljer runde 1'!I$31=\"\",\"\",'Puljer runde 1'!I$31)","v":""},null,{"$f":"IF('Puljer runde 1'!K$31=\"\",\"\",'Puljer runde 1'!K$31)","v":""}]
[null,{"$f":"CONCATENATE(\"Hul \",C360)","v":"Hul 0"}]
[null,{"$f":"IF(C360+1 > 12,CONCATENATE(\"Hul \",C360 + 1 - 12),CONCATENATE(\"Hul \",C360 + 1))","v":"Hul 1"}]
[null,{"$f":"IF(C360+2 > 12,CONCATENATE(\"Hul \",C360 + 2 - 12),CONCATENATE(\"Hul \",C360 + 2))","v":"Hul 2"}]
[null,{"$f":"IF(C360+3 > 12,CONCATENATE(\"Hul \",C360 + 3 - 12),CONCATENATE(\"Hul \",C360 + 3))","v":"Hul 3"}]
[null,{"$f":"IF(C360+4 > 12,CONCATENATE(\"Hul \",C360 + 4 - 12),CONCATENATE(\"Hul \",C360 + 4))","v":"Hul 4"}]
[null,{"$f":"IF(C360+5 > 12,CONCATENATE(\"Hul \",C360 + 5 - 12),CONCATENATE(\"Hul \",C360 + 5))","v":"Hul 5"}]
[null,{"$f":"IF(C360+6 > 12,CONCATENATE(\"Hul \",C360 + 6 - 12),CONCATENATE(\"Hul \",C360 + 6))","v":"Hul 6"}]
[null,{"$f":"IF(C360+7 > 12,CONCATENATE(\"Hul \",C360 + 7 - 12),CONCATENATE(\"Hul \",C360 + 7))","v":"Hul 7"}]
[null,{"$f":"IF(C360+8 > 12,CONCATENATE(\"Hul \",C360 + 8 - 12),CONCATENATE(\"Hul \",C360 + 8))","v":"Hul 8"}]
[null,{"$f":"IF(C360+9 > 12,CONCATENATE(\"Hul \",C360 + 9 - 12),CONCATENATE(\"Hul \",C360 + 9))","v":"Hul 9"}]
[null,{"$f":"IF(C360+10 > 12,CONCATENATE(\"Hul \",C360 + 10 - 12),CONCATENATE(\"Hul \",C360 + 10))","v":"Hul 10"}]
[null,{"$f":"IF(C360+11 > 12,CONCATENATE(\"Hul \",C360 + 11 - 12),CONCATENATE(\"Hul \",C360 + 11))","v":"Hul 11"}]
[null,"I alt"]
[null,{"$f":"Setup!$B$8","v":0}]
[null,"Dommer:"]
[]
[]
[null,{"$f":"CONCATENATE(\"       \",'Puljer runde 1'!$A$16)","v":"       Bane 2"},null,{"$f":"Setup!$B$2","v":"Minitræf i Houlbjerg"},null,null,null,null,null,null,{"$f":"'Puljer runde 3'!$B$3","v":"Runde 3"},{"$f":"CONCATENATE('Puljer runde 1'!$A$35,\".\",'Puljer runde 1'!$M$36)","v":"x.1"}]
[null,"Til hul",{"$f":"'Puljer runde 1'!$L$36","v":0},null,null,null,null,null,null,null,{"$f":"Setup!$B$4","v":"29. juli 2015"}]
[null,null,{"$f":"IF('Puljer runde 1'!B$36=\"\",\"\",'Puljer runde 1'!B$36)","v":""},null,{"$f":"IF('Puljer runde 1'!D$36=\"\",\"\",'Puljer runde 1'!D$36)","v":""},null,{"$f":"IF('Puljer runde 1'!F$36=\"\",\"\",'Puljer runde 1'!F$36)","v":""},null,{"$f":"IF('Puljer runde 1'!H$36=\"\",\"\",'Puljer runde 1'!H$36)","v":""},null,{"$f":"IF('Puljer runde 1'!J$36=\"\",\"\",'Puljer runde 1'!J$36)","v":""}]
[null,null,{"$f":"IF('Puljer runde 1'!C$36=\"\",\"\",'Puljer runde 1'!C$36)","v":""},null,{"$f":"IF('Puljer runde 1'!E$36=\"\",\"\",'Puljer runde 1'!E$36)","v":""},null,{"$f":"IF('Puljer runde 1'!G$36=\"\",\"\",'Puljer runde 1'!G$36)","v":""},null,{"$f":"IF('Puljer runde 1'!I$36=\"\",\"\",'Puljer runde 1'!I$36)","v":""},null,{"$f":"IF('Puljer runde 1'!K$36=\"\",\"\",'Puljer runde 1'!K$36)","v":""}]
[null,{"$f":"CONCATENATE(\"Hul \",C381)","v":"Hul 0"}]
[null,{"$f":"IF(C381+1 > 12,CONCATENATE(\"Hul \",C381 + 1 - 12),CONCATENATE(\"Hul \",C381 + 1))","v":"Hul 1"}]
[null,{"$f":"IF(C381+2 > 12,CONCATENATE(\"Hul \",C381 + 2 - 12),CONCATENATE(\"Hul \",C381 + 2))","v":"Hul 2"}]
[null,{"$f":"IF(C381+3 > 12,CONCATENATE(\"Hul \",C381 + 3 - 12),CONCATENATE(\"Hul \",C381 + 3))","v":"Hul 3"}]
[null,{"$f":"IF(C381+4 > 12,CONCATENATE(\"Hul \",C381 + 4 - 12),CONCATENATE(\"Hul \",C381 + 4))","v":"Hul 4"}]
[null,{"$f":"IF(C381+5 > 12,CONCATENATE(\"Hul \",C381 + 5 - 12),CONCATENATE(\"Hul \",C381 + 5))","v":"Hul 5"}]
[null,{"$f":"IF(C381+6 > 12,CONCATENATE(\"Hul \",C381 + 6 - 12),CONCATENATE(\"Hul \",C381 + 6))","v":"Hul 6"}]
[null,{"$f":"IF(C381+7 > 12,CONCATENATE(\"Hul \",C381 + 7 - 12),CONCATENATE(\"Hul \",C381 + 7))","v":"Hul 7"}]
[null,{"$f":"IF(C381+8 > 12,CONCATENATE(\"Hul \",C381 + 8 - 12),CONCATENATE(\"Hul \",C381 + 8))","v":"Hul 8"}]
[null,{"$f":"IF(C381+9 > 12,CONCATENATE(\"Hul \",C381 + 9 - 12),CONCATENATE(\"Hul \",C381 + 9))","v":"Hul 9"}]
[null,{"$f":"IF(C381+10 > 12,CONCATENATE(\"Hul \",C381 + 10 - 12),CONCATENATE(\"Hul \",C381 + 10))","v":"Hul 10"}]
[null,{"$f":"IF(C381+11 > 12,CONCATENATE(\"Hul \",C381 + 11 - 12),CONCATENATE(\"Hul \",C381 + 11))","v":"Hul 11"}]
[null,"I alt"]
[null,{"$f":"Setup!$B$8","v":0}]
[null,"Dommer:"]
[]
[]
[null,{"$f":"CONCATENATE(\"       \",'Puljer runde 1'!$A$17)","v":"       Bane 2"},null,{"$f":"Setup!$B$2","v":"Minitræf i Houlbjerg"},null,null,null,null,null,null,{"$f":"'Puljer runde 3'!$B$3","v":"Runde 3"},{"$f":"CONCATENATE('Puljer runde 1'!$A$35,\".\",'Puljer runde 1'!$M$37)","v":"x.2"}]
[null,"Til hul",{"$f":"'Puljer runde 1'!$L$37","v":0},null,null,null,null,null,null,null,{"$f":"Setup!$B$4","v":"29. juli 2015"}]
[null,null,{"$f":"IF('Puljer runde 1'!B$37=\"\",\"\",'Puljer runde 1'!B$37)","v":""},null,{"$f":"IF('Puljer runde 1'!D$37=\"\",\"\",'Puljer runde 1'!D$37)","v":""},null,{"$f":"IF('Puljer runde 1'!F$37=\"\",\"\",'Puljer runde 1'!F$37)","v":""},null,{"$f":"IF('Puljer runde 1'!H$37=\"\",\"\",'Puljer runde 1'!H$37)","v":""},null,{"$f":"IF('Puljer runde 1'!J$37=\"\",\"\",'Puljer runde 1'!J$37)","v":""}]
[null,null,{"$f":"IF('Puljer runde 1'!C$37=\"\",\"\",'Puljer runde 1'!C$37)","v":""},null,{"$f":"IF('Puljer runde 1'!E$37=\"\",\"\",'Puljer runde 1'!E$37)","v":""},null,{"$f":"IF('Puljer runde 1'!G$37=\"\",\"\",'Puljer runde 1'!G$37)","v":""},null,{"$f":"IF('Puljer runde 1'!I$37=\"\",\"\",'Puljer runde 1'!I$37)","v":""},null,{"$f":"IF('Puljer runde 1'!K$37=\"\",\"\",'Puljer runde 1'!K$37)","v":""}]
[null,{"$f":"CONCATENATE(\"Hul \",C402)","v":"Hul 0"}]
[null,{"$f":"IF(C402+1 > 12,CONCATENATE(\"Hul \",C402 + 1 - 12),CONCATENATE(\"Hul \",C402 + 1))","v":"Hul 1"}]
[null,{"$f":"IF(C402+2 > 12,CONCATENATE(\"Hul \",C402 + 2 - 12),CONCATENATE(\"Hul \",C402 + 2))","v":"Hul 2"}]
[null,{"$f":"IF(C402+3 > 12,CONCATENATE(\"Hul \",C402 + 3 - 12),CONCATENATE(\"Hul \",C402 + 3))","v":"Hul 3"}]
[null,{"$f":"IF(C402+4 > 12,CONCATENATE(\"Hul \",C402 + 4 - 12),CONCATENATE(\"Hul \",C402 + 4))","v":"Hul 4"}]
[null,{"$f":"IF(C402+5 > 12,CONCATENATE(\"Hul \",C402 + 5 - 12),CONCATENATE(\"Hul \",C402 + 5))","v":"Hul 5"}]
[null,{"$f":"IF(C402+6 > 12,CONCATENATE(\"Hul \",C402 + 6 - 12),CONCATENATE(\"Hul \",C402 + 6))","v":"Hul 6"}]
[null,{"$f":"IF(C402+7 > 12,CONCATENATE(\"Hul \",C402 + 7 - 12),CONCATENATE(\"Hul \",C402 + 7))","v":"Hul 7"}]
[null,{"$f":"IF(C402+8 > 12,CONCATENATE(\"Hul \",C402 + 8 - 12),CONCATENATE(\"Hul \",C402 + 8))","v":"Hul 8"}]
[null,{"$f":"IF(C402+9 > 12,CONCATENATE(\"Hul \",C402 + 9 - 12),CONCATENATE(\"Hul \",C402 + 9))","v":"Hul 9"}]
[null,{"$f":"IF(C402+10 > 12,CONCATENATE(\"Hul \",C402 + 10 - 12),CONCATENATE(\"Hul \",C402 + 10))","v":"Hul 10"}]
[null,{"$f":"IF(C402+11 > 12,CONCATENATE(\"Hul \",C402 + 11 - 12),CONCATENATE(\"Hul \",C402 + 11))","v":"Hul 11"}]
[null,"I alt"]
[null,{"$f":"Setup!$B$8","v":0}]
[null,"Dommer:"]
[]
[]
[null,{"$f":"CONCATENATE(\"       \",'Puljer runde 1'!$A$18)","v":"       Bane 2"},null,{"$f":"Setup!$B$2","v":"Minitræf i Houlbjerg"},null,null,null,null,null,null,{"$f":"'Puljer runde 3'!$B$3","v":"Runde 3"},{"$f":"CONCATENATE('Puljer runde 1'!$A$35,\".\",'Puljer runde 1'!$M$38)","v":"x.3"}]
[null,"Til hul",{"$f":"'Puljer runde 1'!$L$38","v":0},null,null,null,null,null,null,null,{"$f":"Setup!$B$4","v":"29. juli 2015"}]
[null,null,{"$f":"IF('Puljer runde 1'!B$38=\"\",\"\",'Puljer runde 1'!B$38)","v":""},null,{"$f":"IF('Puljer runde 1'!D$38=\"\",\"\",'Puljer runde 1'!D$38)","v":""},null,{"$f":"IF('Puljer runde 1'!F$38=\"\",\"\",'Puljer runde 1'!F$38)","v":""},null,{"$f":"IF('Puljer runde 1'!H$38=\"\",\"\",'Puljer runde 1'!H$38)","v":""},null,{"$f":"IF('Puljer runde 1'!J$38=\"\",\"\",'Puljer runde 1'!J$38)","v":""}]
[null,null,{"$f":"IF('Puljer runde 1'!C$38=\"\",\"\",'Puljer runde 1'!C$38)","v":""},null,{"$f":"IF('Puljer runde 1'!E$38=\"\",\"\",'Puljer runde 1'!E$38)","v":""},null,{"$f":"IF('Puljer runde 1'!G$38=\"\",\"\",'Puljer runde 1'!G$38)","v":""},null,{"$f":"IF('Puljer runde 1'!I$38=\"\",\"\",'Puljer runde 1'!I$38)","v":""},null,{"$f":"IF('Puljer runde 1'!K$38=\"\",\"\",'Puljer runde 1'!K$38)","v":""}]
[null,{"$f":"CONCATENATE(\"Hul \",C423)","v":"Hul 0"}]
[null,{"$f":"IF(C423+1 > 12,CONCATENATE(\"Hul \",C423 + 1 - 12),CONCATENATE(\"Hul \",C423 + 1))","v":"Hul 1"}]
[null,{"$f":"IF(C423+2 > 12,CONCATENATE(\"Hul \",C423 + 2 - 12),CONCATENATE(\"Hul \",C423 + 2))","v":"Hul 2"}]
[null,{"$f":"IF(C423+3 > 12,CONCATENATE(\"Hul \",C423 + 3 - 12),CONCATENATE(\"Hul \",C423 + 3))","v":"Hul 3"}]
[null,{"$f":"IF(C423+4 > 12,CONCATENATE(\"Hul \",C423 + 4 - 12),CONCATENATE(\"Hul \",C423 + 4))","v":"Hul 4"}]
[null,{"$f":"IF(C423+5 > 12,CONCATENATE(\"Hul \",C423 + 5 - 12),CONCATENATE(\"Hul \",C423 + 5))","v":"Hul 5"}]
[null,{"$f":"IF(C423+6 > 12,CONCATENATE(\"Hul \",C423 + 6 - 12),CONCATENATE(\"Hul \",C423 + 6))","v":"Hul 6"}]
[null,{"$f":"IF(C423+7 > 12,CONCATENATE(\"Hul \",C423 + 7 - 12),CONCATENATE(\"Hul \",C423 + 7))","v":"Hul 7"}]
[null,{"$f":"IF(C423+8 > 12,CONCATENATE(\"Hul \",C423 + 8 - 12),CONCATENATE(\"Hul \",C423 + 8))","v":"Hul 8"}]
[null,{"$f":"IF(C423+9 > 12,CONCATENATE(\"Hul \",C423 + 9 - 12),CONCATENATE(\"Hul \",C423 + 9))","v":"Hul 9"}]
[null,{"$f":"IF(C423+10 > 12,CONCATENATE(\"Hul \",C423 + 10 - 12),CONCATENATE(\"Hul \",C423 + 10))","v":"Hul 10"}]
[null,{"$f":"IF(C423+11 > 12,CONCATENATE(\"Hul \",C423 + 11 - 12),CONCATENATE(\"Hul \",C423 + 11))","v":"Hul 11"}]
[null,"I alt"]
[null,{"$f":"Setup!$B$8","v":0}]
[null,"Dommer:"]
[]
[]
[null,{"$f":"CONCATENATE(\"       \",'Puljer runde 1'!$A$19)","v":"       Bane 2"},null,{"$f":"Setup!$B$2","v":"Minitræf i Houlbjerg"},null,null,null,null,null,null,{"$f":"'Puljer runde 3'!$B$3","v":"Runde 3"},{"$f":"CONCATENATE('Puljer runde 1'!$A$35,\".\",'Puljer runde 1'!$M$39)","v":"x.4"}]
[null,"Til hul",{"$f":"'Puljer runde 1'!$L$39","v":0},null,null,null,null,null,null,null,{"$f":"Setup!$B$4","v":"29. juli 2015"}]
[null,null,{"$f":"IF('Puljer runde 1'!B$39=\"\",\"\",'Puljer runde 1'!B$39)","v":""},null,{"$f":"IF('Puljer runde 1'!D$39=\"\",\"\",'Puljer runde 1'!D$39)","v":""},null,{"$f":"IF('Puljer runde 1'!F$39=\"\",\"\",'Puljer runde 1'!F$39)","v":""},null,{"$f":"IF('Puljer runde 1'!H$39=\"\",\"\",'Puljer runde 1'!H$39)","v":""},null,{"$f":"IF('Puljer runde 1'!J$39=\"\",\"\",'Puljer runde 1'!J$39)","v":""}]
[null,null,{"$f":"IF('Puljer runde 1'!C$39=\"\",\"\",'Puljer runde 1'!C$39)","v":""},null,{"$f":"IF('Puljer runde 1'!E$39=\"\",\"\",'Puljer runde 1'!E$39)","v":""},null,{"$f":"IF('Puljer runde 1'!G$39=\"\",\"\",'Puljer runde 1'!G$39)","v":""},null,{"$f":"IF('Puljer runde 1'!I$39=\"\",\"\",'Puljer runde 1'!I$39)","v":""},null,{"$f":"IF('Puljer runde 1'!K$39=\"\",\"\",'Puljer runde 1'!K$39)","v":""}]
[null,{"$f":"CONCATENATE(\"Hul \",C444)","v":"Hul 0"}]
[null,{"$f":"IF(C444+1 > 12,CONCATENATE(\"Hul \",C444 + 1 - 12),CONCATENATE(\"Hul \",C444 + 1))","v":"Hul 1"}]
[null,{"$f":"IF(C444+2 > 12,CONCATENATE(\"Hul \",C444 + 2 - 12),CONCATENATE(\"Hul \",C444 + 2))","v":"Hul 2"}]
[null,{"$f":"IF(C444+3 > 12,CONCATENATE(\"Hul \",C444 + 3 - 12),CONCATENATE(\"Hul \",C444 + 3))","v":"Hul 3"}]
[null,{"$f":"IF(C444+4 > 12,CONCATENATE(\"Hul \",C444 + 4 - 12),CONCATENATE(\"Hul \",C444 + 4))","v":"Hul 4"}]
[null,{"$f":"IF(C444+5 > 12,CONCATENATE(\"Hul \",C444 + 5 - 12),CONCATENATE(\"Hul \",C444 + 5))","v":"Hul 5"}]
[null,{"$f":"IF(C444+6 > 12,CONCATENATE(\"Hul \",C444 + 6 - 12),CONCATENATE(\"Hul \",C444 + 6))","v":"Hul 6"}]
[null,{"$f":"IF(C444+7 > 12,CONCATENATE(\"Hul \",C444 + 7 - 12),CONCATENATE(\"Hul \",C444 + 7))","v":"Hul 7"}]
[null,{"$f":"IF(C444+8 > 12,CONCATENATE(\"Hul \",C444 + 8 - 12),CONCATENATE(\"Hul \",C444 + 8))","v":"Hul 8"}]
[null,{"$f":"IF(C444+9 > 12,CONCATENATE(\"Hul \",C444 + 9 - 12),CONCATENATE(\"Hul \",C444 + 9))","v":"Hul 9"}]
[null,{"$f":"IF(C444+10 > 12,CONCATENATE(\"Hul \",C444 + 10 - 12),CONCATENATE(\"Hul \",C444 + 10))","v":"Hul 10"}]
[null,{"$f":"IF(C444+11 > 12,CONCATENATE(\"Hul \",C444 + 11 - 12),CONCATENATE(\"Hul \",C444 + 11))","v":"Hul 11"}]
[null,"I alt"]
[null,{"$f":"Setup!$B$8","v":0}]
[null,"Dommer:"]
[]
[]
[null,{"$f":"CONCATENATE(\"       \",'Puljer runde 1'!$A$20)","v":"       Bane 2"},null,{"$f":"Setup!$B$2","v":"Minitræf i Houlbjerg"},null,null,null,null,null,null,{"$f":"'Puljer runde 3'!$B$3","v":"Runde 3"},{"$f":"CONCATENATE('Puljer runde 1'!$A$35,\".\",'Puljer runde 1'!$M$40)","v":"x.5"}]
[null,"Til hul",{"$f":"'Puljer runde 1'!$L$40","v":0},null,null,null,null,null,null,null,{"$f":"Setup!$B$4","v":"29. juli 2015"}]
[null,null,{"$f":"IF('Puljer runde 1'!B$40=\"\",\"\",'Puljer runde 1'!B$40)","v":""},null,{"$f":"IF('Puljer runde 1'!D$40=\"\",\"\",'Puljer runde 1'!D$40)","v":""},null,{"$f":"IF('Puljer runde 1'!F$40=\"\",\"\",'Puljer runde 1'!F$40)","v":""},null,{"$f":"IF('Puljer runde 1'!H$40=\"\",\"\",'Puljer runde 1'!H$40)","v":""},null,{"$f":"IF('Puljer runde 1'!J$40=\"\",\"\",'Puljer runde 1'!J$40)","v":""}]
[null,null,{"$f":"IF('Puljer runde 1'!C$40=\"\",\"\",'Puljer runde 1'!C$40)","v":""},null,{"$f":"IF('Puljer runde 1'!E$40=\"\",\"\",'Puljer runde 1'!E$40)","v":""},null,{"$f":"IF('Puljer runde 1'!G$40=\"\",\"\",'Puljer runde 1'!G$40)","v":""},null,{"$f":"IF('Puljer runde 1'!I$40=\"\",\"\",'Puljer runde 1'!I$40)","v":""},null,{"$f":"IF('Puljer runde 1'!K$40=\"\",\"\",'Puljer runde 1'!K$40)","v":""}]
[null,{"$f":"CONCATENATE(\"Hul \",C465)","v":"Hul 0"}]
[null,{"$f":"IF(C465+1 > 12,CONCATENATE(\"Hul \",C465 + 1 - 12),CONCATENATE(\"Hul \",C465 + 1))","v":"Hul 1"}]
[null,{"$f":"IF(C465+2 > 12,CONCATENATE(\"Hul \",C465 + 2 - 12),CONCATENATE(\"Hul \",C465 + 2))","v":"Hul 2"}]
[null,{"$f":"IF(C465+3 > 12,CONCATENATE(\"Hul \",C465 + 3 - 12),CONCATENATE(\"Hul \",C465 + 3))","v":"Hul 3"}]
[null,{"$f":"IF(C465+4 > 12,CONCATENATE(\"Hul \",C465 + 4 - 12),CONCATENATE(\"Hul \",C465 + 4))","v":"Hul 4"}]
[null,{"$f":"IF(C465+5 > 12,CONCATENATE(\"Hul \",C465 + 5 - 12),CONCATENATE(\"Hul \",C465 + 5))","v":"Hul 5"}]
[null,{"$f":"IF(C465+6 > 12,CONCATENATE(\"Hul \",C465 + 6 - 12),CONCATENATE(\"Hul \",C465 + 6))","v":"Hul 6"}]
[null,{"$f":"IF(C465+7 > 12,CONCATENATE(\"Hul \",C465 + 7 - 12),CONCATENATE(\"Hul \",C465 + 7))","v":"Hul 7"}]
[null,{"$f":"IF(C465+8 > 12,CONCATENATE(\"Hul \",C465 + 8 - 12),CONCATENATE(\"Hul \",C465 + 8))","v":"Hul 8"}]
[null,{"$f":"IF(C465+9 > 12,CONCATENATE(\"Hul \",C465 + 9 - 12),CONCATENATE(\"Hul \",C465 + 9))","v":"Hul 9"}]
[null,{"$f":"IF(C465+10 > 12,CONCATENATE(\"Hul \",C465 + 10 - 12),CONCATENATE(\"Hul \",C465 + 10))","v":"Hul 10"}]
[null,{"$f":"IF(C465+11 > 12,CONCATENATE(\"Hul \",C465 + 11 - 12),CONCATENATE(\"Hul \",C465 + 11))","v":"Hul 11"}]
[null,"I alt"]
[null,{"$f":"Setup!$B$8","v":0}]
[null,"Dommer:"]
[]
[]
[null,{"$f":"CONCATENATE(\"       \",'Puljer runde 1'!$A$21)","v":"       Bane 2"},null,{"$f":"Setup!$B$2","v":"Minitræf i Houlbjerg"},null,null,null,null,null,null,{"$f":"'Puljer runde 3'!$B$3","v":"Runde 3"},{"$f":"CONCATENATE('Puljer runde 1'!$A$35,\".\",'Puljer runde 1'!$M$41)","v":"x.6"}]
[null,"Til hul",{"$f":"'Puljer runde 1'!$L$41","v":0},null,null,null,null,null,null,null,{"$f":"Setup!$B$4","v":"29. juli 2015"}]
[null,null,{"$f":"IF('Puljer runde 1'!B$41=\"\",\"\",'Puljer runde 1'!B$41)","v":""},null,{"$f":"IF('Puljer runde 1'!D$41=\"\",\"\",'Puljer runde 1'!D$41)","v":""},null,{"$f":"IF('Puljer runde 1'!F$41=\"\",\"\",'Puljer runde 1'!F$41)","v":""},null,{"$f":"IF('Puljer runde 1'!H$41=\"\",\"\",'Puljer runde 1'!H$41)","v":""},null,{"$f":"IF('Puljer runde 1'!J$41=\"\",\"\",'Puljer runde 1'!J$41)","v":""}]
[null,null,{"$f":"IF('Puljer runde 1'!C$41=\"\",\"\",'Puljer runde 1'!C$41)","v":""},null,{"$f":"IF('Puljer runde 1'!E$41=\"\",\"\",'Puljer runde 1'!E$41)","v":""},null,{"$f":"IF('Puljer runde 1'!G$41=\"\",\"\",'Puljer runde 1'!G$41)","v":""},null,{"$f":"IF('Puljer runde 1'!I$41=\"\",\"\",'Puljer runde 1'!I$41)","v":""},null,{"$f":"IF('Puljer runde 1'!K$41=\"\",\"\",'Puljer runde 1'!K$41)","v":""}]
[null,{"$f":"CONCATENATE(\"Hul \",C486)","v":"Hul 0"}]
[null,{"$f":"IF(C486+1 > 12,CONCATENATE(\"Hul \",C486 + 1 - 12),CONCATENATE(\"Hul \",C486 + 1))","v":"Hul 1"}]
[null,{"$f":"IF(C486+2 > 12,CONCATENATE(\"Hul \",C486 + 2 - 12),CONCATENATE(\"Hul \",C486 + 2))","v":"Hul 2"}]
[null,{"$f":"IF(C486+3 > 12,CONCATENATE(\"Hul \",C486 + 3 - 12),CONCATENATE(\"Hul \",C486 + 3))","v":"Hul 3"}]
[null,{"$f":"IF(C486+4 > 12,CONCATENATE(\"Hul \",C486 + 4 - 12),CONCATENATE(\"Hul \",C486 + 4))","v":"Hul 4"}]
[null,{"$f":"IF(C486+5 > 12,CONCATENATE(\"Hul \",C486 + 5 - 12),CONCATENATE(\"Hul \",C486 + 5))","v":"Hul 5"}]
[null,{"$f":"IF(C486+6 > 12,CONCATENATE(\"Hul \",C486 + 6 - 12),CONCATENATE(\"Hul \",C486 + 6))","v":"Hul 6"}]
[null,{"$f":"IF(C486+7 > 12,CONCATENATE(\"Hul \",C486 + 7 - 12),CONCATENATE(\"Hul \",C486 + 7))","v":"Hul 7"}]
[null,{"$f":"IF(C486+8 > 12,CONCATENATE(\"Hul \",C486 + 8 - 12),CONCATENATE(\"Hul \",C486 + 8))","v":"Hul 8"}]
[null,{"$f":"IF(C486+9 > 12,CONCATENATE(\"Hul \",C486 + 9 - 12),CONCATENATE(\"Hul \",C486 + 9))","v":"Hul 9"}]
[null,{"$f":"IF(C486+10 > 12,CONCATENATE(\"Hul \",C486 + 10 - 12),CONCATENATE(\"Hul \",C486 + 10))","v":"Hul 10"}]
[null,{"$f":"IF(C486+11 > 12,CONCATENATE(\"Hul \",C486 + 11 - 12),CONCATENATE(\"Hul \",C486 + 11))","v":"Hul 11"}]
[null,"I alt"]
[null,{"$f":"Setup!$B$8","v":0}]
[null,"Dommer:"]

{"sheet":"KampsedlerEns 4","index":15,"n_rows":503,"n_cols":12,"rows_kept":503,"cut":false,"hidden":true,"merged":[[487,4,487,5],[487,6,487,7],[487,8,487,9],[487,10,487,11],[501,1,501,11],[502,1,502,2],[502,3,502,11],[484,1,484,2],[484,3,485,9],[485,10,485,11],[486,1,487,1],[486,2,486,3],[486,4,486,5],[486,6,486,7],[486,8,486,9],[486,10,486,11],[487,2,487,3],[466,4,466,5],[466,6,466,7],[466,8,466,9],[466,10,466,11],[480,1,480,11],[481,1,481,2],[481,3,481,11],[463,1,463,2],[463,3,464,9],[464,10,464,11],[465,1,466,1],[465,2,465,3],[465,4,465,5],[465,6,465,7],[465,8,465,9],[465,10,465,11],[466,2,466,3],[445,4,445,5],[445,6,445,7],[445,8,445,9],[445,10,445,11],[459,1,459,11],[460,1,460,2],[460,3,460,11],[442,1,442,2],[442,3,443,9],[443,10,443,11],[444,1,445,1],[444,2,444,3],[444,4,444,5],[444,6,444,7],[444,8,444,9],[444,10,444,11],[445,2,445,3],[424,4,424,5],[424,6,424,7],[424,8,424,9],[424,10,424,11],[438,1,438,11],[439,1,439,2],[439,3,439,11],[421,1,421,2],[421,3,422,9],[422,10,422,11],[423,1,424,1],[423,2,423,3],[423,4,423,5],[423,6,423,7],[423,8,423,9],[423,10,423,11],[424,2,424,3],[403,4,403,5],[403,6,403,7],[403,8,403,9],[403,10,403,11],[417,1,417,11],[418,1,418,2],[418,3,418,11],[400,1,400,2],[400,3,401,9],[401,10,401,11],[402,1,403,1],[402,2,402,3],[402,4,402,5],[402,6,402,7],[402,8,402,9],[402,10,402,11],[403,2,403,3],[382,4,382,5],[382,6,382,7],[382,8,382,9],[382,10,382,11],[396,1,396,11],[397,1,397,2],[397,3,397,11],[379,1,379,2],[379,3,380,9],[380,10,380,11],[381,1,382,1],[381,2,381,3],[381,4,381,5],[381,6,381,7],[381,8,381,9],[381,10,381,11],[382,2,382,3],[361,4,361,5],[361,6,361,7],[361,8,361,9],[361,10,361,11],[375,1,375,11],[376,1,376,2],[376,3,376,11],[358,1,358,2],[358,3,359,9],[359,10,359,11],[360,1,361,1],[360,2,360,3],[360,4,360,5],[360,6,360,7],[360,8,360,9],[360,10,360,11],[361,2,361,3],[340,4,340,5],[340,6,340,7],[340,8,340,9],[340,10,340,11],[354,1,354,11],[355,1,355,2],[355,3,355,11],[337,1,337,2],[337,3,338,9],[338,10,338,11],[339,1,340,1],[339,2,339,3],[339,4,339,5],[339,6,339,7],[339,8,339,9],[339,10,339,11],[340,2,340,3],[319,4,319,5],[319,6,319,7],[319,8,319,9],[319,10,319,11],[333,1,333,11],[334,1,334,2],[334,3,334,11],[316,1,316,2],[316,3,317,9],[317,10,317,11],[318,1,319,1],[318,2,318,3],[318,4,318,5],[318,6,318,7],[318,8,318,9],[318,10,318,11],[319,2,319,3],[298,4,298,5],[298,6,298,7],[298,8,298,9],[298,10,298,11],[312,1,312,11],[313,1,313,2],[313,3,313,11],[295,1,295,2],[295,3,296,9],[296,10,296,11],[297,1,298,1],[297,2,297,3],[297,4,297,5],[297,6,297,7],[297,8,297,9],[297,10,297,11],[298,2,298,3],[277,4,277,5],[277,6,277,7],[277,8,277,9],[277,10,277,11],[291,1,291,11],[292,1,292,2],[292,3,292,11],[274,1,274,2],[274,3,275,9],[275,10,275,11],[276,1,277,1],[276,2,276,3],[276,4,276,5],[276,6,276,7],[276,8,276,9],[276,10,276,11],[277,2,277,3],[256,4,256,5],[256,6,256,7],[256,8,256,9],[256,10,256,11],[270,1,270,11],[271,1,271,2],[271,3,271,11],[253,1,253,2],[253,3,254,9],[254,10,254,11],[255,1,256,1],[255,2,255,3],[255,4,255,5],[255,6,255,7],[255,8,255,9],[255,10,255,11],[256,2,256,3],[235,4,235,5],[235,6,235,7],[235,8,235,9],[235,10,235,11],[249,1,249,11],[250,1,250,2],[250,3,250,11],[232,1,232,2],[232,3,233,9],[233,10,233,11],[234,1,235,1],[234,2,234,3],[234,4,234,5],[234,6,234,7],[234,8,234,9],[234,10,234,11],[235,2,235,3],[214,4,214,5],[214,6,214,7],[214,8,214,9],[214,10,214,11],[228,1,228,11],[229,1,229,2],[229,3,229,11],[211,1,211,2],[211,3,212,9],[212,10,212,11],[213,1,214,1],[213,2,213,3],[213,4,213,5],[213,6,213,7],[213,8,213,9],[213,10,213,11],[214,2,214,3],[193,4,193,5],[193,6,193,7],[193,8,193,9],[193,10,193,11],[207,1,207,11],[208,1,208,2],[208,3,208,11],[190,1,190,2],[190,3,191,9],[191,10,191,11],[192,1,193,1],[192,2,192,3],[192,4,192,5],[192,6,192,7],[192,8,192,9],[192,10,192,11],[193,2,193,3],[172,4,172,5],[172,6,172,7],[172,8,172,9],[172,10,172,11],[186,1,186,11],[187,1,187,2],[187,3,187,11],[169,1,169,2],[169,3,170,9],[170,10,170,11],[171,1,172,1],[171,2,171,3],[171,4,171,5],[171,6,171,7],[171,8,171,9],[171,10,171,11],[172,2,172,3],[151,4,151,5],[151,6,151,7],[151,8,151,9],[151,10,151,11],[165,1,165,11],[166,1,166,2],[166,3,166,11],[148,1,148,2],[148,3,149,9],[149,10,149,11],[150,1,151,1],[150,2,150,3],[150,4,150,5],[150,6,150,7],[150,8,150,9],[150,10,150,11],[151,2,151,3],[130,4,130,5],[130,6,130,7],[130,8,130,9],[130,10,130,11],[144,1,144,11],[145,1,145,2],[145,3,145,11],[127,1,127,2],[127,3,128,9],[128,10,128,11],[129,1,130,1],[129,2,129,3],[129,4,129,5],[129,6,129,7],[129,8,129,9],[129,10,129,11],[130,2,130,3],[109,4,109,5],[109,6,109,7],[109,8,109,9],[109,10,109,11],[123,1,123,11],[124,1,124,2],[124,3,124,11],[106,1,106,2],[106,3,107,9],[107,10,107,11],[108,1,109,1],[108,2,108,3],[108,4,108,5],[108,6,108,7],[108,8,108,9],[108,10,108,11],[109,2,109,3],[88,4,88,5],[88,6,88,7],[88,8,88,9],[88,10,88,11],[102,1,102,11],[103,1,103,2],[103,3,103,11],[85,1,85,2],[85,3,86,9],[86,10,86,11],[87,1,88,1],[87,2,87,3],[87,4,87,5],[87,6,87,7],[87,8,87,9],[87,10,87,11],[88,2,88,3],[67,4,67,5],[67,6,67,7],[67,8,67,9],[67,10,67,11],[81,1,81,11],[82,1,82,2],[82,3,82,11],[64,1,64,2],[64,3,65,9],[65,10,65,11],[66,1,67,1],[66,2,66,3],[66,4,66,5],[66,6,66,7],[66,8,66,9],[66,10,66,11],[67,2,67,3],[46,4,46,5],[46,6,46,7],[46,8,46,9],[46,10,46,11],[60,1,60,11],[61,1,61,2],[61,3,61,11],[43,1,43,2],[43,3,44,9],[44,10,44,11],[45,1,46,1],[45,2,45,3],[45,4,45,5],[45,6,45,7],[45,8,45,9],[45,10,45,11],[46,2,46,3],[25,4,25,5],[25,6,25,7],[25,8,25,9],[25,10,25,11],[39,1,39,11],[40,1,40,2],[40,3,40,11],[22,1,22,2],[22,3,23,9],[23,10,23,11],[24,1,25,1],[24,2,24,3],[24,4,24,5],[24,6,24,7],[24,8,24,9],[24,10,24,11],[25,2,25,3],[4,4,4,5],[4,6,4,7],[4,8,4,9],[4,10,4,11],[18,1,18,11],[19,1,19,2],[19,3,19,11],[1,1,1,2],[1,3,2,9],[2,10,2,11],[3,1,4,1],[3,2,3,3],[3,4,3,5],[3,6,3,7],[3,8,3,9],[3,10,3,11],[4,2,4,3]]}
[]
[null,{"$f":"CONCATENATE(\"       \",'Puljer runde 1'!$A$36)","v":"       "},null,{"$f":"Setup!$B$2","v":"Minitræf i Houlbjerg"},null,null,null,null,null,null,{"$f":"'Puljer runde 4'!$B$3","v":"Runde 4"},{"$f":"CONCATENATE('Puljer runde 1'!$A$5,\".\",'Puljer runde 1'!$M$6)","v":"Rød.1"}]
[null,"Til hul",{"$f":"'Puljer runde 1'!$L$6","v":1},null,null,null,null,null,null,null,{"$f":"Setup!$B$4","v":"29. juli 2015"}]
[null,null,{"$f":"IF('Puljer runde 1'!B$6=\"\",\"\",'Puljer runde 1'!B$6)","v":"Bente Nordmann"},null,{"$f":"IF('Puljer runde 1'!D$6=\"\",\"\",'Puljer runde 1'!D$6)","v":"Doris Thomsen"},null,{"$f":"IF('Puljer runde 1'!F$6=\"\",\"\",'Puljer runde 1'!F$6)","v":"Britta Axelsen"},null,{"$f":"IF('Puljer runde 1'!H$6=\"\",\"\",'Puljer runde 1'!H$6)","v":"Tage Hansen"},null,{"$f":"IF('Puljer runde 1'!J$6=\"\",\"\",'Puljer runde 1'!J$6)","v":"Lynge Madsen"}]
[null,null,{"$f":"IF('Puljer runde 1'!C$6=\"\",\"\",'Puljer runde 1'!C$6)","v":"Auning"},null,{"$f":"IF('Puljer runde 1'!E$6=\"\",\"\",'Puljer runde 1'!E$6)","v":"Houlbjerg"},null,{"$f":"IF('Puljer runde 1'!G$6=\"\",\"\",'Puljer runde 1'!G$6)","v":"Høst"},null,{"$f":"IF('Puljer runde 1'!I$6=\"\",\"\",'Puljer runde 1'!I$6)","v":"Låsby"},null,{"$f":"IF('Puljer runde 1'!K$6=\"\",\"\",'Puljer runde 1'!K$6)","v":"Silkeborg"}]
[null,{"$f":"CONCATENATE(\"Hul \",C3)","v":"Hul 1"}]
[null,{"$f":"IF(C3+1 > 12,CONCATENATE(\"Hul \",C3 + 1 - 12),CONCATENATE(\"Hul \",C3 + 1))","v":"Hul 2"}]
[null,{"$f":"IF(C3+2 > 12,CONCATENATE(\"Hul \",C3 + 2 - 12),CONCATENATE(\"Hul \",C3 + 2))","v":"Hul 3"}]
[null,{"$f":"IF(C3+3 > 12,CONCATENATE(\"Hul \",C3 + 3 - 12),CONCATENATE(\"Hul \",C3 + 3))","v":"Hul 4"}]
[null,{"$f":"IF(C3+4 > 12,CONCATENATE(\"Hul \",C3 + 4 - 12),CONCATENATE(\"Hul \",C3 + 4))","v":"Hul 5"}]
[null,{"$f":"IF(C3+5 > 12,CONCATENATE(\"Hul \",C3 + 5 - 12),CONCATENATE(\"Hul \",C3 + 5))","v":"Hul 6"}]
[null,{"$f":"IF(C3+6 > 12,CONCATENATE(\"Hul \",C3 + 6 - 12),CONCATENATE(\"Hul \",C3 + 6))","v":"Hul 7"}]
[null,{"$f":"IF(C3+7 > 12,CONCATENATE(\"Hul \",C3 + 7 - 12),CONCATENATE(\"Hul \",C3 + 7))","v":"Hul 8"}]
[null,{"$f":"IF(C3+8 > 12,CONCATENATE(\"Hul \",C3 + 8 - 12),CONCATENATE(\"Hul \",C3 + 8))","v":"Hul 9"}]
[null,{"$f":"IF(C3+9 > 12,CONCATENATE(\"Hul \",C3 + 9 - 12),CONCATENATE(\"Hul \",C3 + 9))","v":"Hul 10"}]
[null,{"$f":"IF(C3+10 > 12,CONCATENATE(\"Hul \",C3 + 10 - 12),CONCATENATE(\"Hul \",C3 + 10))","v":"Hul 11"}]
[null,{"$f":"IF(C3+11 > 12,CONCATENATE(\"Hul \",C3 + 11 - 12),CONCATENATE(\"Hul \",C3 + 11))","v":"Hul 12"}]
[null,"I alt"]
[null,{"$f":"Setup!$B$8","v":0}]
[null,"Dommer:"]
[]
[]
[null,{"$f":"CONCATENATE(\"       \",'Puljer runde 1'!$A$37)","v":"       "},null,{"$f":"Setup!$B$2","v":"Minitræf i Houlbjerg"},null,null,null,null,null,null,{"$f":"'Puljer runde 4'!$B$3","v":"Runde 4"},{"$f":"CONCATENATE('Puljer runde 1'!$A$5,\".\",'Puljer runde 1'!$M$7)","v":"Rød.2"}]
[null,"Til hul",{"$f":"'Puljer runde 1'!$L$7","v":3},null,null,null,null,null,null,null,{"$f":"Setup!$B$4","v":"29. juli 2015"}]
[null,null,{"$f":"IF('Puljer runde 1'!B$7=\"\",\"\",'Puljer runde 1'!B$7)","v":"Maja Pedersen"},null,{"$f":"IF('Puljer runde 1'!D$7=\"\",\"\",'Puljer runde 1'!D$7)","v":"Grethe Gregersen"},null,{"$f":"IF('Puljer runde 1'!F$7=\"\",\"\",'Puljer runde 1'!F$7)","v":"Inger Rasmussen"},null,{"$f":"IF('Puljer runde 1'!H$7=\"\",\"\",'Puljer runde 1'!H$7)","v":"Jørgen Bjerre"},null,{"$f":"IF('Puljer runde 1'!J$7=\"\",\"\",'Puljer runde 1'!J$7)","v":"Christian Norentoft"}]
[null,null,{"$f":"IF('Puljer runde 1'!C$7=\"\",\"\",'Puljer runde 1'!C$7)","v":"Auning"},null,{"$f":"IF('Puljer runde 1'!E$7=\"\",\"\",'Puljer runde 1'!E$7)","v":"Houlbjerg"},null,{"$f":"IF('Puljer runde 1'!G$7=\"\",\"\",'Puljer runde 1'!G$7)","v":"Høst"},null,{"$f":"IF('Puljer runde 1'!I$7=\"\",\"\",'Puljer runde 1'!I$7)","v":"Pindstrup"},null,{"$f":"IF('Puljer runde 1'!K$7=\"\",\"\",'Puljer runde 1'!K$7)","v":"Thorsø"}]
[null,{"$f":"CONCATENATE(\"Hul \",C24)","v":"Hul 3"}]
[null,{"$f":"IF(C24+1 > 12,CONCATENATE(\"Hul \",C24 + 1 - 12),CONCATENATE(\"Hul \",C24 + 1))","v":"Hul 4"}]
[null,{"$f":"IF(C24+2 > 12,CONCATENATE(\"Hul \",C24 + 2 - 12),CONCATENATE(\"Hul \",C24 + 2))","v":"Hul 5"}]
[null,{"$f":"IF(C24+3 > 12,CONCATENATE(\"Hul \",C24 + 3 - 12),CONCATENATE(\"Hul \",C24 + 3))","v":"Hul 6"}]
[null,{"$f":"IF(C24+4 > 12,CONCATENATE(\"Hul \",C24 + 4 - 12),CONCATENATE(\"Hul \",C24 + 4))","v":"Hul 7"}]
[null,{"$f":"IF(C24+5 > 12,CONCATENATE(\"Hul \",C24 + 5 - 12),CONCATENATE(\"Hul \",C24 + 5))","v":"Hul 8"}]
[null,{"$f":"IF(C24+6 > 12,CONCATENATE(\"Hul \",C24 + 6 - 12),CONCATENATE(\"Hul \",C24 + 6))","v":"Hul 9"}]
[null,{"$f":"IF(C24+7 > 12,CONCATENATE(\"Hul \",C24 + 7 - 12),CONCATENATE(\"Hul \",C24 + 7))","v":"Hul 10"}]
[null,{"$f":"IF(C24+8 > 12,CONCATENATE(\"Hul \",C24 + 8 - 12),CONCATENATE(\"Hul \",C24 + 8))","v":"Hul 11"}]
[null,{"$f":"IF(C24+9 > 12,CONCATENATE(\"Hul \",C24 + 9 - 12),CONCATENATE(\"Hul \",C24 + 9))","v":"Hul 12"}]
[null,{"$f":"IF(C24+10 > 12,CONCATENATE(\"Hul \",C24 + 10 - 12),CONCATENATE(\"Hul \",C24 + 10))","v":"Hul 1"}]
[null,{"$f":"IF(C24+11 > 12,CONCATENATE(\"Hul \",C24 + 11 - 12),CONCATENATE(\"Hul \",C24 + 11))","v":"Hul 2"}]
[null,"I alt"]
[null,{"$f":"Setup!$B$8","v":0}]
[null,"Dommer:"]
[]
[]
[null,{"$f":"CONCATENATE(\"       \",'Puljer runde 1'!$A$38)","v":"       "},null,{"$f":"Setup!$B$2","v":"Minitræf i Houlbjerg"},null,null,null,null,null,null,{"$f":"'Puljer runde 4'!$B$3","v":"Runde 4"},{"$f":"CONCATENATE('Puljer runde 1'!$A$5,\".\",'Puljer runde 1'!$M$8)","v":"Rød.3"}]
[null,"Til hul",{"$f":"'Puljer runde 1'!$L$8","v":5},null,null,null,null,null,null,null,{"$f":"Setup!$B$4","v":"29. juli 2015"}]
[null,null,{"$f":"IF('Puljer runde 1'!B$8=\"\",\"\",'Puljer runde 1'!B$8)","v":"Max Thomassen"},null,{"$f":"IF('Puljer runde 1'!D$8=\"\",\"\",'Puljer runde 1'!D$8)","v":"Juul Thomsen"},null,{"$f":"IF('Puljer runde 1'!F$8=\"\",\"\",'Puljer runde 1'!F$8)","v":"Kurt Rasmussen"},null,{"$f":"IF('Puljer runde 1'!H$8=\"\",\"\",'Puljer runde 1'!H$8)","v":"Marie Petersen"},null,{"$f":"IF('Puljer runde 1'!J$8=\"\",\"\",'Puljer runde 1'!J$8)","v":"Grethe Thomsen"}]
[null,null,{"$f":"IF('Puljer runde 1'!C$8=\"\",\"\",'Puljer runde 1'!C$8)","v":"Bjerregrav"},null,{"$f":"IF('Puljer runde 1'!E$8=\"\",\"\",'Puljer runde 1'!E$8)","v":"Houlbjerg"},null,{"$f":"IF('Puljer runde 1'!G$8=\"\",\"\",'Puljer runde 1'!G$8)","v":"Høst"},null,{"$f":"IF('Puljer runde 1'!I$8=\"\",\"\",'Puljer runde 1'!I$8)","v":"Rønde"},null,{"$f":"IF('Puljer runde 1'!K$8=\"\",\"\",'Puljer runde 1'!K$8)","v":"Thorsø"}]
[null,{"$f":"CONCATENATE(\"Hul \",C45)","v":"Hul 5"}]
[null,{"$f":"IF(C45+1 > 12,CONCATENATE(\"Hul \",C45 + 1 - 12),CONCATENATE(\"Hul \",C45 + 1))","v":"Hul 6"}]
[null,{"$f":"IF(C45+2 > 12,CONCATENATE(\"Hul \",C45 + 2 - 12),CONCATENATE(\"Hul \",C45 + 2))","v":"Hul 7"}]
[null,{"$f":"IF(C45+3 > 12,CONCATENATE(\"Hul \",C45 + 3 - 12),CONCATENATE(\"Hul \",C45 + 3))","v":"Hul 8"}]
[null,{"$f":"IF(C45+4 > 12,CONCATENATE(\"Hul \",C45 + 4 - 12),CONCATENATE(\"Hul \",C45 + 4))","v":"Hul 9"}]
[null,{"$f":"IF(C45+5 > 12,CONCATENATE(\"Hul \",C45 + 5 - 12),CONCATENATE(\"Hul \",C45 + 5))","v":"Hul 10"}]
[null,{"$f":"IF(C45+6 > 12,CONCATENATE(\"Hul \",C45 + 6 - 12),CONCATENATE(\"Hul \",C45 + 6))","v":"Hul 11"}]
[null,{"$f":"IF(C45+7 > 12,CONCATENATE(\"Hul \",C45 + 7 - 12),CONCATENATE(\"Hul \",C45 + 7))","v":"Hul 12"}]
[null,{"$f":"IF(C45+8 > 12,CONCATENATE(\"Hul \",C45 + 8 - 12),CONCATENATE(\"Hul \",C45 + 8))","v":"Hul 1"}]
[null,{"$f":"IF(C45+9 > 12,CONCATENATE(\"Hul \",C45 + 9 - 12),CONCATENATE(\"Hul \",C45 + 9))","v":"Hul 2"}]
[null,{"$f":"IF(C45+10 > 12,CONCATENATE(\"Hul \",C45 + 10 - 12),CONCATENATE(\"Hul \",C45 + 10))","v":"Hul 3"}]
[null,{"$f":"IF(C45+11 > 12,CONCATENATE(\"Hul \",C45 + 11 - 12),CONCATENATE(\"Hul \",C45 + 11))","v":"Hul 4"}]
[null,"I alt"]
[null,{"$f":"Setup!$B$8","v":0}]
[null,"Dommer:"]
[]
[]
[null,{"$f":"CONCATENATE(\"       \",'Puljer runde 1'!$A$39)","v":"       "},null,{"$f":"Setup!$B$2","v":"Minitræf i Houlbjerg"},null,null,null,null,null,null,{"$f":"'Puljer runde 4'!$B$3","v":"Runde 4"},{"$f":"CONCATENATE('Puljer runde 1'!$A$5,\".\",'Puljer runde 1'!$M$9)","v":"Rød.4"}]
[null,"Til hul",{"$f":"'Puljer runde 1'!$L$9","v":7},null,null,null,null,null,null,null,{"$f":"Setup!$B$4","v":"29. juli 2015"}]
[null,null,{"$f":"IF('Puljer runde 1'!B$9=\"\",\"\",'Puljer runde 1'!B$9)","v":"Birthe Rosenkvist"},null,{"$f":"IF('Puljer runde 1'!D$9=\"\",\"\",'Puljer runde 1'!D$9)","v":"Lisbeth Sørensen"},null,{"$f":"IF('Puljer runde 1'!F$9=\"\",\"\",'Puljer runde 1'!F$9)","v":"Ulla Bjerring"},null,{"$f":"IF('Puljer runde 1'!H$9=\"\",\"\",'Puljer runde 1'!H$9)","v":"Svend B. G. Laursen"},null,{"$f":"IF('Puljer runde 1'!J$9=\"\",\"\",'Puljer runde 1'!J$9)","v":"Kirsten Nielsen"}]
[null,null,{"$f":"IF('Puljer runde 1'!C$9=\"\",\"\",'Puljer runde 1'!C$9)","v":"Hammel"},null,{"$f":"IF('Puljer runde 1'!E$9=\"\",\"\",'Puljer runde 1'!E$9)","v":"Houlbjerg"},null,{"$f":"IF('Puljer runde 1'!G$9=\"\",\"\",'Puljer runde 1'!G$9)","v":"Høst"},null,{"$f":"IF('Puljer runde 1'!I$9=\"\",\"\",'Puljer runde 1'!I$9)","v":"Rønde"},null,{"$f":"IF('Puljer runde 1'!K$9=\"\",\"\",'Puljer runde 1'!K$9)","v":"Thorsø"}]
[null,{"$f":"CONCATENATE(\"Hul \",C66)","v":"Hul 7"}]
[null,{"$f":"IF(C66+1 > 12,CONCATENATE(\"Hul \",C66 + 1 - 12),CONCATENATE(\"Hul \",C66 + 1))","v":"Hul 8"}]
[null,{"$f":"IF(C66+2 > 12,CONCATENATE(\"Hul \",C66 + 2 - 12),CONCATENATE(\"Hul \",C66 + 2))","v":"Hul 9"}]
[null,{"$f":"IF(C66+3 > 12,CONCATENATE(\"Hul \",C66 + 3 - 12),CONCATENATE(\"Hul \",C66 + 3))","v":"Hul 10"}]
[null,{"$f":"IF(C66+4 > 12,CONCATENATE(\"Hul \",C66 + 4 - 12),CONCATENATE(\"Hul \",C66 + 4))","v":"Hul 11"}]
[null,{"$f":"IF(C66+5 > 12,CONCATENATE(\"Hul \",C66 + 5 - 12),CONCATENATE(\"Hul \",C66 + 5))","v":"Hul 12"}]
[null,{"$f":"IF(C66+6 > 12,CONCATENATE(\"Hul \",C66 + 6 - 12),CONCATENATE(\"Hul \",C66 + 6))","v":"Hul 1"}]
[null,{"$f":"IF(C66+7 > 12,CONCATENATE(\"Hul \",C66 + 7 - 12),CONCATENATE(\"Hul \",C66 + 7))","v":"Hul 2"}]
[null,{"$f":"IF(C66+8 > 12,CONCATENATE(\"Hul \",C66 + 8 - 12),CONCATENATE(\"Hul \",C66 + 8))","v":"Hul 3"}]
[null,{"$f":"IF(C66+9 > 12,CONCATENATE(\"Hul \",C66 + 9 - 12),CONCATENATE(\"Hul \",C66 + 9))","v":"Hul 4"}]
[null,{"$f":"IF(C66+10 > 12,CONCATENATE(\"Hul \",C66 + 10 - 12),CONCATENATE(\"Hul \",C66 + 10))","v":"Hul 5"}]
[null,{"$f":"IF(C66+11 > 12,CONCATENATE(\"Hul \",C66 + 11 - 12),CONCATENATE(\"Hul \",C66 + 11))","v":"Hul 6"}]
[null,"I alt"]
[null,{"$f":"Setup!$B$8","v":0}]
[null,"Dommer:"]
[]
[]
[null,{"$f":"CONCATENATE(\"       \",'Puljer runde 1'!$A$40)","v":"       "},null,{"$f":"Setup!$B$2","v":"Minitræf i Houlbjerg"},null,null,null,null,null,null,{"$f":"'Puljer runde 4'!$B$3","v":"Runde 4"},{"$f":"CONCATENATE('Puljer runde 1'!$A$5,\".\",'Puljer runde 1'!$M$10)","v":"Rød.5"}]
[null,"Til hul",{"$f":"'Puljer runde 1'!$L$10","v":9},null,null,null,null,null,null,null,{"$f":"Setup!$B$4","v":"29. juli 2015"}]
[null,null,{"$f":"IF('Puljer runde 1'!B$10=\"\",\"\",'Puljer runde 1'!B$10)","v":"Gerda Fogh"},null,{"$f":"IF('Puljer runde 1'!D$10=\"\",\"\",'Puljer runde 1'!D$10)","v":"Nanny Lægdsgaard"},null,{"$f":"IF('Puljer runde 1'!F$10=\"\",\"\",'Puljer runde 1'!F$10)","v":"Else-Marie Schmidt"},null,{"$f":"IF('Puljer runde 1'!H$10=\"\",\"\",'Puljer runde 1'!H$10)","v":"Ann Gaardsvig"},null,{"$f":"IF('Puljer runde 1'!J$10=\"\",\"\",'Puljer runde 1'!J$10)","v":"Ester Storgaard"}]
[null,null,{"$f":"IF('Puljer runde 1'!C$10=\"\",\"\",'Puljer runde 1'!C$10)","v":"Hammel"},null,{"$f":"IF('Puljer runde 1'!E$10=\"\",\"\",'Puljer runde 1'!E$10)","v":"Houlbjerg"},null,{"$f":"IF('Puljer runde 1'!G$10=\"\",\"\",'Puljer runde 1'!G$10)","v":"Lystrup"},null,{"$f":"IF('Puljer runde 1'!I$10=\"\",\"\",'Puljer runde 1'!I$10)","v":"Silkeborg"},null,{"$f":"IF('Puljer runde 1'!K$10=\"\",\"\",'Puljer runde 1'!K$10)","v":"Ulstrup"}]
[null,{"$f":"CONCATENATE(\"Hul \",C87)","v":"Hul 9"}]
[null,{"$f":"IF(C87+1 > 12,CONCATENATE(\"Hul \",C87 + 1 - 12),CONCATENATE(\"Hul \",C87 + 1))","v":"Hul 10"}]
[null,{"$f":"IF(C87+2 > 12,CONCATENATE(\"Hul \",C87 + 2 - 12),CONCATENATE(\"Hul \",C87 + 2))","v":"Hul 11"}]
[null,{"$f":"IF(C87+3 > 12,CONCATENATE(\"Hul \",C87 + 3 - 12),CONCATENATE(\"Hul \",C87 + 3))","v":"Hul 12"}]
[null,{"$f":"IF(C87+4 > 12,CONCATENATE(\"Hul \",C87 + 4 - 12),CONCATENATE(\"Hul \",C87 + 4))","v":"Hul 1"}]
[null,{"$f":"IF(C87+5 > 12,CONCATENATE(\"Hul \",C87 + 5 - 12),CONCATENATE(\"Hul \",C87 + 5))","v":"Hul 2"}]
[null,{"$f":"IF(C87+6 > 12,CONCATENATE(\"Hul \",C87 + 6 - 12),CONCATENATE(\"Hul \",C87 + 6))","v":"Hul 3"}]
[null,{"$f":"IF(C87+7 > 12,CONCATENATE(\"Hul \",C87 + 7 - 12),CONCATENATE(\"Hul \",C87 + 7))","v":"Hul 4"}]
[null,{"$f":"IF(C87+8 > 12,CONCATENATE(\"Hul \",C87 + 8 - 12),CONCATENATE(\"Hul \",C87 + 8))","v":"Hul 5"}]
[null,{"$f":"IF(C87+9 > 12,CONCATENATE(\"Hul \",C87 + 9 - 12),CONCATENATE(\"Hul \",C87 + 9))","v":"Hul 6"}]
[null,{"$f":"IF(C87+10 > 12,CONCATENATE(\"Hul \",C87 + 10 - 12),CONCATENATE(\"Hul \",C87 + 10))","v":"Hul 7"}]
[null,{"$f":"IF(C87+11 > 12,CONCATENATE(\"Hul \",C87 + 11 - 12),CONCATENATE(\"Hul \",C87 + 11))","v":"Hul 8"}]
[null,"I alt"]
[null,{"$f":"Setup!$B$8","v":0}]
[null,"Dommer:"]
[]
[]
[null,{"$f":"CONCATENATE(\"       \",'Puljer runde 1'!$A$41)","v":"       "},null,{"$f":"Setup!$B$2","v":"Minitræf i Houlbjerg"},null,null,null,null,null,null,{"$f":"'Puljer runde 4'!$B$3","v":"Runde 4"},{"$f":"CONCATENATE('Puljer runde 1'!$A$5,\".\",'Puljer runde 1'!$M$11)","v":"Rød.6"}]
[null,"Til hul",{"$f":"'Puljer runde 1'!$L$11","v":11},null,null,null,null,null,null,null,{"$f":"Setup!$B$4","v":"29. juli 2015"}]
[null,null,{"$f":"IF('Puljer runde 1'!B$11=\"\",\"\",'Puljer runde 1'!B$11)","v":"Rosa Højgaard"},null,{"$f":"IF('Puljer runde 1'!D$11=\"\",\"\",'Puljer runde 1'!D$11)","v":"Yrsa Sørensen"},null,{"$f":"IF('Puljer runde 1'!F$11=\"\",\"\",'Puljer runde 1'!F$11)","v":"Lis Lassen"},null,{"$f":"IF('Puljer runde 1'!H$11=\"\",\"\",'Puljer runde 1'!H$11)","v":"Henning Larsen"},null,{"$f":"IF('Puljer runde 1'!J$11=\"\",\"\",'Puljer runde 1'!J$11)","v":"Kaj Storgaard"}]
[null,null,{"$f":"IF('Puljer runde 1'!C$11=\"\",\"\",'Puljer runde 1'!C$11)","v":"Hammel"},null,{"$f":"IF('Puljer runde 1'!E$11=\"\",\"\",'Puljer runde 1'!E$11)","v":"Houlbjerg"},null,{"$f":"IF('Puljer runde 1'!G$11=\"\",\"\",'Puljer runde 1'!G$11)","v":"Lystrup"},null,{"$f":"IF('Puljer runde 1'!I$11=\"\",\"\",'Puljer runde 1'!I$11)","v":"Silkeborg"},null,{"$f":"IF('Puljer runde 1'!K$11=\"\",\"\",'Puljer runde 1'!K$11)","v":"Ulstrup"}]
[null,{"$f":"CONCATENATE(\"Hul \",C108)","v":"Hul 11"}]
[null,{"$f":"IF(C108+1 > 12,CONCATENATE(\"Hul \",C108 + 1 - 12),CONCATENATE(\"Hul \",C108 + 1))","v":"Hul 12"}]
[null,{"$f":"IF(C108+2 > 12,CONCATENATE(\"Hul \",C108 + 2 - 12),CONCATENATE(\"Hul \",C108 + 2))","v":"Hul 1"}]
[null,{"$f":"IF(C108+3 > 12,CONCATENATE(\"Hul \",C108 + 3 - 12),CONCATENATE(\"Hul \",C108 + 3))","v":"Hul 2"}]
[null,{"$f":"IF(C108+4 > 12,CONCATENATE(\"Hul \",C108 + 4 - 12),CONCATENATE(\"Hul \",C108 + 4))","v":"Hul 3"}]
[null,{"$f":"IF(C108+5 > 12,CONCATENATE(\"Hul \",C108 + 5 - 12),CONCATENATE(\"Hul \",C108 + 5))","v":"Hul 4"}]
[null,{"$f":"IF(C108+6 > 12,CONCATENATE(\"Hul \",C108 + 6 - 12),CONCATENATE(\"Hul \",C108 + 6))","v":"Hul 5"}]
[null,{"$f":"IF(C108+7 > 12,CONCATENATE(\"Hul \",C108 + 7 - 12),CONCATENATE(\"Hul \",C108 + 7))","v":"Hul 6"}]
[null,{"$f":"IF(C108+8 > 12,CONCATENATE(\"Hul \",C108 + 8 - 12),CONCATENATE(\"Hul \",C108 + 8))","v":"Hul 7"}]
[null,{"$f":"IF(C108+9 > 12,CONCATENATE(\"Hul \",C108 + 9 - 12),CONCATENATE(\"Hul \",C108 + 9))","v":"Hul 8"}]
[null,{"$f":"IF(C108+10 > 12,CONCATENATE(\"Hul \",C108 + 10 - 12),CONCATENATE(\"Hul \",C108 + 10))","v":"Hul 9"}]
[null,{"$f":"IF(C108+11 > 12,CONCATENATE(\"Hul \",C108 + 11 - 12),CONCATENATE(\"Hul \",C108 + 11))","v":"Hul 10"}]
[null,"I alt"]
[null,{"$f":"Setup!$B$8","v":0}]
[null,"Dommer:"]
[]
[]
[null,{"$f":"CONCATENATE(\"       \",'Puljer runde 1'!$A$6)","v":"       Bane 1"},null,{"$f":"Setup!$B$2","v":"Minitræf i Houlbjerg"},null,null,null,null,null,null,{"$f":"'Puljer runde 4'!$B$3","v":"Runde 4"},{"$f":"CONCATENATE('Puljer runde 1'!$A$15,\".\",'Puljer runde 1'!$M$16)","v":"Grøn.1"}]
[null,"Til hul",{"$f":"'Puljer runde 1'!$L$16","v":1},null,null,null,null,null,null,null,{"$f":"Setup!$B$4","v":"29. juli 2015"}]
[null,null,{"$f":"IF('Puljer runde 1'!B$16=\"\",\"\",'Puljer runde 1'!B$16)","v":"Henning Pedersen"},null,{"$f":"IF('Puljer runde 1'!D$16=\"\",\"\",'Puljer runde 1'!D$16)","v":"Erik Lægdsgaard"},null,{"$f":"IF('Puljer runde 1'!F$16=\"\",\"\",'Puljer runde 1'!F$16)","v":"Erik Pedersen"},null,{"$f":"IF('Puljer runde 1'!H$16=\"\",\"\",'Puljer runde 1'!H$16)","v":"Hanne Bjerre"},null,{"$f":"IF('Puljer runde 1'!J$16=\"\",\"\",'Puljer runde 1'!J$16)","v":"Bent Nielsen"}]
[null,null,{"$f":"IF('Puljer runde 1'!C$16=\"\",\"\",'Puljer runde 1'!C$16)","v":"Auning"},null,{"$f":"IF('Puljer runde 1'!E$16=\"\",\"\",'Puljer runde 1'!E$16)","v":"Houlbjerg"},null,{"$f":"IF('Puljer runde 1'!G$16=\"\",\"\",'Puljer runde 1'!G$16)","v":"Høst"},null,{"$f":"IF('Puljer runde 1'!I$16=\"\",\"\",'Puljer runde 1'!I$16)","v":"Pindstrup"},null,{"$f":"IF('Puljer runde 1'!K$16=\"\",\"\",'Puljer runde 1'!K$16)","v":"Thorsø"}]
[null,{"$f":"CONCATENATE(\"Hul \",C129)","v":"Hul 1"}]
[null,{"$f":"IF(C129+1 > 12,CONCATENATE(\"Hul \",C129 + 1 - 12),CONCATENATE(\"Hul \",C129 + 1))","v":"Hul 2"}]
[null,{"$f":"IF(C129+2 > 12,CONCATENATE(\"Hul \",C129 + 2 - 12),CONCATENATE(\"Hul \",C129 + 2))","v":"Hul 3"}]
[null,{"$f":"IF(C129+3 > 12,CONCATENATE(\"Hul \",C129 + 3 - 12),CONCATENATE(\"Hul \",C129 + 3))","v":"Hul 4"}]
[null,{"$f":"IF(C129+4 > 12,CONCATENATE(\"Hul \",C129 + 4 - 12),CONCATENATE(\"Hul \",C129 + 4))","v":"Hul 5"}]
[null,{"$f":"IF(C129+5 > 12,CONCATENATE(\"Hul \",C129 + 5 - 12),CONCATENATE(\"Hul \",C129 + 5))","v":"Hul 6"}]
[null,{"$f":"IF(C129+6 > 12,CONCATENATE(\"Hul \",C129 + 6 - 12),CONCATENATE(\"Hul \",C129 + 6))","v":"Hul 7"}]
[null,{"$f":"IF(C129+7 > 12,CONCATENATE(\"Hul \",C129 + 7 - 12),CONCATENATE(\"Hul \",C129 + 7))","v":"Hul 8"}]
[null,{"$f":"IF(C129+8 > 12,CONCATENATE(\"Hul \",C129 + 8 - 12),CONCATENATE(\"Hul \",C129 + 8))","v":"Hul 9"}]
[null,{"$f":"IF(C129+9 > 12,CONCATENATE(\"Hul \",C129 + 9 - 12),CONCATENATE(\"Hul \",C129 + 9))","v":"Hul 10"}]
[null,{"$f":"IF(C129+10 > 12,CONCATENATE(\"Hul \",C129 + 10 - 12),CONCATENATE(\"Hul \",C129 + 10))","v":"Hul 11"}]
[null,{"$f":"IF(C129+11 > 12,CONCATENATE(\"Hul \",C129 + 11 - 12),CONCATENATE(\"Hul \",C129 + 11))","v":"Hul 12"}]
[null,"I alt"]
[null,{"$f":"Setup!$B$8","v":0}]
[null,"Dommer:"]
[]
[]
[null,{"$f":"CONCATENATE(\"       \",'Puljer runde 1'!$A$7)","v":"       Bane 1"},null,{"$f":"Setup!$B$2","v":"Minitræf i Houlbjerg"},null,null,null,null,null,null,{"$f":"'Puljer runde 4'!$B$3","v":"Runde 4"},{"$f":"CONCATENATE('Puljer runde 1'!$A$15,\".\",'Puljer runde 1'!$M$17)","v":"Grøn.2"}]
[null,"Til hul",{"$f":"'Puljer runde 1'!$L$17","v":3},null,null,null,null,null,null,null,{"$f":"Setup!$B$4","v":"29. juli 2015"}]
[null,null,{"$f":"IF('Puljer runde 1'!B$17=\"\",\"\",'Puljer runde 1'!B$17)","v":"Bente Thomassen"},null,{"$f":"IF('Puljer runde 1'!D$17=\"\",\"\",'Puljer runde 1'!D$17)","v":"Jens Henrik Juhl-Larsen"},null,{"$f":"IF('Puljer runde 1'!F$17=\"\",\"\",'Puljer runde 1'!F$17)","v":"Knud Frederiksen"},null,{"$f":"IF('Puljer runde 1'!H$17=\"\",\"\",'Puljer runde 1'!H$17)","v":"Jørgen Petersen"},null,{"$f":"IF('Puljer runde 1'!J$17=\"\",\"\",'Puljer runde 1'!J$17)","v":"Erik Thomsen"}]
[null,null,{"$f":"IF('Puljer runde 1'!C$17=\"\",\"\",'Puljer runde 1'!C$17)","v":"Bjerregrav"},null,{"$f":"IF('Puljer runde 1'!E$17=\"\",\"\",'Puljer runde 1'!E$17)","v":"Houlbjerg"},null,{"$f":"IF('Puljer runde 1'!G$17=\"\",\"\",'Puljer runde 1'!G$17)","v":"Høst"},null,{"$f":"IF('Puljer runde 1'!I$17=\"\",\"\",'Puljer runde 1'!I$17)","v":"Rønde"},null,{"$f":"IF('Puljer runde 1'!K$17=\"\",\"\",'Puljer runde 1'!K$17)","v":"Thorsø"}]
[null,{"$f":"CONCATENATE(\"Hul \",C150)","v":"Hul 3"}]
[null,{"$f":"IF(C150+1 > 12,CONCATENATE(\"Hul \",C150 + 1 - 12),CONCATENATE(\"Hul \",C150 + 1))","v":"Hul 4"}]
[null,{"$f":"IF(C150+2 > 12,CONCATENATE(\"Hul \",C150 + 2 - 12),CONCATENATE(\"Hul \",C150 + 2))","v":"Hul 5"}]
[null,{"$f":"IF(C150+3 > 12,CONCATENATE(\"Hul \",C150 + 3 - 12),CONCATENATE(\"Hul \",C150 + 3))","v":"Hul 6"}]
[null,{"$f":"IF(C150+4 > 12,CONCATENATE(\"Hul \",C150 + 4 - 12),CONCATENATE(\"Hul \",C150 + 4))","v":"Hul 7"}]
[null,{"$f":"IF(C150+5 > 12,CONCATENATE(\"Hul \",C150 + 5 - 12),CONCATENATE(\"Hul \",C150 + 5))","v":"Hul 8"}]
[null,{"$f":"IF(C150+6 > 12,CONCATENATE(\"Hul \",C150 + 6 - 12),CONCATENATE(\"Hul \",C150 + 6))","v":"Hul 9"}]
[null,{"$f":"IF(C150+7 > 12,CONCATENATE(\"Hul \",C150 + 7 - 12),CONCATENATE(\"Hul \",C150 + 7))","v":"Hul 10"}]
[null,{"$f":"IF(C150+8 > 12,CONCATENATE(\"Hul \",C150 + 8 - 12),CONCATENATE(\"Hul \",C150 + 8))","v":"Hul 11"}]
[null,{"$f":"IF(C150+9 > 12,CONCATENATE(\"Hul \",C150 + 9 - 12),CONCATENATE(\"Hul \",C150 + 9))","v":"Hul 12"}]
[null,{"$f":"IF(C150+10 > 12,CONCATENATE(\"Hul \",C150 + 10 - 12),CONCATENATE(\"Hul \",C150 + 10))","v":"Hul 1"}]
[null,{"$f":"IF(C150+11 > 12,CONCATENATE(\"Hul \",C150 + 11 - 12),CONCATENATE(\"Hul \",C150 + 11))","v":"Hul 2"}]
[null,"I alt"]
[null,{"$f":"Setup!$B$8","v":0}]
[null,"Dommer:"]
[]
[]
[null,{"$f":"CONCATENATE(\"       \",'Puljer runde 1'!$A$8)","v":"       Bane 1"},null,{"$f":"Setup!$B$2","v":"Minitræf i Houlbjerg"},null,null,null,null,null,null,{"$f":"'Puljer runde 4'!$B$3","v":"Runde 4"},{"$f":"CONCATENATE('Puljer runde 1'!$A$15,\".\",'Puljer runde 1'!$M$18)","v":"Grøn.3"}]
[null,"Til hul",{"$f":"'Puljer runde 1'!$L$18","v":5},null,null,null,null,null,null,null,{"$f":"Setup!$B$4","v":"29. juli 2015"}]
[null,null,{"$f":"IF('Puljer runde 1'!B$18=\"\",\"\",'Puljer runde 1'!B$18)","v":"Birgit Svoldgaard"},null,{"$f":"IF('Puljer runde 1'!D$18=\"\",\"\",'Puljer runde 1'!D$18)","v":"Kurt Thomsen"},null,{"$f":"IF('Puljer runde 1'!F$18=\"\",\"\",'Puljer runde 1'!F$18)","v":"Margit Jensen"},null,{"$f":"IF('Puljer runde 1'!H$18=\"\",\"\",'Puljer runde 1'!H$18)","v":"Myrna Rasmussen"},null,{"$f":"IF('Puljer runde 1'!J$18=\"\",\"\",'Puljer runde 1'!J$18)","v":"Grethe Thøgersen"}]
[null,null,{"$f":"IF('Puljer runde 1'!C$18=\"\",\"\",'Puljer runde 1'!C$18)","v":"Hammel"},null,{"$f":"IF('Puljer runde 1'!E$18=\"\",\"\",'Puljer runde 1'!E$18)","v":"Houlbjerg"},null,{"$f":"IF('Puljer runde 1'!G$18=\"\",\"\",'Puljer runde 1'!G$18)","v":"Høst"},null,{"$f":"IF('Puljer runde 1'!I$18=\"\",\"\",'Puljer runde 1'!I$18)","v":"Rønde"},null,{"$f":"IF('Puljer runde 1'!K$18=\"\",\"\",'Puljer runde 1'!K$18)","v":"Thorsø"}]
[null,{"$f":"CONCATENATE(\"Hul \",C171)","v":"Hul 5"}]
[null,{"$f":"IF(C171+1 > 12,CONCATENATE(\"Hul \",C171 + 1 - 12),CONCATENATE(\"Hul \",C171 + 1))","v":"Hul 6"}]
[null,{"$f":"IF(C171+2 > 12,CONCATENATE(\"Hul \",C171 + 2 - 12),CONCATENATE(\"Hul \",C171 + 2))","v":"Hul 7"}]
[null,{"$f":"IF(C171+3 > 12,CONCATENATE(\"Hul \",C171 + 3 - 12),CONCATENATE(\"Hul \",C171 + 3))","v":"Hul 8"}]
[null,{"$f":"IF(C171+4 > 12,CONCATENATE(\"Hul \",C171 + 4 - 12),CONCATENATE(\"Hul \",C171 + 4))","v":"Hul 9"}]
[null,{"$f":"IF(C171+5 > 12,CONCATENATE(\"Hul \",C171 + 5 - 12),CONCATENATE(\"Hul \",C171 + 5))","v":"Hul 10"}]
[null,{"$f":"IF(C171+6 > 12,CONCATENATE(\"Hul \",C171 + 6 - 12),CONCATENATE(\"Hul \",C171 + 6))","v":"Hul 11"}]
[null,{"$f":"IF(C171+7 > 12,CONCATENATE(\"Hul \",C171 + 7 - 12),CONCATENATE(\"Hul \",C171 + 7))","v":"Hul 12"}]
[null,{"$f":"IF(C171+8 > 12,CONCATENATE(\"Hul \",C171 + 8 - 12),CONCATENATE(\"Hul \",C171 + 8))","v":"Hul 1"}]
[null,{"$f":"IF(C171+9 > 12,CONCATENATE(\"Hul \",C171 + 9 - 12),CONCATENATE(\"Hul \",C171 + 9))","v":"Hul 2"}]
[null,{"$f":"IF(C171+10 > 12,CONCATENATE(\"Hul \",C171 + 10 - 12),CONCATENATE(\"Hul \",C171 + 10))","v":"Hul 3"}]
[null,{"$f":"IF(C171+11 > 12,CONCATENATE(\"Hul \",C171 + 11 - 12),CONCATENATE(\"Hul \",C171 + 11))","v":"Hul 4"}]
[null,"I alt"]
[null,{"$f":"Setup!$B$8","v":0}]
[null,"Dommer:"]
[]
[]
[null,{"$f":"CONCATENATE(\"       \",'Puljer runde 1'!$A$9)","v":"       Bane 1"},null,{"$f":"Setup!$B$2","v":"Minitræf i Houlbjerg"},null,null,null,null,null,null,{"$f":"'Puljer runde 4'!$B$3","v":"Runde 4"},{"$f":"CONCATENATE('Puljer runde 1'!$A$15,\".\",'Puljer runde 1'!$M$19)","v":"Grøn.4"}]
[null,"Til hul",{"$f":"'Puljer runde 1'!$L$19","v":7},null,null,null,null,null,null,null,{"$f":"Setup!$B$4","v":"29. juli 2015"}]
[null,null,{"$f":"IF('Puljer runde 1'!B$19=\"\",\"\",'Puljer runde 1'!B$19)","v":"Erik Rosenkvist"},null,{"$f":"IF('Puljer runde 1'!D$19=\"\",\"\",'Puljer runde 1'!D$19)","v":"Lissi Thomsen"},null,{"$f":"IF('Puljer runde 1'!F$19=\"\",\"\",'Puljer runde 1'!F$19)","v":"Christen Jespersen"},null,{"$f":"IF('Puljer runde 1'!H$19=\"\",\"\",'Puljer runde 1'!H$19)","v":"Vagn F. Nielsen"},null,{"$f":"IF('Puljer runde 1'!J$19=\"\",\"\",'Puljer runde 1'!J$19)","v":"Niels Kofoed"}]
[null,null,{"$f":"IF('Puljer runde 1'!C$19=\"\",\"\",'Puljer runde 1'!C$19)","v":"Hammel"},null,{"$f":"IF('Puljer runde 1'!E$19=\"\",\"\",'Puljer runde 1'!E$19)","v":"Houlbjerg"},null,{"$f":"IF('Puljer runde 1'!G$19=\"\",\"\",'Puljer runde 1'!G$19)","v":"Lystrup"},null,{"$f":"IF('Puljer runde 1'!I$19=\"\",\"\",'Puljer runde 1'!I$19)","v":"Rønde"},null,{"$f":"IF('Puljer runde 1'!K$19=\"\",\"\",'Puljer runde 1'!K$19)","v":"Tranbjerg"}]
[null,{"$f":"CONCATENATE(\"Hul \",C192)","v":"Hul 7"}]
[null,{"$f":"IF(C192+1 > 12,CONCATENATE(\"Hul \",C192 + 1 - 12),CONCATENATE(\"Hul \",C192 + 1))","v":"Hul 8"}]
[null,{"$f":"IF(C192+2 > 12,CONCATENATE(\"Hul \",C192 + 2 - 12),CONCATENATE(\"Hul \",C192 + 2))","v":"Hul 9"}]
[null,{"$f":"IF(C192+3 > 12,CONCATENATE(\"Hul \",C192 + 3 - 12),CONCATENATE(\"Hul \",C192 + 3))","v":"Hul 10"}]
[null,{"$f":"IF(C192+4 > 12,CONCATENATE(\"Hul \",C192 + 4 - 12),CONCATENATE(\"Hul \",C192 + 4))","v":"Hul 11"}]
[null,{"$f":"IF(C192+5 > 12,CONCATENATE(\"Hul \",C192 + 5 - 12),CONCATENATE(\"Hul \",C192 + 5))","v":"Hul 12"}]
[null,{"$f":"IF(C192+6 > 12,CONCATENATE(\"Hul \",C192 + 6 - 12),CONCATENATE(\"Hul \",C192 + 6))","v":"Hul 1"}]
[null,{"$f":"IF(C192+7 > 12,CONCATENATE(\"Hul \",C192 + 7 - 12),CONCATENATE(\"Hul \",C192 + 7))","v":"Hul 2"}]
[null,{"$f":"IF(C192+8 > 12,CONCATENATE(\"Hul \",C192 + 8 - 12),CONCATENATE(\"Hul \",C192 + 8))","v":"Hul 3"}]
[null,{"$f":"IF(C192+9 > 12,CONCATENATE(\"Hul \",C192 + 9 - 12),CONCATENATE(\"Hul \",C192 + 9))","v":"Hul 4"}]
[null,{"$f":"IF(C192+10 > 12,CONCATENATE(\"Hul \",C192 + 10 - 12),CONCATENATE(\"Hul \",C192 + 10))","v":"Hul 5"}]
[null,{"$f":"IF(C192+11 > 12,CONCATENATE(\"Hul \",C192 + 11 - 12),CONCATENATE(\"Hul \",C192 + 11))","v":"Hul 6"}]
[null,"I alt"]
[null,{"$f":"Setup!$B$8","v":0}]
[null,"Dommer:"]
[]
[]
[null,{"$f":"CONCATENATE(\"       \",'Puljer runde 1'!$A$10)","v":"       Bane 1"},null,{"$f":"Setup!$B$2","v":"Minitræf i Houlbjerg"},null,null,null,null,null,null,{"$f":"'Puljer runde 4'!$B$3","v":"Runde 4"},{"$f":"CONCATENATE('Puljer runde 1'!$A$15,\".\",'Puljer runde 1'!$M$20)","v":"Grøn.5"}]
[null,"Til hul",{"$f":"'Puljer runde 1'!$L$20","v":9},null,null,null,null,null,null,null,{"$f":"Setup!$B$4","v":"29. juli 2015"}]
[null,null,{"$f":"IF('Puljer runde 1'!B$20=\"\",\"\",'Puljer runde 1'!B$20)","v":"Jonna Kjeldsen"},null,{"$f":"IF('Puljer runde 1'!D$20=\"\",\"\",'Puljer runde 1'!D$20)","v":"Poul Henriksen"},null,{"$f":"IF('Puljer runde 1'!F$20=\"\",\"\",'Puljer runde 1'!F$20)","v":"Jens Tvi Holmsgaard"},null,{"$f":"IF('Puljer runde 1'!H$20=\"\",\"\",'Puljer runde 1'!H$20)","v":"Hanne Else Knudsen"},null,{"$f":"IF('Puljer runde 1'!J$20=\"\",\"\",'Puljer runde 1'!J$20)","v":"Hans J. Christensen"}]
[null,null,{"$f":"IF('Puljer runde 1'!C$20=\"\",\"\",'Puljer runde 1'!C$20)","v":"Hammel"},null,{"$f":"IF('Puljer runde 1'!E$20=\"\",\"\",'Puljer runde 1'!E$20)","v":"Houlbjerg"},null,{"$f":"IF('Puljer runde 1'!G$20=\"\",\"\",'Puljer runde 1'!G$20)","v":"Lystrup"},null,{"$f":"IF('Puljer runde 1'!I$20=\"\",\"\",'Puljer runde 1'!I$20)","v":"Silkeborg"},null,{"$f":"IF('Puljer runde 1'!K$20=\"\",\"\",'Puljer runde 1'!K$20)","v":"Ulstrup"}]
[null,{"$f":"CONCATENATE(\"Hul \",C213)","v":"Hul 9"}]
[null,{"$f":"IF(C213+1 > 12,CONCATENATE(\"Hul \",C213 + 1 - 12),CONCATENATE(\"Hul \",C213 + 1))","v":"Hul 10"}]
[null,{"$f":"IF(C213+2 > 12,CONCATENATE(\"Hul \",C213 + 2 - 12),CONCATENATE(\"Hul \",C213 + 2))","v":"Hul 11"}]
[null,{"$f":"IF(C213+3 > 12,CONCATENATE(\"Hul \",C213 + 3 - 12),CONCATENATE(\"Hul \",C213 + 3))","v":"Hul 12"}]
[null,{"$f":"IF(C213+4 > 12,CONCATENATE(\"Hul \",C213 + 4 - 12),CONCATENATE(\"Hul \",C213 + 4))","v":"Hul 1"}]
[null,{"$f":"IF(C213+5 > 12,CONCATENATE(\"Hul \",C213 + 5 - 12),CONCATENATE(\"Hul \",C213 + 5))","v":"Hul 2"}]
[null,{"$f":"IF(C213+6 > 12,CONCATENATE(\"Hul \",C213 + 6 - 12),CONCATENATE(\"Hul \",C213 + 6))","v":"Hul 3"}]
[null,{"$f":"IF(C213+7 > 12,CONCATENATE(\"Hul \",C213 + 7 - 12),CONCATENATE(\"Hul \",C213 + 7))","v":"Hul 4"}]
[null,{"$f":"IF(C213+8 > 12,CONCATENATE(\"Hul \",C213 + 8 - 12),CONCATENATE(\"Hul \",C213 + 8))","v":"Hul 5"}]
[null,{"$f":"IF(C213+9 > 12,CONCATENATE(\"Hul \",C213 + 9 - 12),CONCATENATE(\"Hul \",C213 + 9))","v":"Hul 6"}]
[null,{"$f":"IF(C213+10 > 12,CONCATENATE(\"Hul \",C213 + 10 - 12),CONCATENATE(\"Hul \",C213 + 10))","v":"Hul 7"}]
[null,{"$f":"IF(C213+11 > 12,CONCATENATE(\"Hul \",C213 + 11 - 12),CONCATENATE(\"Hul \",C213 + 11))","v":"Hul 8"}]
[null,"I alt"]
[null,{"$f":"Setup!$B$8","v":0}]
[null,"Dommer:"]
[]
[]
[null,{"$f":"CONCATENATE(\"       \",'Puljer runde 1'!$A$11)","v":"       Bane 1"},null,{"$f":"Setup!$B$2","v":"Minitræf i Houlbjerg"},null,null,null,null,null,null,{"$f":"'Puljer runde 4'!$B$3","v":"Runde 4"},{"$f":"CONCATENATE('Puljer runde 1'!$A$15,\".\",'Puljer runde 1'!$M$21)","v":"Grøn.6"}]
[null,"Til hul",{"$f":"'Puljer runde 1'!$L$21","v":11},null,null,null,null,null,null,null,{"$f":"Setup!$B$4","v":"29. juli 2015"}]
[null,null,{"$f":"IF('Puljer runde 1'!B$21=\"\",\"\",'Puljer runde 1'!B$21)","v":"Børge Jensen"},null,{"$f":"IF('Puljer runde 1'!D$21=\"\",\"\",'Puljer runde 1'!D$21)","v":"Alice Madsen"},null,{"$f":"IF('Puljer runde 1'!F$21=\"\",\"\",'Puljer runde 1'!F$21)","v":"Alma Eriksen"},null,{"$f":"IF('Puljer runde 1'!H$21=\"\",\"\",'Puljer runde 1'!H$21)","v":"Lilly Hansen"},null,{"$f":"IF('Puljer runde 1'!J$21=\"\",\"\",'Puljer runde 1'!J$21)","v":"Ulla Ravn"}]
[null,null,{"$f":"IF('Puljer runde 1'!C$21=\"\",\"\",'Puljer runde 1'!C$21)","v":"Houlbjerg"},null,{"$f":"IF('Puljer runde 1'!E$21=\"\",\"\",'Puljer runde 1'!E$21)","v":"Høst"},null,{"$f":"IF('Puljer runde 1'!G$21=\"\",\"\",'Puljer runde 1'!G$21)","v":"Låsby"},null,{"$f":"IF('Puljer runde 1'!I$21=\"\",\"\",'Puljer runde 1'!I$21)","v":"Silkeborg"},null,{"$f":"IF('Puljer runde 1'!K$21=\"\",\"\",'Puljer runde 1'!K$21)","v":"Ulstrup"}]
[null,{"$f":"CONCATENATE(\"Hul \",C234)","v":"Hul 11"}]
[null,{"$f":"IF(C234+1 > 12,CONCATENATE(\"Hul \",C234 + 1 - 12),CONCATENATE(\"Hul \",C234 + 1))","v":"Hul 12"}]
[null,{"$f":"IF(C234+2 > 12,CONCATENATE(\"Hul \",C234 + 2 - 12),CONCATENATE(\"Hul \",C234 + 2))","v":"Hul 1"}]
[null,{"$f":"IF(C234+3 > 12,CONCATENATE(\"Hul \",C234 + 3 - 12),CONCATENATE(\"Hul \",C234 + 3))","v":"Hul 2"}]
[null,{"$f":"IF(C234+4 > 12,CONCATENATE(\"Hul \",C234 + 4 - 12),CONCATENATE(\"Hul \",C234 + 4))","v":"Hul 3"}]
[null,{"$f":"IF(C234+5 > 12,CONCATENATE(\"Hul \",C234 + 5 - 12),CONCATENATE(\"Hul \",C234 + 5))","v":"Hul 4"}]
[null,{"$f":"IF(C234+6 > 12,CONCATENATE(\"Hul \",C234 + 6 - 12),CONCATENATE(\"Hul \",C234 + 6))","v":"Hul 5"}]
[null,{"$f":"IF(C234+7 > 12,CONCATENATE(\"Hul \",C234 + 7 - 12),CONCATENATE(\"Hul \",C234 + 7))","v":"Hul 6"}]
[null,{"$f":"IF(C234+8 > 12,CONCATENATE(\"Hul \",C234 + 8 - 12),CONCATENATE(\"Hul \",C234 + 8))","v":"Hul 7"}]
[null,{"$f":"IF(C234+9 > 12,CONCATENATE(\"Hul \",C234 + 9 - 12),CONCATENATE(\"Hul \",C234 + 9))","v":"Hul 8"}]
[null,{"$f":"IF(C234+10 > 12,CONCATENATE(\"Hul \",C234 + 10 - 12),CONCATENATE(\"Hul \",C234 + 10))","v":"Hul 9"}]
[null,{"$f":"IF(C234+11 > 12,CONCATENATE(\"Hul \",C234 + 11 - 12),CONCATENATE(\"Hul \",C234 + 11))","v":"Hul 10"}]
[null,"I alt"]
[null,{"$f":"Setup!$B$8","v":0}]
[null,"Dommer:"]
[]
[]
[null,{"$f":"CONCATENATE(\"       \",'Puljer runde 1'!$A$16)","v":"       Bane 2"},null,{"$f":"Setup!$B$2","v":"Minitræf i Houlbjerg"},null,null,null,null,null,null,{"$f":"'Puljer runde 4'!$B$3","v":"Runde 4"},{"$f":"CONCATENATE('Puljer runde 1'!$A$25,\".\",'Puljer runde 1'!$M$26)","v":"x.1"}]
[null,"Til hul",{"$f":"'Puljer runde 1'!$L$26","v":0},null,null,null,null,null,null,null,{"$f":"Setup!$B$4","v":"29. juli 2015"}]
[null,null,{"$f":"IF('Puljer runde 1'!B$26=\"\",\"\",'Puljer runde 1'!B$26)","v":""},null,{"$f":"IF('Puljer runde 1'!D$26=\"\",\"\",'Puljer runde 1'!D$26)","v":""},null,{"$f":"IF('Puljer runde 1'!F$26=\"\",\"\",'Puljer runde 1'!F$26)","v":""},null,{"$f":"IF('Puljer runde 1'!H$26=\"\",\"\",'Puljer runde 1'!H$26)","v":""},null,{"$f":"IF('Puljer runde 1'!J$26=\"\",\"\",'Puljer runde 1'!J$26)","v":""}]
[null,null,{"$f":"IF('Puljer runde 1'!C$26=\"\",\"\",'Puljer runde 1'!C$26)","v":""},null,{"$f":"IF('Puljer runde 1'!E$26=\"\",\"\",'Puljer runde 1'!E$26)","v":""},null,{"$f":"IF('Puljer runde 1'!G$26=\"\",\"\",'Puljer runde 1'!G$26)","v":""},null,{"$f":"IF('Puljer runde 1'!I$26=\"\",\"\",'Puljer runde 1'!I$26)","v":""},null,{"$f":"IF('Puljer runde 1'!K$26=\"\",\"\",'Puljer runde 1'!K$26)","v":""}]
[null,{"$f":"CONCATENATE(\"Hul \",C255)","v":"Hul 0"}]
[null,{"$f":"IF(C255+1 > 12,CONCATENATE(\"Hul \",C255 + 1 - 12),CONCATENATE(\"Hul \",C255 + 1))","v":"Hul 1"}]
[null,{"$f":"IF(C255+2 > 12,CONCATENATE(\"Hul \",C255 + 2 - 12),CONCATENATE(\"Hul \",C255 + 2))","v":"Hul 2"}]
[null,{"$f":"IF(C255+3 > 12,CONCATENATE(\"Hul \",C255 + 3 - 12),CONCATENATE(\"Hul \",C255 + 3))","v":"Hul 3"}]
[null,{"$f":"IF(C255+4 > 12,CONCATENATE(\"Hul \",C255 + 4 - 12),CONCATENATE(\"Hul \",C255 + 4))","v":"Hul 4"}]
[null,{"$f":"IF(C255+5 > 12,CONCATENATE(\"Hul \",C255 + 5 - 12),CONCATENATE(\"Hul \",C255 + 5))","v":"Hul 5"}]
[null,{"$f":"IF(C255+6 > 12,CONCATENATE(\"Hul \",C255 + 6 - 12),CONCATENATE(\"Hul \",C255 + 6))","v":"Hul 6"}]
[null,{"$f":"IF(C255+7 > 12,CONCATENATE(\"Hul \",C255 + 7 - 12),CONCATENATE(\"Hul \",C255 + 7))","v":"Hul 7"}]
[null,{"$f":"IF(C255+8 > 12,CONCATENATE(\"Hul \",C255 + 8 - 12),CONCATENATE(\"Hul \",C255 + 8))","v":"Hul 8"}]
[null,{"$f":"IF(C255+9 > 12,CONCATENATE(\"Hul \",C255 + 9 - 12),CONCATENATE(\"Hul \",C255 + 9))","v":"Hul 9"}]
[null,{"$f":"IF(C255+10 > 12,CONCATENATE(\"Hul \",C255 + 10 - 12),CONCATENATE(\"Hul \",C255 + 10))","v":"Hul 10"}]
[null,{"$f":"IF(C255+11 > 12,CONCATENATE(\"Hul \",C255 + 11 - 12),CONCATENATE(\"Hul \",C255 + 11))","v":"Hul 11"}]
[null,"I alt"]
[null,{"$f":"Setup!$B$8","v":0}]
[null,"Dommer:"]
[]
[]
[null,{"$f":"CONCATENATE(\"       \",'Puljer runde 1'!$A$17)","v":"       Bane 2"},null,{"$f":"Setup!$B$2","v":"Minitræf i Houlbjerg"},null,null,null,null,null,null,{"$f":"'Puljer runde 4'!$B$3","v":"Runde 4"},{"$f":"CONCATENATE('Puljer runde 1'!$A$25,\".\",'Puljer runde 1'!$M$27)","v":"x.2"}]
[null,"Til hul",{"$f":"'Puljer runde 1'!$L$27","v":0},null,null,null,null,null,null,null,{"$f":"Setup!$B$4","v":"29. juli 2015"}]
[null,null,{"$f":"IF('Puljer runde 1'!B$27=\"\",\"\",'Puljer runde 1'!B$27)","v":""},null,{"$f":"IF('Puljer runde 1'!D$27=\"\",\"\",'Puljer runde 1'!D$27)","v":""},null,{"$f":"IF('Puljer runde 1'!F$27=\"\",\"\",'Puljer runde 1'!F$27)","v":""},null,{"$f":"IF('Puljer runde 1'!H$27=\"\",\"\",'Puljer runde 1'!H$27)","v":""},null,{"$f":"IF('Puljer runde 1'!J$27=\"\",\"\",'Puljer runde 1'!J$27)","v":""}]
[null,null,{"$f":"IF('Puljer runde 1'!C$27=\"\",\"\",'Puljer runde 1'!C$27)","v":""},null,{"$f":"IF('Puljer runde 1'!E$27=\"\",\"\",'Puljer runde 1'!E$27)","v":""},null,{"$f":"IF('Puljer runde 1'!G$27=\"\",\"\",'Puljer runde 1'!G$27)","v":""},null,{"$f":"IF('Puljer runde 1'!I$27=\"\",\"\",'Puljer runde 1'!I$27)","v":""},null,{"$f":"IF('Puljer runde 1'!K$27=\"\",\"\",'Puljer runde 1'!K$27)","v":""}]
[null,{"$f":"CONCATENATE(\"Hul \",C276)","v":"Hul 0"}]
[null,{"$f":"IF(C276+1 > 12,CONCATENATE(\"Hul \",C276 + 1 - 12),CONCATENATE(\"Hul \",C276 + 1))","v":"Hul 1"}]
[null,{"$f":"IF(C276+2 > 12,CONCATENATE(\"Hul \",C276 + 2 - 12),CONCATENATE(\"Hul \",C276 + 2))","v":"Hul 2"}]
[null,{"$f":"IF(C276+3 > 12,CONCATENATE(\"Hul \",C276 + 3 - 12),CONCATENATE(\"Hul \",C276 + 3))","v":"Hul 3"}]
[null,{"$f":"IF(C276+4 > 12,CONCATENATE(\"Hul \",C276 + 4 - 12),CONCATENATE(\"Hul \",C276 + 4))","v":"Hul 4"}]
[null,{"$f":"IF(C276+5 > 12,CONCATENATE(\"Hul \",C276 + 5 - 12),CONCATENATE(\"Hul \",C276 + 5))","v":"Hul 5"}]
[null,{"$f":"IF(C276+6 > 12,CONCATENATE(\"Hul \",C276 + 6 - 12),CONCATENATE(\"Hul \",C276 + 6))","v":"Hul 6"}]
[null,{"$f":"IF(C276+7 > 12,CONCATENATE(\"Hul \",C276 + 7 - 12),CONCATENATE(\"Hul \",C276 + 7))","v":"Hul 7"}]
[null,{"$f":"IF(C276+8 > 12,CONCATENATE(\"Hul \",C276 + 8 - 12),CONCATENATE(\"Hul \",C276 + 8))","v":"Hul 8"}]
[null,{"$f":"IF(C276+9 > 12,CONCATENATE(\"Hul \",C276 + 9 - 12),CONCATENATE(\"Hul \",C276 + 9))","v":"Hul 9"}]
[null,{"$f":"IF(C276+10 > 12,CONCATENATE(\"Hul \",C276 + 10 - 12),CONCATENATE(\"Hul \",C276 + 10))","v":"Hul 10"}]
[null,{"$f":"IF(C276+11 > 12,CONCATENATE(\"Hul \",C276 + 11 - 12),CONCATENATE(\"Hul \",C276 + 11))","v":"Hul 11"}]
[null,"I alt"]
[null,{"$f":"Setup!$B$8","v":0}]
[null,"Dommer:"]
[]
[]
[null,{"$f":"CONCATENATE(\"       \",'Puljer runde 1'!$A$18)","v":"       Bane 2"},null,{"$f":"Setup!$B$2","v":"Minitræf i Houlbjerg"},null,null,null,null,null,null,{"$f":"'Puljer runde 4'!$B$3","v":"Runde 4"},{"$f":"CONCATENATE('Puljer runde 1'!$A$25,\".\",'Puljer runde 1'!$M$28)","v":"x.3"}]
[null,"Til hul",{"$f":"'Puljer runde 1'!$L$28","v":0},null,null,null,null,null,null,null,{"$f":"Setup!$B$4","v":"29. juli 2015"}]
[null,null,{"$f":"IF('Puljer runde 1'!B$28=\"\",\"\",'Puljer runde 1'!B$28)","v":""},null,{"$f":"IF('Puljer runde 1'!D$28=\"\",\"\",'Puljer runde 1'!D$28)","v":""},null,{"$f":"IF('Puljer runde 1'!F$28=\"\",\"\",'Puljer runde 1'!F$28)","v":""},null,{"$f":"IF('Puljer runde 1'!H$28=\"\",\"\",'Puljer runde 1'!H$28)","v":""},null,{"$f":"IF('Puljer runde 1'!J$28=\"\",\"\",'Puljer runde 1'!J$28)","v":""}]
[null,null,{"$f":"IF('Puljer runde 1'!C$28=\"\",\"\",'Puljer runde 1'!C$28)","v":""},null,{"$f":"IF('Puljer runde 1'!E$28=\"\",\"\",'Puljer runde 1'!E$28)","v":""},null,{"$f":"IF('Puljer runde 1'!G$28=\"\",\"\",'Puljer runde 1'!G$28)","v":""},null,{"$f":"IF('Puljer runde 1'!I$28=\"\",\"\",'Puljer runde 1'!I$28)","v":""},null,{"$f":"IF('Puljer runde 1'!K$28=\"\",\"\",'Puljer runde 1'!K$28)","v":""}]
[null,{"$f":"CONCATENATE(\"Hul \",C297)","v":"Hul 0"}]
[null,{"$f":"IF(C297+1 > 12,CONCATENATE(\"Hul \",C297 + 1 - 12),CONCATENATE(\"Hul \",C297 + 1))","v":"Hul 1"}]
[null,{"$f":"IF(C297+2 > 12,CONCATENATE(\"Hul \",C297 + 2 - 12),CONCATENATE(\"Hul \",C297 + 2))","v":"Hul 2"}]
[null,{"$f":"IF(C297+3 > 12,CONCATENATE(\"Hul \",C297 + 3 - 12),CONCATENATE(\"Hul \",C297 + 3))","v":"Hul 3"}]
[null,{"$f":"IF(C297+4 > 12,CONCATENATE(\"Hul \",C297 + 4 - 12),CONCATENATE(\"Hul \",C297 + 4))","v":"Hul 4"}]
[null,{"$f":"IF(C297+5 > 12,CONCATENATE(\"Hul \",C297 + 5 - 12),CONCATENATE(\"Hul \",C297 + 5))","v":"Hul 5"}]
[null,{"$f":"IF(C297+6 > 12,CONCATENATE(\"Hul \",C297 + 6 - 12),CONCATENATE(\"Hul \",C297 + 6))","v":"Hul 6"}]
[null,{"$f":"IF(C297+7 > 12,CONCATENATE(\"Hul \",C297 + 7 - 12),CONCATENATE(\"Hul \",C297 + 7))","v":"Hul 7"}]
[null,{"$f":"IF(C297+8 > 12,CONCATENATE(\"Hul \",C297 + 8 - 12),CONCATENATE(\"Hul \",C297 + 8))","v":"Hul 8"}]
[null,{"$f":"IF(C297+9 > 12,CONCATENATE(\"Hul \",C297 + 9 - 12),CONCATENATE(\"Hul \",C297 + 9))","v":"Hul 9"}]
[null,{"$f":"IF(C297+10 > 12,CONCATENATE(\"Hul \",C297 + 10 - 12),CONCATENATE(\"Hul \",C297 + 10))","v":"Hul 10"}]
[null,{"$f":"IF(C297+11 > 12,CONCATENATE(\"Hul \",C297 + 11 - 12),CONCATENATE(\"Hul \",C297 + 11))","v":"Hul 11"}]
[null,"I alt"]
[null,{"$f":"Setup!$B$8","v":0}]
[null,"Dommer:"]
[]
[]
[null,{"$f":"CONCATENATE(\"       \",'Puljer runde 1'!$A$19)","v":"       Bane 2"},null,{"$f":"Setup!$B$2","v":"Minitræf i Houlbjerg"},null,null,null,null,null,null,{"$f":"'Puljer runde 4'!$B$3","v":"Runde 4"},{"$f":"CONCATENATE('Puljer runde 1'!$A$25,\".\",'Puljer runde 1'!$M$29)","v":"x.4"}]
[null,"Til hul",{"$f":"'Puljer runde 1'!$L$29","v":0},null,null,null,null,null,null,null,{"$f":"Setup!$B$4","v":"29. juli 2015"}]
[null,null,{"$f":"IF('Puljer runde 1'!B$29=\"\",\"\",'Puljer runde 1'!B$29)","v":""},null,{"$f":"IF('Puljer runde 1'!D$29=\"\",\"\",'Puljer runde 1'!D$29)","v":""},null,{"$f":"IF('Puljer runde 1'!F$29=\"\",\"\",'Puljer runde 1'!F$29)","v":""},null,{"$f":"IF('Puljer runde 1'!H$29=\"\",\"\",'Puljer runde 1'!H$29)","v":""},null,{"$f":"IF('Puljer runde 1'!J$29=\"\",\"\",'Puljer runde 1'!J$29)","v":""}]
[null,null,{"$f":"IF('Puljer runde 1'!C$29=\"\",\"\",'Puljer runde 1'!C$29)","v":""},null,{"$f":"IF('Puljer runde 1'!E$29=\"\",\"\",'Puljer runde 1'!E$29)","v":""},null,{"$f":"IF('Puljer runde 1'!G$29=\"\",\"\",'Puljer runde 1'!G$29)","v":""},null,{"$f":"IF('Puljer runde 1'!I$29=\"\",\"\",'Puljer runde 1'!I$29)","v":""},null,{"$f":"IF('Puljer runde 1'!K$29=\"\",\"\",'Puljer runde 1'!K$29)","v":""}]
[null,{"$f":"CONCATENATE(\"Hul \",C318)","v":"Hul 0"}]
[null,{"$f":"IF(C318+1 > 12,CONCATENATE(\"Hul \",C318 + 1 - 12),CONCATENATE(\"Hul \",C318 + 1))","v":"Hul 1"}]
[null,{"$f":"IF(C318+2 > 12,CONCATENATE(\"Hul \",C318 + 2 - 12),CONCATENATE(\"Hul \",C318 + 2))","v":"Hul 2"}]
[null,{"$f":"IF(C318+3 > 12,CONCATENATE(\"Hul \",C318 + 3 - 12),CONCATENATE(\"Hul \",C318 + 3))","v":"Hul 3"}]
[null,{"$f":"IF(C318+4 > 12,CONCATENATE(\"Hul \",C318 + 4 - 12),CONCATENATE(\"Hul \",C318 + 4))","v":"Hul 4"}]
[null,{"$f":"IF(C318+5 > 12,CONCATENATE(\"Hul \",C318 + 5 - 12),CONCATENATE(\"Hul \",C318 + 5))","v":"Hul 5"}]
[null,{"$f":"IF(C318+6 > 12,CONCATENATE(\"Hul \",C318 + 6 - 12),CONCATENATE(\"Hul \",C318 + 6))","v":"Hul 6"}]
[null,{"$f":"IF(C318+7 > 12,CONCATENATE(\"Hul \",C318 + 7 - 12),CONCATENATE(\"Hul \",C318 + 7))","v":"Hul 7"}]
[null,{"$f":"IF(C318+8 > 12,CONCATENATE(\"Hul \",C318 + 8 - 12),CONCATENATE(\"Hul \",C318 + 8))","v":"Hul 8"}]
[null,{"$f":"IF(C318+9 > 12,CONCATENATE(\"Hul \",C318 + 9 - 12),CONCATENATE(\"Hul \",C318 + 9))","v":"Hul 9"}]
[null,{"$f":"IF(C318+10 > 12,CONCATENATE(\"Hul \",C318 + 10 - 12),CONCATENATE(\"Hul \",C318 + 10))","v":"Hul 10"}]
[null,{"$f":"IF(C318+11 > 12,CONCATENATE(\"Hul \",C318 + 11 - 12),CONCATENATE(\"Hul \",C318 + 11))","v":"Hul 11"}]
[null,"I alt"]
[null,{"$f":"Setup!$B$8","v":0}]
[null,"Dommer:"]
[]
[]
[null,{"$f":"CONCATENATE(\"       \",'Puljer runde 1'!$A$20)","v":"       Bane 2"},null,{"$f":"Setup!$B$2","v":"Minitræf i Houlbjerg"},null,null,null,null,null,null,{"$f":"'Puljer runde 4'!$B$3","v":"Runde 4"},{"$f":"CONCATENATE('Puljer runde 1'!$A$25,\".\",'Puljer runde 1'!$M$30)","v":"x.5"}]
[null,"Til hul",{"$f":"'Puljer runde 1'!$L$30","v":0},null,null,null,null,null,null,null,{"$f":"Setup!$B$4","v":"29. juli 2015"}]
[null,null,{"$f":"IF('Puljer runde 1'!B$30=\"\",\"\",'Puljer runde 1'!B$30)","v":""},null,{"$f":"IF('Puljer runde 1'!D$30=\"\",\"\",'Puljer runde 1'!D$30)","v":""},null,{"$f":"IF('Puljer runde 1'!F$30=\"\",\"\",'Puljer runde 1'!F$30)","v":""},null,{"$f":"IF('Puljer runde 1'!H$30=\"\",\"\",'Puljer runde 1'!H$30)","v":""},null,{"$f":"IF('Puljer runde 1'!J$30=\"\",\"\",'Puljer runde 1'!J$30)","v":""}]
[null,null,{"$f":"IF('Puljer runde 1'!C$30=\"\",\"\",'Puljer runde 1'!C$30)","v":""},null,{"$f":"IF('Puljer runde 1'!E$30=\"\",\"\",'Puljer runde 1'!E$30)","v":""},null,{"$f":"IF('Puljer runde 1'!G$30=\"\",\"\",'Puljer runde 1'!G$30)","v":""},null,{"$f":"IF('Puljer runde 1'!I$30=\"\",\"\",'Puljer runde 1'!I$30)","v":""},null,{"$f":"IF('Puljer runde 1'!K$30=\"\",\"\",'Puljer runde 1'!K$30)","v":""}]
[null,{"$f":"CONCATENATE(\"Hul \",C339)","v":"Hul 0"}]
[null,{"$f":"IF(C339+1 > 12,CONCATENATE(\"Hul \",C339 + 1 - 12),CONCATENATE(\"Hul \",C339 + 1))","v":"Hul 1"}]
[null,{"$f":"IF(C339+2 > 12,CONCATENATE(\"Hul \",C339 + 2 - 12),CONCATENATE(\"Hul \",C339 + 2))","v":"Hul 2"}]
[null,{"$f":"IF(C339+3 > 12,CONCATENATE(\"Hul \",C339 + 3 - 12),CONCATENATE(\"Hul \",C339 + 3))","v":"Hul 3"}]
[null,{"$f":"IF(C339+4 > 12,CONCATENATE(\"Hul \",C339 + 4 - 12),CONCATENATE(\"Hul \",C339 + 4))","v":"Hul 4"}]
[null,{"$f":"IF(C339+5 > 12,CONCATENATE(\"Hul \",C339 + 5 - 12),CONCATENATE(\"Hul \",C339 + 5))","v":"Hul 5"}]
[null,{"$f":"IF(C339+6 > 12,CONCATENATE(\"Hul \",C339 + 6 - 12),CONCATENATE(\"Hul \",C339 + 6))","v":"Hul 6"}]
[null,{"$f":"IF(C339+7 > 12,CONCATENATE(\"Hul \",C339 + 7 - 12),CONCATENATE(\"Hul \",C339 + 7))","v":"Hul 7"}]
[null,{"$f":"IF(C339+8 > 12,CONCATENATE(\"Hul \",C339 + 8 - 12),CONCATENATE(\"Hul \",C339 + 8))","v":"Hul 8"}]
[null,{"$f":"IF(C339+9 > 12,CONCATENATE(\"Hul \",C339 + 9 - 12),CONCATENATE(\"Hul \",C339 + 9))","v":"Hul 9"}]
[null,{"$f":"IF(C339+10 > 12,CONCATENATE(\"Hul \",C339 + 10 - 12),CONCATENATE(\"Hul \",C339 + 10))","v":"Hul 10"}]
[null,{"$f":"IF(C339+11 > 12,CONCATENATE(\"Hul \",C339 + 11 - 12),CONCATENATE(\"Hul \",C339 + 11))","v":"Hul 11"}]
[null,"I alt"]
[null,{"$f":"Setup!$B$8","v":0}]
[null,"Dommer:"]
[]
[]
[null,{"$f":"CONCATENATE(\"       \",'Puljer runde 1'!$A$21)","v":"       Bane 2"},null,{"$f":"Setup!$B$2","v":"Minitræf i Houlbjerg"},null,null,null,null,null,null,{"$f":"'Puljer runde 4'!$B$3","v":"Runde 4"},{"$f":"CONCATENATE('Puljer runde 1'!$A$25,\".\",'Puljer runde 1'!$M$31)","v":"x.6"}]
[null,"Til hul",{"$f":"'Puljer runde 1'!$L$31","v":0},null,null,null,null,null,null,null,{"$f":"Setup!$B$4","v":"29. juli 2015"}]
[null,null,{"$f":"IF('Puljer runde 1'!B$31=\"\",\"\",'Puljer runde 1'!B$31)","v":""},null,{"$f":"IF('Puljer runde 1'!D$31=\"\",\"\",'Puljer runde 1'!D$31)","v":""},null,{"$f":"IF('Puljer runde 1'!F$31=\"\",\"\",'Puljer runde 1'!F$31)","v":""},null,{"$f":"IF('Puljer runde 1'!H$31=\"\",\"\",'Puljer runde 1'!H$31)","v":""},null,{"$f":"IF('Puljer runde 1'!J$31=\"\",\"\",'Puljer runde 1'!J$31)","v":""}]
[null,null,{"$f":"IF('Puljer runde 1'!C$31=\"\",\"\",'Puljer runde 1'!C$31)","v":""},null,{"$f":"IF('Puljer runde 1'!E$31=\"\",\"\",'Puljer runde 1'!E$31)","v":""},null,{"$f":"IF('Puljer runde 1'!G$31=\"\",\"\",'Puljer runde 1'!G$31)","v":""},null,{"$f":"IF('Puljer runde 1'!I$31=\"\",\"\",'Puljer runde 1'!I$31)","v":""},null,{"$f":"IF('Puljer runde 1'!K$31=\"\",\"\",'Puljer runde 1'!K$31)","v":""}]
[null,{"$f":"CONCATENATE(\"Hul \",C360)","v":"Hul 0"}]
[null,{"$f":"IF(C360+1 > 12,CONCATENATE(\"Hul \",C360 + 1 - 12),CONCATENATE(\"Hul \",C360 + 1))","v":"Hul 1"}]
[null,{"$f":"IF(C360+2 > 12,CONCATENATE(\"Hul \",C360 + 2 - 12),CONCATENATE(\"Hul \",C360 + 2))","v":"Hul 2"}]
[null,{"$f":"IF(C360+3 > 12,CONCATENATE(\"Hul \",C360 + 3 - 12),CONCATENATE(\"Hul \",C360 + 3))","v":"Hul 3"}]
[null,{"$f":"IF(C360+4 > 12,CONCATENATE(\"Hul \",C360 + 4 - 12),CONCATENATE(\"Hul \",C360 + 4))","v":"Hul 4"}]
[null,{"$f":"IF(C360+5 > 12,CONCATENATE(\"Hul \",C360 + 5 - 12),CONCATENATE(\"Hul \",C360 + 5))","v":"Hul 5"}]
[null,{"$f":"IF(C360+6 > 12,CONCATENATE(\"Hul \",C360 + 6 - 12),CONCATENATE(\"Hul \",C360 + 6))","v":"Hul 6"}]
[null,{"$f":"IF(C360+7 > 12,CONCATENATE(\"Hul \",C360 + 7 - 12),CONCATENATE(\"Hul \",C360 + 7))","v":"Hul 7"}]
[null,{"$f":"IF(C360+8 > 12,CONCATENATE(\"Hul \",C360 + 8 - 12),CONCATENATE(\"Hul \",C360 + 8))","v":"Hul 8"}]
[null,{"$f":"IF(C360+9 > 12,CONCATENATE(\"Hul \",C360 + 9 - 12),CONCATENATE(\"Hul \",C360 + 9))","v":"Hul 9"}]
[null,{"$f":"IF(C360+10 > 12,CONCATENATE(\"Hul \",C360 + 10 - 12),CONCATENATE(\"Hul \",C360 + 10))","v":"Hul 10"}]
[null,{"$f":"IF(C360+11 > 12,CONCATENATE(\"Hul \",C360 + 11 - 12),CONCATENATE(\"Hul \",C360 + 11))","v":"Hul 11"}]
[null,"I alt"]
[null,{"$f":"Setup!$B$8","v":0}]
[null,"Dommer:"]
[]
[]
[null,{"$f":"CONCATENATE(\"       \",'Puljer runde 1'!$A$26)","v":"       0"},null,{"$f":"Setup!$B$2","v":"Minitræf i Houlbjerg"},null,null,null,null,null,null,{"$f":"'Puljer runde 4'!$B$3","v":"Runde 4"},{"$f":"CONCATENATE('Puljer runde 1'!$A$35,\".\",'Puljer runde 1'!$M$36)","v":"x.1"}]
[null,"Til hul",{"$f":"'Puljer runde 1'!$L$36","v":0},null,null,null,null,null,null,null,{"$f":"Setup!$B$4","v":"29. juli 2015"}]
[null,null,{"$f":"IF('Puljer runde 1'!B$36=\"\",\"\",'Puljer runde 1'!B$36)","v":""},null,{"$f":"IF('Puljer runde 1'!D$36=\"\",\"\",'Puljer runde 1'!D$36)","v":""},null,{"$f":"IF('Puljer runde 1'!F$36=\"\",\"\",'Puljer runde 1'!F$36)","v":""},null,{"$f":"IF('Puljer runde 1'!H$36=\"\",\"\",'Puljer runde 1'!H$36)","v":""},null,{"$f":"IF('Puljer runde 1'!J$36=\"\",\"\",'Puljer runde 1'!J$36)","v":""}]
[null,null,{"$f":"IF('Puljer runde 1'!C$36=\"\",\"\",'Puljer runde 1'!C$36)","v":""},null,{"$f":"IF('Puljer runde 1'!E$36=\"\",\"\",'Puljer runde 1'!E$36)","v":""},null,{"$f":"IF('Puljer runde 1'!G$36=\"\",\"\",'Puljer runde 1'!G$36)","v":""},null,{"$f":"IF('Puljer runde 1'!I$36=\"\",\"\",'Puljer runde 1'!I$36)","v":""},null,{"$f":"IF('Puljer runde 1'!K$36=\"\",\"\",'Puljer runde 1'!K$36)","v":""}]
[null,{"$f":"CONCATENATE(\"Hul \",C381)","v":"Hul 0"}]
[null,{"$f":"IF(C381+1 > 12,CONCATENATE(\"Hul \",C381 + 1 - 12),CONCATENATE(\"Hul \",C381 + 1))","v":"Hul 1"}]
[null,{"$f":"IF(C381+2 > 12,CONCATENATE(\"Hul \",C381 + 2 - 12),CONCATENATE(\"Hul \",C381 + 2))","v":"Hul 2"}]
[null,{"$f":"IF(C381+3 > 12,CONCATENATE(\"Hul \",C381 + 3 - 12),CONCATENATE(\"Hul \",C381 + 3))","v":"Hul 3"}]
[null,{"$f":"IF(C381+4 > 12,CONCATENATE(\"Hul \",C381 + 4 - 12),CONCATENATE(\"Hul \",C381 + 4))","v":"Hul 4"}]
[null,{"$f":"IF(C381+5 > 12,CONCATENATE(\"Hul \",C381 + 5 - 12),CONCATENATE(\"Hul \",C381 + 5))","v":"Hul 5"}]
[null,{"$f":"IF(C381+6 > 12,CONCATENATE(\"Hul \",C381 + 6 - 12),CONCATENATE(\"Hul \",C381 + 6))","v":"Hul 6"}]
[null,{"$f":"IF(C381+7 > 12,CONCATENATE(\"Hul \",C381 + 7 - 12),CONCATENATE(\"Hul \",C381 + 7))","v":"Hul 7"}]
[null,{"$f":"IF(C381+8 > 12,CONCATENATE(\"Hul \",C381 + 8 - 12),CONCATENATE(\"Hul \",C381 + 8))","v":"Hul 8"}]
[null,{"$f":"IF(C381+9 > 12,CONCATENATE(\"Hul \",C381 + 9 - 12),CONCATENATE(\"Hul \",C381 + 9))","v":"Hul 9"}]
[null,{"$f":"IF(C381+10 > 12,CONCATENATE(\"Hul \",C381 + 10 - 12),CONCATENATE(\"Hul \",C381 + 10))","v":"Hul 10"}]
[null,{"$f":"IF(C381+11 > 12,CONCATENATE(\"Hul \",C381 + 11 - 12),CONCATENATE(\"Hul \",C381 + 11))","v":"Hul 11"}]
[null,"I alt"]
[null,{"$f":"Setup!$B$8","v":0}]
[null,"Dommer:"]
[]
[]
[null,{"$f":"CONCATENATE(\"       \",'Puljer runde 1'!$A$27)","v":"       0"},null,{"$f":"Setup!$B$2","v":"Minitræf i Houlbjerg"},null,null,null,null,null,null,{"$f":"'Puljer runde 4'!$B$3","v":"Runde 4"},{"$f":"CONCATENATE('Puljer runde 1'!$A$35,\".\",'Puljer runde 1'!$M$37)","v":"x.2"}]
[null,"Til hul",{"$f":"'Puljer runde 1'!$L$37","v":0},null,null,null,null,null,null,null,{"$f":"Setup!$B$4","v":"29. juli 2015"}]
[null,null,{"$f":"IF('Puljer runde 1'!B$37=\"\",\"\",'Puljer runde 1'!B$37)","v":""},null,{"$f":"IF('Puljer runde 1'!D$37=\"\",\"\",'Puljer runde 1'!D$37)","v":""},null,{"$f":"IF('Puljer runde 1'!F$37=\"\",\"\",'Puljer runde 1'!F$37)","v":""},null,{"$f":"IF('Puljer runde 1'!H$37=\"\",\"\",'Puljer runde 1'!H$37)","v":""},null,{"$f":"IF('Puljer runde 1'!J$37=\"\",\"\",'Puljer runde 1'!J$37)","v":""}]
[null,null,{"$f":"IF('Puljer runde 1'!C$37=\"\",\"\",'Puljer runde 1'!C$37)","v":""},null,{"$f":"IF('Puljer runde 1'!E$37=\"\",\"\",'Puljer runde 1'!E$37)","v":""},null,{"$f":"IF('Puljer runde 1'!G$37=\"\",\"\",'Puljer runde 1'!G$37)","v":""},null,{"$f":"IF('Puljer runde 1'!I$37=\"\",\"\",'Puljer runde 1'!I$37)","v":""},null,{"$f":"IF('Puljer runde 1'!K$37=\"\",\"\",'Puljer runde 1'!K$37)","v":""}]
[null,{"$f":"CONCATENATE(\"Hul \",C402)","v":"Hul 0"}]
[null,{"$f":"IF(C402+1 > 12,CONCATENATE(\"Hul \",C402 + 1 - 12),CONCATENATE(\"Hul \",C402 + 1))","v":"Hul 1"}]
[null,{"$f":"IF(C402+2 > 12,CONCATENATE(\"Hul \",C402 + 2 - 12),CONCATENATE(\"Hul \",C402 + 2))","v":"Hul 2"}]
[null,{"$f":"IF(C402+3 > 12,CONCATENATE(\"Hul \",C402 + 3 - 12),CONCATENATE(\"Hul \",C402 + 3))","v":"Hul 3"}]
[null,{"$f":"IF(C402+4 > 12,CONCATENATE(\"Hul \",C402 + 4 - 12),CONCATENATE(\"Hul \",C402 + 4))","v":"Hul 4"}]
[null,{"$f":"IF(C402+5 > 12,CONCATENATE(\"Hul \",C402 + 5 - 12),CONCATENATE(\"Hul \",C402 + 5))","v":"Hul 5"}]
[null,{"$f":"IF(C402+6 > 12,CONCATENATE(\"Hul \",C402 + 6 - 12),CONCATENATE(\"Hul \",C402 + 6))","v":"Hul 6"}]
[null,{"$f":"IF(C402+7 > 12,CONCATENATE(\"Hul \",C402 + 7 - 12),CONCATENATE(\"Hul \",C402 + 7))","v":"Hul 7"}]
[null,{"$f":"IF(C402+8 > 12,CONCATENATE(\"Hul \",C402 + 8 - 12),CONCATENATE(\"Hul \",C402 + 8))","v":"Hul 8"}]
[null,{"$f":"IF(C402+9 > 12,CONCATENATE(\"Hul \",C402 + 9 - 12),CONCATENATE(\"Hul \",C402 + 9))","v":"Hul 9"}]
[null,{"$f":"IF(C402+10 > 12,CONCATENATE(\"Hul \",C402 + 10 - 12),CONCATENATE(\"Hul \",C402 + 10))","v":"Hul 10"}]
[null,{"$f":"IF(C402+11 > 12,CONCATENATE(\"Hul \",C402 + 11 - 12),CONCATENATE(\"Hul \",C402 + 11))","v":"Hul 11"}]
[null,"I alt"]
[null,{"$f":"Setup!$B$8","v":0}]
[null,"Dommer:"]
[]
[]
[null,{"$f":"CONCATENATE(\"       \",'Puljer runde 1'!$A$28)","v":"       0"},null,{"$f":"Setup!$B$2","v":"Minitræf i Houlbjerg"},null,null,null,null,null,null,{"$f":"'Puljer runde 4'!$B$3","v":"Runde 4"},{"$f":"CONCATENATE('Puljer runde 1'!$A$35,\".\",'Puljer runde 1'!$M$38)","v":"x.3"}]
[null,"Til hul",{"$f":"'Puljer runde 1'!$L$38","v":0},null,null,null,null,null,null,null,{"$f":"Setup!$B$4","v":"29. juli 2015"}]
[null,null,{"$f":"IF('Puljer runde 1'!B$38=\"\",\"\",'Puljer runde 1'!B$38)","v":""},null,{"$f":"IF('Puljer runde 1'!D$38=\"\",\"\",'Puljer runde 1'!D$38)","v":""},null,{"$f":"IF('Puljer runde 1'!F$38=\"\",\"\",'Puljer runde 1'!F$38)","v":""},null,{"$f":"IF('Puljer runde 1'!H$38=\"\",\"\",'Puljer runde 1'!H$38)","v":""},null,{"$f":"IF('Puljer runde 1'!J$38=\"\",\"\",'Puljer runde 1'!J$38)","v":""}]
[null,null,{"$f":"IF('Puljer runde 1'!C$38=\"\",\"\",'Puljer runde 1'!C$38)","v":""},null,{"$f":"IF('Puljer runde 1'!E$38=\"\",\"\",'Puljer runde 1'!E$38)","v":""},null,{"$f":"IF('Puljer runde 1'!G$38=\"\",\"\",'Puljer runde 1'!G$38)","v":""},null,{"$f":"IF('Puljer runde 1'!I$38=\"\",\"\",'Puljer runde 1'!I$38)","v":""},null,{"$f":"IF('Puljer runde 1'!K$38=\"\",\"\",'Puljer runde 1'!K$38)","v":""}]
[null,{"$f":"CONCATENATE(\"Hul \",C423)","v":"Hul 0"}]
[null,{"$f":"IF(C423+1 > 12,CONCATENATE(\"Hul \",C423 + 1 - 12),CONCATENATE(\"Hul \",C423 + 1))","v":"Hul 1"}]
[null,{"$f":"IF(C423+2 > 12,CONCATENATE(\"Hul \",C423 + 2 - 12),CONCATENATE(\"Hul \",C423 + 2))","v":"Hul 2"}]
[null,{"$f":"IF(C423+3 > 12,CONCATENATE(\"Hul \",C423 + 3 - 12),CONCATENATE(\"Hul \",C423 + 3))","v":"Hul 3"}]
[null,{"$f":"IF(C423+4 > 12,CONCATENATE(\"Hul \",C423 + 4 - 12),CONCATENATE(\"Hul \",C423 + 4))","v":"Hul 4"}]
[null,{"$f":"IF(C423+5 > 12,CONCATENATE(\"Hul \",C423 + 5 - 12),CONCATENATE(\"Hul \",C423 + 5))","v":"Hul 5"}]
[null,{"$f":"IF(C423+6 > 12,CONCATENATE(\"Hul \",C423 + 6 - 12),CONCATENATE(\"Hul \",C423 + 6))","v":"Hul 6"}]
[null,{"$f":"IF(C423+7 > 12,CONCATENATE(\"Hul \",C423 + 7 - 12),CONCATENATE(\"Hul \",C423 + 7))","v":"Hul 7"}]
[null,{"$f":"IF(C423+8 > 12,CONCATENATE(\"Hul \",C423 + 8 - 12),CONCATENATE(\"Hul \",C423 + 8))","v":"Hul 8"}]
[null,{"$f":"IF(C423+9 > 12,CONCATENATE(\"Hul \",C423 + 9 - 12),CONCATENATE(\"Hul \",C423 + 9))","v":"Hul 9"}]
[null,{"$f":"IF(C423+10 > 12,CONCATENATE(\"Hul \",C423 + 10 - 12),CONCATENATE(\"Hul \",C423 + 10))","v":"Hul 10"}]
[null,{"$f":"IF(C423+11 > 12,CONCATENATE(\"Hul \",C423 + 11 - 12),CONCATENATE(\"Hul \",C423 + 11))","v":"Hul 11"}]
[null,"I alt"]
[null,{"$f":"Setup!$B$8","v":0}]
[null,"Dommer:"]
[]
[]
[null,{"$f":"CONCATENATE(\"       \",'Puljer runde 1'!$A$29)","v":"       0"},null,{"$f":"Setup!$B$2","v":"Minitræf i Houlbjerg"},null,null,null,null,null,null,{"$f":"'Puljer runde 4'!$B$3","v":"Runde 4"},{"$f":"CONCATENATE('Puljer runde 1'!$A$35,\".\",'Puljer runde 1'!$M$39)","v":"x.4"}]
[null,"Til hul",{"$f":"'Puljer runde 1'!$L$39","v":0},null,null,null,null,null,null,null,{"$f":"Setup!$B$4","v":"29. juli 2015"}]
[null,null,{"$f":"IF('Puljer runde 1'!B$39=\"\",\"\",'Puljer runde 1'!B$39)","v":""},null,{"$f":"IF('Puljer runde 1'!D$39=\"\",\"\",'Puljer runde 1'!D$39)","v":""},null,{"$f":"IF('Puljer runde 1'!F$39=\"\",\"\",'Puljer runde 1'!F$39)","v":""},null,{"$f":"IF('Puljer runde 1'!H$39=\"\",\"\",'Puljer runde 1'!H$39)","v":""},null,{"$f":"IF('Puljer runde 1'!J$39=\"\",\"\",'Puljer runde 1'!J$39)","v":""}]
[null,null,{"$f":"IF('Puljer runde 1'!C$39=\"\",\"\",'Puljer runde 1'!C$39)","v":""},null,{"$f":"IF('Puljer runde 1'!E$39=\"\",\"\",'Puljer runde 1'!E$39)","v":""},null,{"$f":"IF('Puljer runde 1'!G$39=\"\",\"\",'Puljer runde 1'!G$39)","v":""},null,{"$f":"IF('Puljer runde 1'!I$39=\"\",\"\",'Puljer runde 1'!I$39)","v":""},null,{"$f":"IF('Puljer runde 1'!K$39=\"\",\"\",'Puljer runde 1'!K$39)","v":""}]
[null,{"$f":"CONCATENATE(\"Hul \",C444)","v":"Hul 0"}]
[null,{"$f":"IF(C444+1 > 12,CONCATENATE(\"Hul \",C444 + 1 - 12),CONCATENATE(\"Hul \",C444 + 1))","v":"Hul 1"}]
[null,{"$f":"IF(C444+2 > 12,CONCATENATE(\"Hul \",C444 + 2 - 12),CONCATENATE(\"Hul \",C444 + 2))","v":"Hul 2"}]
[null,{"$f":"IF(C444+3 > 12,CONCATENATE(\"Hul \",C444 + 3 - 12),CONCATENATE(\"Hul \",C444 + 3))","v":"Hul 3"}]
[null,{"$f":"IF(C444+4 > 12,CONCATENATE(\"Hul \",C444 + 4 - 12),CONCATENATE(\"Hul \",C444 + 4))","v":"Hul 4"}]
[null,{"$f":"IF(C444+5 > 12,CONCATENATE(\"Hul \",C444 + 5 - 12),CONCATENATE(\"Hul \",C444 + 5))","v":"Hul 5"}]
[null,{"$f":"IF(C444+6 > 12,CONCATENATE(\"Hul \",C444 + 6 - 12),CONCATENATE(\"Hul \",C444 + 6))","v":"Hul 6"}]
[null,{"$f":"IF(C444+7 > 12,CONCATENATE(\"Hul \",C444 + 7 - 12),CONCATENATE(\"Hul \",C444 + 7))","v":"Hul 7"}]
[null,{"$f":"IF(C444+8 > 12,CONCATENATE(\"Hul \",C444 + 8 - 12),CONCATENATE(\"Hul \",C444 + 8))","v":"Hul 8"}]
[null,{"$f":"IF(C444+9 > 12,CONCATENATE(\"Hul \",C444 + 9 - 12),CONCATENATE(\"Hul \",C444 + 9))","v":"Hul 9"}]
[null,{"$f":"IF(C444+10 > 12,CONCATENATE(\"Hul \",C444 + 10 - 12),CONCATENATE(\"Hul \",C444 + 10))","v":"Hul 10"}]
[null,{"$f":"IF(C444+11 > 12,CONCATENATE(\"Hul \",C444 + 11 - 12),CONCATENATE(\"Hul \",C444 + 11))","v":"Hul 11"}]
[null,"I alt"]
[null,{"$f":"Setup!$B$8","v":0}]
[null,"Dommer:"]
[]
[]
[null,{"$f":"CONCATENATE(\"       \",'Puljer runde 1'!$A$30)","v":"       0"},null,{"$f":"Setup!$B$2","v":"Minitræf i Houlbjerg"},null,null,null,null,null,null,{"$f":"'Puljer runde 4'!$B$3","v":"Runde 4"},{"$f":"CONCATENATE('Puljer runde 1'!$A$35,\".\",'Puljer runde 1'!$M$40)","v":"x.5"}]
[null,"Til hul",{"$f":"'Puljer runde 1'!$L$40","v":0},null,null,null,null,null,null,null,{"$f":"Setup!$B$4","v":"29. juli 2015"}]
[null,null,{"$f":"IF('Puljer runde 1'!B$40=\"\",\"\",'Puljer runde 1'!B$40)","v":""},null,{"$f":"IF('Puljer runde 1'!D$40=\"\",\"\",'Puljer runde 1'!D$40)","v":""},null,{"$f":"IF('Puljer runde 1'!F$40=\"\",\"\",'Puljer runde 1'!F$40)","v":""},null,{"$f":"IF('Puljer runde 1'!H$40=\"\",\"\",'Puljer runde 1'!H$40)","v":""},null,{"$f":"IF('Puljer runde 1'!J$40=\"\",\"\",'Puljer runde 1'!J$40)","v":""}]
[null,null,{"$f":"IF('Puljer runde 1'!C$40=\"\",\"\",'Puljer runde 1'!C$40)","v":""},null,{"$f":"IF('Puljer runde 1'!E$40=\"\",\"\",'Puljer runde 1'!E$40)","v":""},null,{"$f":"IF('Puljer runde 1'!G$40=\"\",\"\",'Puljer runde 1'!G$40)","v":""},null,{"$f":"IF('Puljer runde 1'!I$40=\"\",\"\",'Puljer runde 1'!I$40)","v":""},null,{"$f":"IF('Puljer runde 1'!K$40=\"\",\"\",'Puljer runde 1'!K$40)","v":""}]
[null,{"$f":"CONCATENATE(\"Hul \",C465)","v":"Hul 0"}]
[null,{"$f":"IF(C465+1 > 12,CONCATENATE(\"Hul \",C465 + 1 - 12),CONCATENATE(\"Hul \",C465 + 1))","v":"Hul 1"}]
[null,{"$f":"IF(C465+2 > 12,CONCATENATE(\"Hul \",C465 + 2 - 12),CONCATENATE(\"Hul \",C465 + 2))","v":"Hul 2"}]
[null,{"$f":"IF(C465+3 > 12,CONCATENATE(\"Hul \",C465 + 3 - 12),CONCATENATE(\"Hul \",C465 + 3))","v":"Hul 3"}]
[null,{"$f":"IF(C465+4 > 12,CONCATENATE(\"Hul \",C465 + 4 - 12),CONCATENATE(\"Hul \",C465 + 4))","v":"Hul 4"}]
[null,{"$f":"IF(C465+5 > 12,CONCATENATE(\"Hul \",C465 + 5 - 12),CONCATENATE(\"Hul \",C465 + 5))","v":"Hul 5"}]
[null,{"$f":"IF(C465+6 > 12,CONCATENATE(\"Hul \",C465 + 6 - 12),CONCATENATE(\"Hul \",C465 + 6))","v":"Hul 6"}]
[null,{"$f":"IF(C465+7 > 12,CONCATENATE(\"Hul \",C465 + 7 - 12),CONCATENATE(\"Hul \",C465 + 7))","v":"Hul 7"}]
[null,{"$f":"IF(C465+8 > 12,CONCATENATE(\"Hul \",C465 + 8 - 12),CONCATENATE(\"Hul \",C465 + 8))","v":"Hul 8"}]
[null,{"$f":"IF(C465+9 > 12,CONCATENATE(\"Hul \",C465 + 9 - 12),CONCATENATE(\"Hul \",C465 + 9))","v":"Hul 9"}]
[null,{"$f":"IF(C465+10 > 12,CONCATENATE(\"Hul \",C465 + 10 - 12),CONCATENATE(\"Hul \",C465 + 10))","v":"Hul 10"}]
[null,{"$f":"IF(C465+11 > 12,CONCATENATE(\"Hul \",C465 + 11 - 12),CONCATENATE(\"Hul \",C465 + 11))","v":"Hul 11"}]
[null,"I alt"]
[null,{"$f":"Setup!$B$8","v":0}]
[null,"Dommer:"]
[]
[]
[null,{"$f":"CONCATENATE(\"       \",'Puljer runde 1'!$A$31)","v":"       0"},null,{"$f":"Setup!$B$2","v":"Minitræf i Houlbjerg"},null,null,null,null,null,null,{"$f":"'Puljer runde 4'!$B$3","v":"Runde 4"},{"$f":"CONCATENATE('Puljer runde 1'!$A$35,\".\",'Puljer runde 1'!$M$41)","v":"x.6"}]
[null,"Til hul",{"$f":"'Puljer runde 1'!$L$41","v":0},null,null,null,null,null,null,null,{"$f":"Setup!$B$4","v":"29. juli 2015"}]
[null,null,{"$f":"IF('Puljer runde 1'!B$41=\"\",\"\",'Puljer runde 1'!B$41)","v":""},null,{"$f":"IF('Puljer runde 1'!D$41=\"\",\"\",'Puljer runde 1'!D$41)","v":""},null,{"$f":"IF('Puljer runde 1'!F$41=\"\",\"\",'Puljer runde 1'!F$41)","v":""},null,{"$f":"IF('Puljer runde 1'!H$41=\"\",\"\",'Puljer runde 1'!H$41)","v":""},null,{"$f":"IF('Puljer runde 1'!J$41=\"\",\"\",'Puljer runde 1'!J$41)","v":""}]
[null,null,{"$f":"IF('Puljer runde 1'!C$41=\"\",\"\",'Puljer runde 1'!C$41)","v":""},null,{"$f":"IF('Puljer runde 1'!E$41=\"\",\"\",'Puljer runde 1'!E$41)","v":""},null,{"$f":"IF('Puljer runde 1'!G$41=\"\",\"\",'Puljer runde 1'!G$41)","v":""},null,{"$f":"IF('Puljer runde 1'!I$41=\"\",\"\",'Puljer runde 1'!I$41)","v":""},null,{"$f":"IF('Puljer runde 1'!K$41=\"\",\"\",'Puljer runde 1'!K$41)","v":""}]
[null,{"$f":"CONCATENATE(\"Hul \",C486)","v":"Hul 0"}]
[null,{"$f":"IF(C486+1 > 12,CONCATENATE(\"Hul \",C486 + 1 - 12),CONCATENATE(\"Hul \",C486 + 1))","v":"Hul 1"}]
[null,{"$f":"IF(C486+2 > 12,CONCATENATE(\"Hul \",C486 + 2 - 12),CONCATENATE(\"Hul \",C486 + 2))","v":"Hul 2"}]
[null,{"$f":"IF(C486+3 > 12,CONCATENATE(\"Hul \",C486 + 3 - 12),CONCATENATE(\"Hul \",C486 + 3))","v":"Hul 3"}]
[null,{"$f":"IF(C486+4 > 12,CONCATENATE(\"Hul \",C486 + 4 - 12),CONCATENATE(\"Hul \",C486 + 4))","v":"Hul 4"}]
[null,{"$f":"IF(C486+5 > 12,CONCATENATE(\"Hul \",C486 + 5 - 12),CONCATENATE(\"Hul \",C486 + 5))","v":"Hul 5"}]
[null,{"$f":"IF(C486+6 > 12,CONCATENATE(\"Hul \",C486 + 6 - 12),CONCATENATE(\"Hul \",C486 + 6))","v":"Hul 6"}]
[null,{"$f":"IF(C486+7 > 12,CONCATENATE(\"Hul \",C486 + 7 - 12),CONCATENATE(\"Hul \",C486 + 7))","v":"Hul 7"}]
[null,{"$f":"IF(C486+8 > 12,CONCATENATE(\"Hul \",C486 + 8 - 12),CONCATENATE(\"Hul \",C486 + 8))","v":"Hul 8"}]
[null,{"$f":"IF(C486+9 > 12,CONCATENATE(\"Hul \",C486 + 9 - 12),CONCATENATE(\"Hul \",C486 + 9))","v":"Hul 9"}]
[null,{"$f":"IF(C486+10 > 12,CONCATENATE(\"Hul \",C486 + 10 - 12),CONCATENATE(\"Hul \",C486 + 10))","v":"Hul 10"}]
[null,{"$f":"IF(C486+11 > 12,CONCATENATE(\"Hul \",C486 + 11 - 12),CONCATENATE(\"Hul \",C486 + 11))","v":"Hul 11"}]
[null,"I alt"]
[null,{"$f":"Setup!$B$8","v":0}]
[null,"Dommer:"]

{"sheet":"RBGH","index":16,"n_rows":481,"n_cols":30,"rows_kept":481,"cut":false,"hidden":true,"merged":[[10,2,10,5],[10,7,10,10],[10,12,10,15],[10,17,10,20]]}
[null,{"$f":"Puljer!A11","v":"Bane 1"},{"$f":"Puljer!A12","v":"Bane 2"},{"$f":"Puljer!A13","v":0},{"$f":"Puljer!A14","v":""},null,"Antal kampe",1,2,3,4,5,6,null,{"$f":"B2","v":"Rød"},{"$f":"C2","v":"Grøn"},{"$f":"D2","v":"x"},{"$f":"E2","v":"x"},null,null,null,"Antal baner","Antal spillere","Gr. A","Gr. B","Gr. C","Gr. D","Ant. Grp.","Antal spilere","Antal puljer"]
["Runde 1",{"$f":"Setup!$B$16","v":"Rød"},{"$f":"Setup!$B$17","v":"Grøn"},"x","x",null,"Start til hul",1,1,1,1,1,1,null,1,1,null,null,null,null,null,1,{"$f":"ROW()-1","v":1},1,null,null,null,1,{"$f":"ROW()-1","v":1},1]
[{"$f":"IF(Puljer!C6>1,\"Runde 2\",\"\")","v":"Runde 2"},{"$f":"Setup!$B$17","v":"Grøn"},{"$f":"Setup!$B$16","v":"Rød"},"x","x",null,null,null,6,5,4,3,3,null,3,3,null,null,null,null,null,1,{"$f":"ROW()-1","v":2},2,null,null,null,1,{"$f":"ROW()-1","v":2},1]
[{"$f":"IF(Puljer!C6>2,\"Runde 3\",\"\")","v":""},"x","x","x","x",null,null,null,null,9,7,5,5,null,5,5,null,null,null,null,null,1,3,3,null,null,null,1,3,1]
[{"$f":"IF(Puljer!C6>3,\"Runde 4\",\"\")","v":""},"x","x","x","x",null,null,null,null,null,10,7,7,null,7,7,null,null,null,null,null,1,4,4,null,null,null,1,4,1]
["Runde 1",30,30,null,null,null,null,null,null,null,null,10,9,null,9,9,null,null,null,null,null,1,5,5,null,null,null,1,5,1]
[{"$f":"IF(Puljer!C10>1,\"Runde 2\",\"\")","v":"Runde 2"},30,30,null,null,null,null,null,null,null,null,null,11,null,11,11,null,null,null,null,null,1,6,6,null,null,null,1,6,2]
[{"$f":"IF(Puljer!C10>2,\"Runde 3\",\"\")","v":""},null,null,null,null,null,null,null,null,null,null,null,null,null,null,null,null,null,null,null,null,1,7,7,null,null,null,1,7,2]
[{"$f":"IF(Puljer!C10>3,\"Runde 4\",\"\")","v":""},null,null,null,null,null,null,null,null,null,null,null,null,null,null,null,null,null,null,null,null,1,8,8,null,null,null,1,8,2]
[null,null,null,null,null,null,null,null,null,null,null,null,null,null,null,null,null,null,null,null,null,1,9,9,null,null,null,1,9,2]
["Runder","Baner","4 grupper",null,null,null,null,"3 grupper",null,null,null,null,"2 grupper",null,null,null,null,"1 gruppe",null,null,null,1,10,10,null,null,null,1,10,2]
[4,4,{"$f":"Setup!$B$16","v":"Rød"},{"$f":"Setup!$B$17","v":"Grøn"},{"$f":"Setup!$B$18","v":0},{"$f":"Setup!$B$19","v":0},null,{"$f":"Setup!$B$16","v":"Rød"},{"$f":"Setup!$B$17","v":"Grøn"},{"$f":"Setup!$B$18","v":0},null,null,{"$f":"Setup!$B$16","v":"Rød"},{"$f":"Setup!$B$17","v":"Grøn"},null,null,null,{"$f":"Setup!$B$16","v":"Rød"},null,null,null,1,11,11,null,null,null,1,11,3]
[null,null,{"$f":"Setup!$B$19","v":0},{"$f":"Setup!$B$16","v":"Rød"},{"$f":"Setup!$B$17","v":"Grøn"},{"$f":"Setup!$B$18","v":0},null,null,{"$f":"Setup!$B$16","v":"Rød"},{"$f":"Setup!$B$17","v":"Grøn"},{"$f":"Setup!$B$18","v":0},null,null,{"$f":"Setup!$B$16","v":"Rød"},{"$f":"Setup!$B$17","v":"Grøn"},null,null,null,{"$f":"Setup!$B$16","v":"Rød"},null,null,1,12,12,null,null,null,1,12,3]
[null,null,{"$f":"Setup!$B$18","v":0},{"$f":"Setup!$B$19","v":0},{"$f":"Setup!$B$16","v":"Rød"},{"$f":"Setup!$B$17","v":"Grøn"},null,{"$f":"Setup!$B$18","v":0},null,{"$f":"Setup!$B$16","v":"Rød"},{"$f":"Setup!$B$17","v":"Grøn"},null,null,null,{"$f":"Setup!$B$16","v":"Rød"},{"$f":"Setup!$B$17","v":"Grøn"},null,null,null,{"$f":"Setup!$B$16","v":"Rød"},null,1,13,13,null,null,null,1,13,3]
[null,null,{"$f":"Setup!$B$17","v":"Grøn"},{"$f":"Setup!$B$18","v":0},{"$f":"Setup!$B$19","v":0},{"$f":"Setup!$B$16","v":"Rød"},null,{"$f":"Setup!$B$17","v":"Grøn"},{"$f":"Setup!$B$18","v":0},null,{"$f":"Setup!$B$16","v":"Rød"},null,{"$f":"Setup!$B$17","v":"Grøn"},null,null,{"$f":"Setup!$B$16","v":"Rød"},null,null,null,null,{"$f":"Setup!$B$16","v":"Rød"},1,14,14,null,null,null,1,14,3]
[null,null,null,null,null,null,null,null,null,null,null,null,null,null,null,null,null,null,null,null,null,1,15,15,null,null,null,1,15,3]
[4,3,"x","x","x","x",null,null,null,null,null,null,null,null,null,null,null,null,null,null,null,1,16,16,null,null,null,1,16,4]
[null,null,"x","x","x","x",null,null,null,null,null,null,null,null,null,null,null,null,null,null,null,1,17,17,null,null,null,1,17,4]
[null,null,"x","x","x","x",null,null,null,null,null,null,null,null,null,null,null,null,null,null,null,1,18,18,null,null,null,1,18,4]
[null,null,"x","x","x","x",null,null,null,null,null,null,null,null,null,null,null,null,null,null,null,1,19,19,null,null,null,1,19,4]
[null,null,null,null,null,null,null,null,null,null,null,null,null,null,null,null,null,null,null,null,null,1,20,20,null,null,null,1,20,5]
[4,2,"x","x","x","x",null,"x","x","x","x",null,{"$f":"Setup!$B$16","v":"Rød"},{"$f":"Setup!$B$17","v":"Grøn"},"x","x",null,{"$f":"Setup!$B$16","v":"Rød"},null,"x","x",1,21,21,null,null,null,1,21,5]
[null,null,"x","x","x","x",null,"x","x","x","x",null,{"$f":"Setup!$B$17","v":"Grøn"},{"$f":"Setup!$B$16","v":"Rød"},"x","x",null,null,{"$f":"Setup!$B$16","v":"Rød"},"x","x",1,22,22,null,null,null,1,22,5]
[null,null,"x","x","x","x",null,"x","x","x","x",null,{"$f":"Setup!$B$16","v":"Rød"},{"$f":"Setup!$B$17","v":"Grøn"},"x","x",null,{"$f":"Setup!$B$16","v":"Rød"},null,"x","x",1,23,23,null,null,null,1,23,5]
[null,null,"x","x","x","x",null,"x","x","x","x",null,{"$f":"Setup!$B$17","v":"Grøn"},{"$f":"Setup!$B$16","v":"Rød"},"x","x",null,null,{"$f":"Setup!$B$16","v":"Rød"},"x","x",1,24,24,null,null,null,1,24,6]
[null,null,null,null,null,null,null,null,null,null,null,null,null,null,null,null,null,null,null,null,null,1,25,25,null,null,null,1,25,6]
[4,1,"x","x","x","x",null,"x","x","x","x",null,"x","x","x","x",null,{"$f":"Setup!$B$16","v":"Rød"},"x","x","x",1,26,26,null,null,null,1,26,6]
[null,null,"x","x","x","x",null,"x","x","x","x",null,"x","x","x","x",null,{"$f":"Setup!$B$16","v":"Rød"},"x","x","x",1,27,27,null,null,null,1,27,6]
[null,null,"x","x","x","x",null,"x","x","x","x",null,"x","x","x","x",null,{"$f":"Setup!$B$16","v":"Rød"},"x","x","x",1,28,28,null,null,null,1,28,6]
[null,null,"x","x","x","x",null,"x","x","x","x",null,"x","x","x","x",null,{"$f":"Setup!$B$16","v":"Rød"},"x","x","x",1,29,29,null,null,null,1,29,6]
[null,null,null,null,null,null,null,null,null,null,null,null,null,null,null,null,null,null,null,null,null,1,30,30,null,null,null,1,30,6]
[3,4,"x","x","x","x",null,null,null,null,null,null,null,null,null,null,null,null,null,null,null,1,31,16,15,null,null,2]
[null,null,"x","x","x","x",null,null,null,null,null,null,null,null,null,null,null,null,null,null,null,1,32,16,16,null,null,2]
[null,null,"x","x","x","x",null,null,null,null,null,null,null,null,null,null,null,null,null,null,null,1,33,17,16,null,null,2]
[null,null,"x","x","x","x",null,null,null,null,null,null,null,null,null,null,null,null,null,null,null,1,34,17,17,null,null,2]
[null,null,null,null,null,null,null,null,null,null,null,null,null,null,null,null,null,null,null,null,null,1,35,18,17,null,null,2]
[3,3,"x","x","x","x",null,{"$f":"Setup!$B$16","v":"Rød"},{"$f":"Setup!$B$17","v":"Grøn"},{"$f":"Setup!$B$18","v":0},"x",null,{"$f":"Setup!$B$16","v":"Rød"},{"$f":"Setup!$B$17","v":"Grøn"},null,"x",null,{"$f":"Setup!$B$16","v":"Rød"},null,null,"x",1,36,18,18,null,null,2]
[null,null,"x","x","x","x",null,{"$f":"Setup!$B$18","v":0},{"$f":"Setup!$B$16","v":"Rød"},{"$f":"Setup!$B$17","v":"Grøn"},"x",null,null,{"$f":"Setup!$B$16","v":"Rød"},{"$f":"Setup!$B$17","v":"Grøn"},"x",null,null,{"$f":"Setup!$B$16","v":"Rød"},null,"x",1,37,13,12,12,null,3]
[null,null,"x","x","x","x",null,{"$f":"Setup!$B$17","v":"Grøn"},{"$f":"Setup!$B$18","v":0},{"$f":"Setup!$B$16","v":"Rød"},"x",null,{"$f":"Setup!$B$17","v":"Grøn"},null,{"$f":"Setup!$B$16","v":"Rød"},"x",null,null,null,{"$f":"Setup!$B$16","v":"Rød"},"x",1,38,13,13,12,null,3]
[null,null,"x","x","x","x",null,"x","x","x","x",null,"x","x","x","x",null,"x","x","x","x",1,39,13,13,13,null,3]
[null,null,null,null,null,null,null,null,null,null,null,null,null,null,null,null,null,null,null,null,null,1,40,14,13,13,null,3]
[3,2,"x","x","x","x",null,null,null,null,null,null,null,null,null,null,null,null,null,null,null,1,41,14,14,13,null,3]
[null,null,"x","x","x","x",null,null,null,null,null,null,null,null,null,null,null,null,null,null,null,1,42,14,14,14,null,3]
[null,null,"x","x","x","x",null,null,null,null,null,null,null,null,null,null,null,null,null,null,null,1,43,15,14,14,null,3]
[null,null,"x","x","x","x",null,null,null,null,null,null,null,null,null,null,null,null,null,null,null,1,44,15,15,14,null,3]
[null,null,null,null,null,null,null,null,null,null,null,null,null,null,null,null,null,null,null,null,null,1,45,15,15,15,null,3]
[3,1,"x","x","x","x",null,"x","x","x","x",null,"x","x","x","x",null,{"$f":"Setup!$B$16","v":"Rød"},"x","x","x",1,46,16,15,15,null,3]
[null,null,"x","x","x","x",null,"x","x","x","x",null,"x","x","x","x",null,{"$f":"Setup!$B$16","v":"Rød"},"x","x","x",1,47,16,16,15,null,3]
[null,null,"x","x","x","x",null,"x","x","x","x",null,"x","x","x","x",null,{"$f":"Setup!$B$16","v":"Rød"},"x","x","x",1,48,16,16,16,null,3]
[null,null,"x","x","x","x",null,"x","x","x","x",null,"x","x","x","x",null,"x","x","x","x",1,49,13,12,12,12,4]
[null,null,null,null,null,null,null,null,null,null,null,null,null,null,null,null,null,null,null,null,null,1,50,13,13,12,12,4]
[2,4,"x","x","x","x",null,null,null,null,null,null,null,null,null,null,null,null,null,null,null,1,51,13,13,13,12,4]
[null,null,"x","x","x","x",null,null,null,null,null,null,null,null,null,null,null,null,null,null,null,1,52,13,13,13,13,4]
[null,null,"x","x","x","x",null,null,null,null,null,null,null,null,null,null,null,null,null,null,null,1,53,14,13,13,13,4]
[null,null,"x","x","x","x",null,null,null,null,null,null,null,null,null,null,null,null,null,null,null,1,54,14,14,13,13,4]
[null,null,null,null,null,null,null,null,null,null,null,null,null,null,null,null,null,null,null,null,null,1,55,14,14,14,13,4]
[2,3,"x","x","x","x",null,null,null,null,null,null,null,null,null,null,null,null,null,null,null,1,56,14,14,14,14,4]
[null,null,"x","x","x","x",null,null,null,null,null,null,null,null,null,null,null,null,null,null,null,1,57,15,14,14,14,4]
[null,null,"x","x","x","x",null,null,null,null,null,null,null,null,null,null,null,null,null,null,null,1,58,15,15,14,14,4]
[null,null,"x","x","x","x",null,null,null,null,null,null,null,null,null,null,null,null,null,null,null,1,59,15,15,15,14,4]
[null,null,null,null,null,null,null,null,null,null,null,null,null,null,null,null,null,null,null,null,null,1,60,15,15,15,15,4]
[2,2,"x","x","x","x",null,"x","x","x","x",null,{"$f":"Setup!$B$16","v":"Rød"},{"$f":"Setup!$B$17","v":"Grøn"},"x","x",null,{"$f":"Setup!$B$16","v":"Rød"},null,"x","x",1,61,16,15,15,15,4]
[null,null,"x","x","x","x",null,"x","x","x","x",null,{"$f":"Setup!$B$17","v":"Grøn"},{"$f":"Setup!$B$16","v":"Rød"},"x","x",null,null,{"$f":"Setup!$B$16","v":"Rød"},"x","x",1,62,16,16,15,15,4]
[null,null,"x","x","x","x",null,"x","x","x","x",null,"x","x","x","x",null,"x","x","x","x",1,63,16,16,16,15,4]
[null,null,"x","x","x","x",null,"x","x","x","x",null,"x","x","x","x",null,"x","x","x","x",1,64,16,16,16,16,4]
[null,null,null,null,null,null,null,null,null,null,null,null,null,null,null,null,null,null,null,null,null,1,65,17,16,16,16,4]
[2,1,"x","x","x","x",null,"x","x","x","x",null,"x","x","x","x",null,{"$f":"Setup!$B$16","v":"Rød"},"x","x","x",1,{"$f":"ROW()-1","v":66},17,17,16,16,4]
[null,null,"x","x","x","x",null,"x","x","x","x",null,"x","x","x","x",null,{"$f":"Setup!$B$16","v":"Rød"},"x","x","x",1,67,17,17,17,16,4]
[null,null,"x","x","x","x",null,"x","x","x","x",null,"x","x","x","x",null,"x","x","x","x",1,68,17,17,17,17,4]
[null,null,"x","x","x","x",null,"x","x","x","x",null,"x","x","x","x",null,"x","x","x","x",1,69,18,17,17,17,4]
[null,null,null,null,null,null,null,null,null,null,null,null,null,null,null,null,null,null,null,null,null,1,70,18,18,17,17,4]
[1,4,"x","x","x","x",null,null,null,null,null,null,null,null,null,null,null,null,null,null,null,1,71,18,18,18,17,4]
[null,null,"x","x","x","x",null,null,null,null,null,null,null,null,null,null,null,null,null,null,null,1,72,18,18,18,18,4]
[null,null,"x","x","x","x",null,null,null,null,null,null,null,null,null,null,null,null,null,null,null,1,73,19,18,18,18,4]
[null,null,"x","x","x","x",null,null,null,null,null,null,null,null,null,null,null,null,null,null,null,1,74,19,19,18,18,4]
[null,null,null,null,null,null,null,null,null,null,null,null,null,null,null,null,null,null,null,null,null,1,75,19,19,19,18,4]
[1,3,"x","x","x","x",null,null,null,null,null,null,null,null,null,null,null,null,null,null,null,1,76,19,19,19,19,4]
[null,null,"x","x","x","x",null,null,null,null,null,null,null,null,null,null,null,null,null,null,null,1,77,20,19,19,19,4]
[null,null,"x","x","x","x",null,null,null,null,null,null,null,null,null,null,null,null,null,null,null,1,78,20,20,19,19,4]
[null,null,"x","x","x","x",null,null,null,null,null,null,null,null,null,null,null,null,null,null,null,1,79,20,20,20,19,4]
[null,null,null,null,null,null,null,null,null,null,null,null,null,null,null,null,null,null,null,null,null,1,80,20,20,20,20,4]
[1,2,"x","x","x","x",null,null,null,null,null,null,null,null,null,null,null,null,null,null,null,1,81,21,20,20,20,4]
[null,null,"x","x","x","x",null,null,null,null,null,null,null,null,null,null,null,null,null,null,null,1,82,21,21,20,20,4]
[null,null,"x","x","x","x",null,null,null,null,null,null,null,null,null,null,null,null,null,null,null,1,83,21,21,21,20,4]
[null,null,"x","x","x","x",null,null,null,null,null,null,null,null,null,null,null,null,null,null,null,1,84,21,21,21,21,4]
[null,null,null,null,null,null,null,null,null,null,null,null,null,null,null,null,null,null,null,null,null,1,85,22,21,21,21,4]
[1,1,"x","x","x","x",null,"x","x","x","x",null,"x","x","x","x",null,{"$f":"Setup!$B$16","v":"Rød"},"x","x","x",1,86,22,22,21,21,4]
[null,null,"x","x","x","x",null,"x","x","x","x",null,"x","x","x","x",null,"x","x","x","x",1,87,22,22,22,21,4]
[null,null,"x","x","x","x",null,"x","x","x","x",null,"x","x","x","x",null,"x","x","x","x",1,88,22,22,22,22,4]
[null,null,"x","x","x","x",null,"x","x","x","x",null,"x","x","x","x",null,"x","x","x","x",1,89,23,22,22,22,4]
[null,null,null,null,null,null,null,null,null,null,null,null,null,null,null,null,null,null,null,null,null,1,90,23,23,22,22,4]
[null,null,null,null,null,null,null,null,null,null,null,null,null,null,null,null,null,null,null,null,null,1,91,23,23,23,22,4]
[null,null,null,null,null,null,null,null,null,null,null,null,null,null,null,null,null,null,null,null,null,1,92,23,23,23,23,4]
[null,null,null,null,null,null,null,null,null,null,null,null,null,null,null,null,null,null,null,null,null,1,93,24,23,23,23,4]
[null,null,null,null,null,null,null,null,null,null,null,null,null,null,null,null,null,null,null,null,null,1,94,24,24,23,23,4]
[null,null,null,null,null,null,null,null,null,null,null,null,null,null,null,null,null,null,null,null,null,1,95,24,24,24,23,4]
[null,null,null,null,null,null,null,null,null,null,null,null,null,null,null,null,null,null,null,null,null,1,96,24,24,24,24,4]
[null,null,null,null,null,null,null,null,null,null,null,null,null,null,null,null,null,null,null,null,null,1,97,25,24,24,24,4]
[null,null,null,null,null,null,null,null,null,null,null,null,null,null,null,null,null,null,null,null,null,1,98,25,25,24,24,4]
[null,null,null,null,null,null,null,null,null,null,null,null,null,null,null,null,null,null,null,null,null,1,99,25,25,25,24,4]
[null,null,null,null,null,null,null,null,null,null,null,null,null,null,null,null,null,null,null,null,null,1,100,25,25,25,25,4]
[null,null,null,null,null,null,null,null,null,null,null,null,null,null,null,null,null,null,null,null,null,1,101,26,25,25,25,4]
[null,null,null,null,null,null,null,null,null,null,null,null,null,null,null,null,null,null,null,null,null,1,102,26,26,25,25,4]
[null,null,null,null,null,null,null,null,null,null,null,null,null,null,null,null,null,null,null,null,null,1,103,26,26,26,25,4]
[null,null,null,null,null,null,null,null,null,null,null,null,null,null,null,null,null,null,null,null,null,1,104,26,26,26,26,4]
[null,null,null,null,null,null,null,null,null,null,null,null,null,null,null,null,null,null,null,null,null,1,105,27,26,26,26,4]
[null,null,null,null,null,null,null,null,null,null,null,null,null,null,null,null,null,null,null,null,null,1,106,27,27,26,26,4]
[null,null,null,null,null,null,null,null,null,null,null,null,null,null,null,null,null,null,null,null,null,1,107,27,27,27,26,4]
[null,null,null,null,null,null,null,null,null,null,null,null,null,null,null,null,null,null,null,null,null,1,108,27,27,27,27,4]
[null,null,null,null,null,null,null,null,null,null,null,null,null,null,null,null,null,null,null,null,null,1,109,28,27,27,27,4]
[null,null,null,null,null,null,null,null,null,null,null,null,null,null,null,null,null,null,null,null,null,1,110,28,28,27,27,4]
[null,null,null,null,null,null,null,null,null,null,null,null,null,null,null,null,null,null,null,null,null,1,111,28,28,28,27,4]
[null,null,null,null,null,null,null,null,null,null,null,null,null,null,null,null,null,null,null,null,null,1,112,28,28,28,28,4]
[null,null,null,null,null,null,null,null,null,null,null,null,null,null,null,null,null,null,null,null,null,1,113,29,28,28,28,4]
[null,null,null,null,null,null,null,null,null,null,null,null,null,null,null,null,null,null,null,null,null,1,114,29,29,28,28,4]
[null,null,null,null,null,null,null,null,null,null,null,null,null,null,null,null,null,null,null,null,null,1,115,29,29,29,28,4]
[null,null,null,null,null,null,null,null,null,null,null,null,null,null,null,null,null,null,null,null,null,1,116,29,29,29,29,4]
[null,null,null,null,null,null,null,null,null,null,null,null,null,null,null,null,null,null,null,null,null,1,117,30,29,29,29,4]
[null,null,null,null,null,null,null,null,null,null,null,null,null,null,null,null,null,null,null,null,null,1,118,30,30,29,29,4]
[null,null,null,null,null,null,null,null,null,null,null,null,null,null,null,null,null,null,null,null,null,1,119,30,30,30,29,4]
[null,null,null,null,null,null,null,null,null,null,null,null,null,null,null,null,null,null,null,null,null,1,120,30,30,30,30,4]
[null,null,null,null,null,null,null,null,null,null,null,null,null,null,null,null,null,null,null,null,null,2,{"$f":"ROW()-121","v":1},1,null,null,null,1]
[null,null,null,null,null,null,null,null,null,null,null,null,null,null,null,null,null,null,null,null,null,2,2,2,null,null,null,1]
[null,null,null,null,null,null,null,null,null,null,null,null,null,null,null,null,null,null,null,null,null,2,3,3,null,null,null,1]
[null,null,null,null,null,null,null,null,null,null,null,null,null,null,null,null,null,null,null,null,null,2,4,4,null,null,null,1]
[null,null,null,null,null,null,null,null,null,null,null,null,null,null,null,null,null,null,null,null,null,2,5,5,null,null,null,1]
[null,null,null,null,null,null,null,null,null,null,null,null,null,null,null,null,null,null,null,null,null,2,6,6,null,null,null,1]
[null,null,null,null,null,null,null,null,null,null,null,null,null,null,null,null,null,null,null,null,null,2,7,7,null,null,null,1]
[null,null,null,null,null,null,null,null,null,null,null,null,null,null,null,null,null,null,null,null,null,2,8,8,null,null,null,1]
[null,null,null,null,null,null,null,null,null,null,null,null,null,null,null,null,null,null,null,null,null,2,9,9,null,null,null,1]
[null,null,null,null,null,null,null,null,null,null,null,null,null,null,null,null,null,null,null,null,null,2,10,10,null,null,null,1]
[null,null,null,null,null,null,null,null,null,null,null,null,null,null,null,null,null,null,null,null,null,2,11,11,null,null,null,1]
[null,null,null,null,null,null,null,null,null,null,null,null,null,null,null,null,null,null,null,null,null,2,12,12,null,null,null,1]
[null,null,null,null,null,null,null,null,null,null,null,null,null,null,null,null,null,null,null,null,null,2,13,13,null,null,null,1]
[null,null,null,null,null,null,null,null,null,null,null,null,null,null,null,null,null,null,null,null,null,2,14,14,null,null,null,1]
[null,null,null,null,null,null,null,null,null,null,null,null,null,null,null,null,null,null,null,null,null,2,15,15,null,null,null,1]
[null,null,null,null,null,null,null,null,null,null,null,null,null,null,null,null,null,null,null,null,null,2,16,16,null,null,null,1]
[null,null,null,null,null,null,null,null,null,null,null,null,null,null,null,null,null,null,null,null,null,2,17,17,null,null,null,1]
[null,null,null,null,null,null,null,null,null,null,null,null,null,null,null,null,null,null,null,null,null,2,18,18,null,null,null,1]
[null,null,null,null,null,null,null,null,null,null,null,null,null,null,null,null,null,null,null,null,null,2,19,19,null,null,null,1]
[null,null,null,null,null,null,null,null,null,null,null,null,null,null,null,null,null,null,null,null,null,2,20,20,null,null,null,1]
[null,null,null,null,null,null,null,null,null,null,null,null,null,null,null,null,null,null,null,null,null,2,21,21,null,null,null,1]
[null,null,null,null,null,null,null,null,null,null,null,null,null,null,null,null,null,null,null,null,null,2,22,22,null,null,null,1]
[null,null,null,null,null,null,null,null,null,null,null,null,null,null,null,null,null,null,null,null,null,2,23,23,null,null,null,1]
[null,null,null,null,null,null,null,null,null,null,null,null,null,null,null,null,null,null,null,null,null,2,24,24,null,null,null,1]
[null,null,null,null,null,null,null,null,null,null,null,null,null,null,null,null,null,null,null,null,null,2,25,13,12,null,null,2]
[null,null,null,null,null,null,null,null,null,null,null,null,null,null,null,null,null,null,null,null,null,2,26,13,13,null,null,2]
[null,null,null,null,null,null,null,null,null,null,null,null,null,null,null,null,null,null,null,null,null,2,27,14,13,null,null,2]
[null,null,null,null,null,null,null,null,null,null,null,null,null,null,null,null,null,null,null,null,null,2,28,14,14,null,null,2]
[null,null,null,null,null,null,null,null,null,null,null,null,null,null,null,null,null,null,null,null,null,2,29,15,14,null,null,2]
[null,null,null,null,null,null,null,null,null,null,null,null,null,null,null,null,null,null,null,null,null,2,30,15,15,null,null,2]
[null,null,null,null,null,null,null,null,null,null,null,null,null,null,null,null,null,null,null,null,null,2,31,16,15,null,null,2]
[null,null,null,null,null,null,null,null,null,null,null,null,null,null,null,null,null,null,null,null,null,2,32,16,16,null,null,2]
[null,null,null,null,null,null,null,null,null,null,null,null,null,null,null,null,null,null,null,null,null,2,33,17,16,null,null,2]
[null,null,null,null,null,null,null,null,null,null,null,null,null,null,null,null,null,null,null,null,null,2,34,17,17,null,null,2]
[null,null,null,null,null,null,null,null,null,null,null,null,null,null,null,null,null,null,null,null,null,2,35,18,17,null,null,2]
[null,null,null,null,null,null,null,null,null,null,null,null,null,null,null,null,null,null,null,null,null,2,36,18,18,null,null,2]
[null,null,null,null,null,null,null,null,null,null,null,null,null,null,null,null,null,null,null,null,null,2,37,19,18,null,null,2]
[null,null,null,null,null,null,null,null,null,null,null,null,null,null,null,null,null,null,null,null,null,2,38,19,19,null,null,2]
[null,null,null,null,null,null,null,null,null,null,null,null,null,null,null,null,null,null,null,null,null,2,39,20,19,null,null,2]
[null,null,null,null,null,null,null,null,null,null,null,null,null,null,null,null,null,null,null,null,null,2,40,20,20,null,null,2]
[null,null,null,null,null,null,null,null,null,null,null,null,null,null,null,null,null,null,null,null,null,2,41,21,20,null,null,2]
[null,null,null,null,null,null,null,null,null,null,null,null,null,null,null,null,null,null,null,null,null,2,42,21,21,null,null,2]
[null,null,null,null,null,null,null,null,null,null,null,null,null,null,null,null,null,null,null,null,null,2,43,22,21,null,null,2]
[null,null,null,null,null,null,null,null,null,null,null,null,null,null,null,null,null,null,null,null,null,2,44,22,22,null,null,2]
[null,null,null,null,null,null,null,null,null,null,null,null,null,null,null,null,null,null,null,null,null,2,45,23,22,null,null,2]
[null,null,null,null,null,null,null,null,null,null,null,null,null,null,null,null,null,null,null,null,null,2,46,23,23,null,null,2]
[null,null,null,null,null,null,null,null,null,null,null,null,null,null,null,null,null,null,null,null,null,2,47,24,23,null,null,2]
[null,null,null,null,null,null,null,null,null,null,null,null,null,null,null,null,null,null,null,null,null,2,48,24,24,null,null,2]
[null,null,null,null,null,null,null,null,null,null,null,null,null,null,null,null,null,null,null,null,null,2,49,25,24,null,null,2]
[null,null,null,null,null,null,null,null,null,null,null,null,null,null,null,null,null,null,null,null,null,2,50,25,25,null,null,2]
[null,null,null,null,null,null,null,null,null,null,null,null,null,null,null,null,null,null,null,null,null,2,51,26,25,null,null,2]
[null,null,null,null,null,null,null,null,null,null,null,null,null,null,null,null,null,null,null,null,null,2,52,26,26,null,null,2]
[null,null,null,null,null,null,null,null,null,null,null,null,null,null,null,null,null,null,null,null,null,2,53,27,26,null,null,2]
[null,null,null,null,null,null,null,null,null,null,null,null,null,null,null,null,null,null,null,null,null,2,54,27,27,null,null,2]
[null,null,null,null,null,null,null,null,null,null,null,null,null,null,null,null,null,null,null,null,null,2,55,28,27,null,null,2]
[null,null,null,null,null,null,null,null,null,null,null,null,null,null,null,null,null,null,null,null,null,2,56,28,28,null,null,2]
[null,null,null,null,null,null,null,null,null,null,null,null,null,null,null,null,null,null,null,null,null,2,57,29,28,null,null,2]
[null,null,null,null,null,null,null,null,null,null,null,null,null,null,null,null,null,null,null,null,null,2,58,29,29,null,null,2]
[null,null,null,null,null,null,null,null,null,null,null,null,null,null,null,null,null,null,null,null,null,2,59,30,29,null,null,2]
[null,null,null,null,null,null,null,null,null,null,null,null,null,null,null,null,null,null,null,null,null,2,60,30,30,null,null,2]
[null,null,null,null,null,null,null,null,null,null,null,null,null,null,null,null,null,null,null,null,null,2,61,16,15,15,15,4]
[null,null,null,null,null,null,null,null,null,null,null,null,null,null,null,null,null,null,null,null,null,2,62,16,16,15,15,4]
[null,null,null,null,null,null,null,null,null,null,null,null,null,null,null,null,null,null,null,null,null,2,63,16,16,16,15,4]
[null,null,null,null,null,null,null,null,null,null,null,null,null,null,null,null,null,null,null,null,null,2,64,16,16,16,16,4]
[null,null,null,null,null,null,null,null,null,null,null,null,null,null,null,null,null,null,null,null,null,2,{"$f":"ROW()-121","v":65},17,16,16,16,4]
[null,null,null,null,null,null,null,null,null,null,null,null,null,null,null,null,null,null,null,null,null,2,66,17,17,16,16,4]
[null,null,null,null,null,null,null,null,null,null,null,null,null,null,null,null,null,null,null,null,null,2,67,17,17,17,16,4]
[null,null,null,null,null,null,null,null,null,null,null,null,null,null,null,null,null,null,null,null,null,2,68,17,17,17,17,4]
[null,null,null,null,null,null,null,null,null,null,null,null,null,null,null,null,null,null,null,null,null,2,69,18,17,17,17,4]
[null,null,null,null,null,null,null,null,null,null,null,null,null,null,null,null,null,null,null,null,null,2,70,18,18,17,17,4]
[null,null,null,null,null,null,null,null,null,null,null,null,null,null,null,null,null,null,null,null,null,2,71,18,18,18,17,4]
[null,null,null,null,null,null,null,null,null,null,null,null,null,null,null,null,null,null,null,null,null,2,72,18,18,18,18,4]
[null,null,null,null,null,null,null,null,null,null,null,null,null,null,null,null,null,null,null,null,null,2,73,19,18,18,18,4]
[null,null,null,null,null,null,null,null,null,null,null,null,null,null,null,null,null,null,null,null,null,2,74,19,19,18,18,4]
[null,null,null,null,null,null,null,null,null,null,null,null,null,null,null,null,null,null,null,null,null,2,75,19,19,19,18,4]
[null,null,null,null,null,null,null,null,null,null,null,null,null,null,null,null,null,null,null,null,null,2,76,19,19,19,19,4]
[null,null,null,null,null,null,null,null,null,null,null,null,null,null,null,null,null,null,null,null,null,2,77,20,19,19,19,4]
[null,null,null,null,null,null,null,null,null,null,null,null,null,null,null,null,null,null,null,null,null,2,78,20,20,19,19,4]
[null,null,null,null,null,null,null,null,null,null,null,null,null,null,null,null,null,null,null,null,null,2,79,20,20,20,19,4]
[null,null,null,null,null,null,null,null,null,null,null,null,null,null,null,null,null,null,null,null,null,2,80,20,20,20,20,4]
[null,null,null,null,null,null,null,null,null,null,null,null,null,null,null,null,null,null,null,null,null,2,81,21,20,20,20,4]
[null,null,null,null,null,null,null,null,null,null,null,null,null,null,null,null,null,null,null,null,null,2,82,21,21,20,20,4]
[null,null,null,null,null,null,null,null,null,null,null,null,null,null,null,null,null,null,null,null,null,2,83,21,21,21,20,4]
[null,null,null,null,null,null,null,null,null,null,null,null,null,null,null,null,null,null,null,null,null,2,84,21,21,21,21,4]
[null,null,null,null,null,null,null,null,null,null,null,null,null,null,null,null,null,null,null,null,null,2,85,22,21,21,21,4]
[null,null,null,null,null,null,null,null,null,null,null,null,null,null,null,null,null,null,null,null,null,2,86,22,22,21,21,4]
[null,null,null,null,null,null,null,null,null,null,null,null,null,null,null,null,null,null,null,null,null,2,87,22,22,22,21,4]
[null,null,null,null,null,null,null,null,null,null,null,null,null,null,null,null,null,null,null,null,null,2,88,22,22,22,22,4]
[null,null,null,null,null,null,null,null,null,null,null,null,null,null,null,null,null,null,null,null,null,2,89,23,22,22,22,4]
[null,null,null,null,null,null,null,null,null,null,null,null,null,null,null,null,null,null,null,null,null,2,90,23,23,22,22,4]
[null,null,null,null,null,null,null,null,null,null,null,null,null,null,null,null,null,null,null,null,null,2,91,23,23,23,22,4]
[null,null,null,null,null,null,null,null,null,null,null,null,null,null,null,null,null,null,null,null,null,2,92,23,23,23,23,4]
[null,null,null,null,null,null,null,null,null,null,null,null,null,null,null,null,null,null,null,null,null,2,93,24,23,23,23,4]
[null,null,null,null,null,null,null,null,null,null,null,null,null,null,null,null,null,null,null,null,null,2,94,24,24,23,23,4]
[null,null,null,null,null,null,null,null,null,null,null,null,null,null,null,null,null,null,null,null,null,2,95,24,24,24,23,4]
[null,null,null,null,null,null,null,null,null,null,null,null,null,null,null,null,null,null,null,null,null,2,96,24,24,24,24,4]
[null,null,null,null,null,null,null,null,null,null,null,null,null,null,null,null,null,null,null,null,null,2,97,25,24,24,24,4]
[null,null,null,null,null,null,null,null,null,null,null,null,null,null,null,null,null,null,null,null,null,2,98,25,25,24,24,4]
[null,null,null,null,null,null,null,null,null,null,null,null,null,null,null,null,null,null,null,null,null,2,99,25,25,25,24,4]
[null,null,null,null,null,null,null,null,null,null,null,null,null,null,null,null,null,null,null,null,null,2,100,25,25,25,25,4]
[null,null,null,null,null,null,null,null,null,null,null,null,null,null,null,null,null,null,null,null,null,2,101,26,25,25,25,4]
[null,null,null,null,null,null,null,null,null,null,null,null,null,null,null,null,null,null,null,null,null,2,102,26,26,25,25,4]
[null,null,null,null,null,null,null,null,null,null,null,null,null,null,null,null,null,null,null,null,null,2,103,26,26,26,25,4]
[null,null,null,null,null,null,null,null,null,null,null,null,null,null,null,null,null,null,null,null,null,2,104,26,26,26,26,4]
[null,null,null,null,null,null,null,null,null,null,null,null,null,null,null,null,null,null,null,null,null,2,105,27,26,26,26,4]
[null,null,null,null,null,null,null,null,null,null,null,null,null,null,null,null,null,null,null,null,null,2,106,27,27,26,26,4]
[null,null,null,null,null,null,null,null,null,null,null,null,null,null,null,null,null,null,null,null,null,2,107,27,27,27,26,4]
[null,null,null,null,null,null,null,null,null,null,null,null,null,null,null,null,null,null,null,null,null,2,108,27,27,27,27,4]
[null,null,null,null,null,null,null,null,null,null,null,null,null,null,null,null,null,null,null,null,null,2,109,28,27,27,27,4]
[null,null,null,null,null,null,null,null,null,null,null,null,null,null,null,null,null,null,null,null,null,2,110,28,28,27,27,4]
[null,null,null,null,null,null,null,null,null,null,null,null,null,null,null,null,null,null,null,null,null,2,111,28,28,28,27,4]
[null,null,null,null,null,null,null,null,null,null,null,null,null,null,null,null,null,null,null,null,null,2,112,28,28,28,28,4]
[null,null,null,null,null,null,null,null,null,null,null,null,null,null,null,null,null,null,null,null,null,2,113,29,28,28,28,4]
[null,null,null,null,null,null,null,null,null,null,null,null,null,null,null,null,null,null,null,null,null,2,114,29,29,28,28,4]
[null,null,null,null,null,null,null,null,null,null,null,null,null,null,null,null,null,null,null,null,null,2,115,29,29,29,28,4]
[null,null,null,null,null,null,null,null,null,null,null,null,null,null,null,null,null,null,null,null,null,2,116,29,29,29,29,4]
[null,null,null,null,null,null,null,null,null,null,null,null,null,null,null,null,null,null,null,null,null,2,117,30,29,29,29,4]
[null,null,null,null,null,null,null,null,null,null,null,null,null,null,null,null,null,null,null,null,null,2,118,30,30,29,29,4]
[null,null,null,null,null,null,null,null,null,null,null,null,null,null,null,null,null,null,null,null,null,2,119,30,30,30,29,4]
[null,null,null,null,null,null,null,null,null,null,null,null,null,null,null,null,null,null,null,null,null,2,{"$f":"ROW()-121","v":120},30,30,30,30,4]
[null,null,null,null,null,null,null,null,null,null,null,null,null,null,null,null,null,null,null,null,null,3,{"$f":"ROW()-241","v":1},1,null,null,null,1]
[null,null,null,null,null,null,null,null,null,null,null,null,null,null,null,null,null,null,null,null,null,3,{"$f":"ROW()-241","v":2},2,null,null,null,1]
[null,null,null,null,null,null,null,null,null,null,null,null,null,null,null,null,null,null,null,null,null,3,3,3,null,null,null,1]
[null,null,null,null,null,null,null,null,null,null,null,null,null,null,null,null,null,null,null,null,null,3,4,4,null,null,null,1]
[null,null,null,null,null,null,null,null,null,null,null,null,null,null,null,null,null,null,null,null,null,3,5,5,null,null,null,1]
[null,null,null,null,null,null,null,null,null,null,null,null,null,null,null,null,null,null,null,null,null,3,6,6,null,null,null,1]
[null,null,null,null,null,null,null,null,null,null,null,null,null,null,null,null,null,null,null,null,null,3,7,7,null,null,null,1]
[null,null,null,null,null,null,null,null,null,null,null,null,null,null,null,null,null,null,null,null,null,3,8,8,null,null,null,1]
[null,null,null,null,null,null,null,null,null,null,null,null,null,null,null,null,null,null,null,null,null,3,9,9,null,null,null,1]
[null,null,null,null,null,null,null,null,null,null,null,null,null,null,null,null,null,null,null,null,null,3,10,10,null,null,null,1]
[null,null,null,null,null,null,null,null,null,null,null,null,null,null,null,null,null,null,null,null,null,3,11,11,null,null,null,1]
[null,null,null,null,null,null,null,null,null,null,null,null,null,null,null,null,null,null,null,null,null,3,12,12,null,null,null,1]
[null,null,null,null,null,null,null,null,null,null,null,null,null,null,null,null,null,null,null,null,null,3,13,13,null,null,null,1]
[null,null,null,null,null,null,null,null,null,null,null,null,null,null,null,null,null,null,null,null,null,3,14,14,null,null,null,1]
[null,null,null,null,null,null,null,null,null,null,null,null,null,null,null,null,null,null,null,null,null,3,15,15,null,null,null,1]
[null,null,null,null,null,null,null,null,null,null,null,null,null,null,null,null,null,null,null,null,null,3,16,16,null,null,null,1]
[null,null,null,null,null,null,null,null,null,null,null,null,null,null,null,null,null,null,null,null,null,3,17,17,null,null,null,1]
[null,null,null,null,null,null,null,null,null,null,null,null,null,null,null,null,null,null,null,null,null,3,18,18,null,null,null,1]
[null,null,null,null,null,null,null,null,null,null,null,null,null,null,null,null,null,null,null,null,null,3,19,19,null,null,null,1]
[null,null,null,null,null,null,null,null,null,null,null,null,null,null,null,null,null,null,null,null,null,3,20,20,null,null,null,1]
[null,null,null,null,null,null,null,null,null,null,null,null,null,null,null,null,null,null,null,null,null,3,21,21,null,null,null,1]
[null,null,null,null,null,null,null,null,null,null,null,null,null,null,null,null,null,null,null,null,null,3,22,22,null,null,null,1]
[null,null,null,null,null,null,null,null,null,null,null,null,null,null,null,null,null,null,null,null,null,3,23,23,null,null,null,1]
[null,null,null,null,null,null,null,null,null,null,null,null,null,null,null,null,null,null,null,null,null,3,24,24,null,null,null,1]
[null,null,null,null,null,null,null,null,null,null,null,null,null,null,null,null,null,null,null,null,null,3,25,13,12,null,null,2]
[null,null,null,null,null,null,null,null,null,null,null,null,null,null,null,null,null,null,null,null,null,3,26,13,13,null,null,2]
[null,null,null,null,null,null,null,null,null,null,null,null,null,null,null,null,null,null,null,null,null,3,27,14,13,null,null,2]
[null,null,null,null,null,null,null,null,null,null,null,null,null,null,null,null,null,null,null,null,null,3,28,14,14,null,null,2]
[null,null,null,null,null,null,null,null,null,null,null,null,null,null,null,null,null,null,null,null,null,3,29,15,14,null,null,2]
[null,null,null,null,null,null,null,null,null,null,null,null,null,null,null,null,null,null,null,null,null,3,30,15,15,null,null,2]
[null,null,null,null,null,null,null,null,null,null,null,null,null,null,null,null,null,null,null,null,null,3,31,16,15,null,null,2]
[null,null,null,null,null,null,null,null,null,null,null,null,null,null,null,null,null,null,null,null,null,3,32,16,16,null,null,2]
[null,null,null,null,null,null,null,null,null,null,null,null,null,null,null,null,null,null,null,null,null,3,33,17,16,null,null,2]
[null,null,null,null,null,null,null,null,null,null,null,null,null,null,null,null,null,null,null,null,null,3,34,17,17,null,null,2]
[null,null,null,null,null,null,null,null,null,null,null,null,null,null,null,null,null,null,null,null,null,3,35,18,17,null,null,2]
[null,null,null,null,null,null,null,null,null,null,null,null,null,null,null,null,null,null,null,null,null,3,36,18,18,null,null,2]
[null,null,null,null,null,null,null,null,null,null,null,null,null,null,null,null,null,null,null,null,null,3,37,13,12,12,null,3]
[null,null,null,null,null,null,null,null,null,null,null,null,null,null,null,null,null,null,null,null,null,3,38,13,13,12,null,3]
[null,null,null,null,null,null,null,null,null,null,null,null,null,null,null,null,null,null,null,null,null,3,39,13,13,13,null,3]
[null,null,null,null,null,null,null,null,null,null,null,null,null,null,null,null,null,null,null,null,null,3,40,14,13,13,null,3]
[null,null,null,null,null,null,null,null,null,null,null,null,null,null,null,null,null,null,null,null,null,3,41,14,14,13,null,3]
[null,null,null,null,null,null,null,null,null,null,null,null,null,null,null,null,null,null,null,null,null,3,42,14,14,14,null,3]
[null,null,null,null,null,null,null,null,null,null,null,null,null,null,null,null,null,null,null,null,null,3,43,15,14,14,null,3]
[null,null,null,null,null,null,null,null,null,null,null,null,null,null,null,null,null,null,null,null,null,3,44,15,15,14,null,3]
[null,null,null,null,null,null,null,null,null,null,null,null,null,null,null,null,null,null,null,null,null,3,45,15,15,15,null,3]
[null,null,null,null,null,null,null,null,null,null,null,null,null,null,null,null,null,null,null,null,null,3,46,16,15,15,null,3]
[null,null,null,null,null,null,null,null,null,null,null,null,null,null,null,null,null,null,null,null,null,3,47,16,16,15,null,3]
[null,null,null,null,null,null,null,null,null,null,null,null,null,null,null,null,null,null,null,null,null,3,48,16,16,16,null,3]
[null,null,null,null,null,null,null,null,null,null,null,null,null,null,null,null,null,null,null,null,null,3,49,17,16,16,null,3]
[null,null,null,null,null,null,null,null,null,null,null,null,null,null,null,null,null,null,null,null,null,3,50,17,17,16,null,3]
[null,null,null,null,null,null,null,null,null,null,null,null,null,null,null,null,null,null,null,null,null,3,51,17,17,17,null,3]
[null,null,null,null,null,null,null,null,null,null,null,null,null,null,null,null,null,null,null,null,null,3,52,18,17,17,null,3]
[null,null,null,null,null,null,null,null,null,null,null,null,null,null,null,null,null,null,null,null,null,3,53,18,18,17,null,3]
[null,null,null,null,null,null,null,null,null,null,null,null,null,null,null,null,null,null,null,null,null,3,54,18,18,18,null,3]
[null,null,null,null,null,null,null,null,null,null,null,null,null,null,null,null,null,null,null,null,null,3,55,19,18,18,null,3]
[null,null,null,null,null,null,null,null,null,null,null,null,null,null,null,null,null,null,null,null,null,3,56,19,19,18,null,3]
[null,null,null,null,null,null,null,null,null,null,null,null,null,null,null,null,null,null,null,null,null,3,57,19,19,19,null,3]
[null,null,null,null,null,null,null,null,null,null,null,null,null,null,null,null,null,null,null,null,null,3,58,20,19,19,null,3]
[null,null,null,null,null,null,null,null,null,null,null,null,null,null,null,null,null,null,null,null,null,3,59,20,20,19,null,3]
[null,null,null,null,null,null,null,null,null,null,null,null,null,null,null,null,null,null,null,null,null,3,60,20,20,20,null,3]
[null,null,null,null,null,null,null,null,null,null,null,null,null,null,null,null,null,null,null,null,null,3,61,21,20,20,null,3]
[null,null,null,null,null,null,null,null,null,null,null,null,null,null,null,null,null,null,null,null,null,3,62,21,21,20,null,3]
[null,null,null,null,null,null,null,null,null,null,null,null,null,null,null,null,null,null,null,null,null,3,63,21,21,21,null,3]
[null,null,null,null,null,null,null,null,null,null,null,null,null,null,null,null,null,null,null,null,null,3,64,22,21,21,null,3]
[null,null,null,null,null,null,null,null,null,null,null,null,null,null,null,null,null,null,null,null,null,3,65,22,22,21,null,3]
[null,null,null,null,null,null,null,null,null,null,null,null,null,null,null,null,null,null,null,null,null,3,{"$f":"ROW()-241","v":66},22,22,22,null,3]
[null,null,null,null,null,null,null,null,null,null,null,null,null,null,null,null,null,null,null,null,null,3,67,23,22,22,null,3]
[null,null,null,null,null,null,null,null,null,null,null,null,null,null,null,null,null,null,null,null,null,3,68,23,23,22,null,3]
[null,null,null,null,null,null,null,null,null,null,null,null,null,null,null,null,null,null,null,null,null,3,69,23,23,23,null,3]
[null,null,null,null,null,null,null,null,null,null,null,null,null,null,null,null,null,null,null,null,null,3,70,24,23,23,null,3]
[null,null,null,null,null,null,null,null,null,null,null,null,null,null,null,null,null,null,null,null,null,3,71,24,24,23,null,3]
[null,null,null,null,null,null,null,null,null,null,null,null,null,null,null,null,null,null,null,null,null,3,72,24,24,24,null,3]
[null,null,null,null,null,null,null,null,null,null,null,null,null,null,null,null,null,null,null,null,null,3,73,25,24,24,null,3]
[null,null,null,null,null,null,null,null,null,null,null,null,null,null,null,null,null,null,null,null,null,3,74,25,25,24,null,3]
[null,null,null,null,null,null,null,null,null,null,null,null,null,null,null,null,null,null,null,null,null,3,75,25,25,25,null,3]
[null,null,null,null,null,null,null,null,null,null,null,null,null,null,null,null,null,null,null,null,null,3,76,26,25,25,null,3]
[null,null,null,null,null,null,null,null,null,null,null,null,null,null,null,null,null,null,null,null,null,3,77,26,26,25,null,3]
[null,null,null,null,null,null,null,null,null,null,null,null,null,null,null,null,null,null,null,null,null,3,78,26,26,26,null,3]
[null,null,null,null,null,null,null,null,null,null,null,null,null,null,null,null,null,null,null,null,null,3,79,27,26,26,null,3]
[null,null,null,null,null,null,null,null,null,null,null,null,null,null,null,null,null,null,null,null,null,3,80,27,27,26,null,3]
[null,null,null,null,null,null,null,null,null,null,null,null,null,null,null,null,null,null,null,null,null,3,81,27,27,27,null,3]
[null,null,null,null,null,null,null,null,null,null,null,null,null,null,null,null,null,null,null,null,null,3,82,28,27,27,null,3]
[null,null,null,null,null,null,null,null,null,null,null,null,null,null,null,null,null,null,null,null,null,3,83,28,28,27,null,3]
[null,null,null,null,null,null,null,null,null,null,null,null,null,null,null,null,null,null,null,null,null,3,84,28,28,28,null,3]
[null,null,null,null,null,null,null,null,null,null,null,null,null,null,null,null,null,null,null,null,null,3,85,29,28,28,null,3]
[null,null,null,null,null,null,null,null,null,null,null,null,null,null,null,null,null,null,null,null,null,3,86,29,29,28,null,3]
[null,null,null,null,null,null,null,null,null,null,null,null,null,null,null,null,null,null,null,null,null,3,87,29,29,29,null,3]
[null,null,null,null,null,null,null,null,null,null,null,null,null,null,null,null,null,null,null,null,null,3,88,30,29,29,null,3]
[null,null,null,null,null,null,null,null,null,null,null,null,null,null,null,null,null,null,null,null,null,3,89,30,30,29,null,3]
[null,null,null,null,null,null,null,null,null,null,null,null,null,null,null,null,null,null,null,null,null,3,90,30,30,30,null,3]
[null,null,null,null,null,null,null,null,null,null,null,null,null,null,null,null,null,null,null,null,null,3,91,23,23,23,22,4]
[null,null,null,null,null,null,null,null,null,null,null,null,null,null,null,null,null,null,null,null,null,3,92,23,23,23,23,4]
[null,null,null,null,null,null,null,null,null,null,null,null,null,null,null,null,null,null,null,null,null,3,93,24,23,23,23,4]
[null,null,null,null,null,null,null,null,null,null,null,null,null,null,null,null,null,null,null,null,null,3,94,24,24,23,23,4]
[null,null,null,null,null,null,null,null,null,null,null,null,null,null,null,null,null,null,null,null,null,3,95,24,24,24,23,4]
[null,null,null,null,null,null,null,null,null,null,null,null,null,null,null,null,null,null,null,null,null,3,96,24,24,24,24,4]
[null,null,null,null,null,null,null,null,null,null,null,null,null,null,null,null,null,null,null,null,null,3,97,25,24,24,24,4]
[null,null,null,null,null,null,null,null,null,null,null,null,null,null,null,null,null,null,null,null,null,3,98,25,25,24,24,4]
[null,null,null,null,null,null,null,null,null,null,null,null,null,null,null,null,null,null,null,null,null,3,99,25,25,25,24,4]
[null,null,null,null,null,null,null,null,null,null,null,null,null,null,null,null,null,null,null,null,null,3,100,25,25,25,25,4]
[null,null,null,null,null,null,null,null,null,null,null,null,null,null,null,null,null,null,null,null,null,3,101,26,25,25,25,4]
[null,null,null,null,null,null,null,null,null,null,null,null,null,null,null,null,null,null,null,null,null,3,102,26,26,25,25,4]
[null,null,null,null,null,null,null,null,null,null,null,null,null,null,null,null,null,null,null,null,null,3,103,26,26,26,25,4]
[null,null,null,null,null,null,null,null,null,null,null,null,null,null,null,null,null,null,null,null,null,3,104,26,26,26,26,4]
[null,null,null,null,null,null,null,null,null,null,null,null,null,null,null,null,null,null,null,null,null,3,105,27,26,26,26,4]
[null,null,null,null,null,null,null,null,null,null,null,null,null,null,null,null,null,null,null,null,null,3,106,27,27,26,26,4]
[null,null,null,null,null,null,null,null,null,null,null,null,null,null,null,null,null,null,null,null,null,3,107,27,27,27,26,4]
[null,null,null,null,null,null,null,null,null,null,null,null,null,null,null,null,null,null,null,null,null,3,108,27,27,27,27,4]
[null,null,null,null,null,null,null,null,null,null,null,null,null,null,null,null,null,null,null,null,null,3,109,28,27,27,27,4]
[null,null,null,null,null,null,null,null,null,null,null,null,null,null,null,null,null,null,null,null,null,3,110,28,28,27,27,4]
[null,null,null,null,null,null,null,null,null,null,null,null,null,null,null,null,null,null,null,null,null,3,111,28,28,28,27,4]
[null,null,null,null,null,null,null,null,null,null,null,null,null,null,null,null,null,null,null,null,null,3,112,28,28,28,28,4]
[null,null,null,null,null,null,null,null,null,null,null,null,null,null,null,null,null,null,null,null,null,3,113,29,28,28,28,4]
[null,null,null,null,null,null,null,null,null,null,null,null,null,null,null,null,null,null,null,null,null,3,114,29,29,28,28,4]
[null,null,null,null,null,null,null,null,null,null,null,null,null,null,null,null,null,null,null,null,null,3,115,29,29,29,28,4]
[null,null,null,null,null,null,null,null,null,null,null,null,null,null,null,null,null,null,null,null,null,3,116,29,29,29,29,4]
[null,null,null,null,null,null,null,null,null,null,null,null,null,null,null,null,null,null,null,null,null,3,117,30,29,29,29,4]
[null,null,null,null,null,null,null,null,null,null,null,null,null,null,null,null,null,null,null,null,null,3,118,30,30,29,29,4]
[null,null,null,null,null,null,null,null,null,null,null,null,null,null,null,null,null,null,null,null,null,3,119,30,30,30,29,4]
[null,null,null,null,null,null,null,null,null,null,null,null,null,null,null,null,null,null,null,null,null,3,120,30,30,30,30,4]
[null,null,null,null,null,null,null,null,null,null,null,null,null,null,null,null,null,null,null,null,null,4,{"$f":"ROW()-361","v":1},1,null,null,null,1]
[null,null,null,null,null,null,null,null,null,null,null,null,null,null,null,null,null,null,null,null,null,4,{"$f":"ROW()-361","v":2},2,null,null,null,1]
[null,null,null,null,null,null,null,null,null,null,null,null,null,null,null,null,null,null,null,null,null,4,3,3,null,null,null,1]
[null,null,null,null,null,null,null,null,null,null,null,null,null,null,null,null,null,null,null,null,null,4,4,4,null,null,null,1]
[null,null,null,null,null,null,null,null,null,null,null,null,null,null,null,null,null,null,null,null,null,4,5,5,null,null,null,1]
[null,null,null,null,null,null,null,null,null,null,null,null,null,null,null,null,null,null,null,null,null,4,6,6,null,null,null,1]
[null,null,null,null,null,null,null,null,null,null,null,null,null,null,null,null,null,null,null,null,null,4,7,7,null,null,null,1]
[null,null,null,null,null,null,null,null,null,null,null,null,null,null,null,null,null,null,null,null,null,4,8,8,null,null,null,1]
[null,null,null,null,null,null,null,null,null,null,null,null,null,null,null,null,null,null,null,null,null,4,9,9,null,null,null,1]
[null,null,null,null,null,null,null,null,null,null,null,null,null,null,null,null,null,null,null,null,null,4,10,10,null,null,null,1]
[null,null,null,null,null,null,null,null,null,null,null,null,null,null,null,null,null,null,null,null,null,4,11,11,null,null,null,1]
[null,null,null,null,null,null,null,null,null,null,null,null,null,null,null,null,null,null,null,null,null,4,12,12,null,null,null,1]
[null,null,null,null,null,null,null,null,null,null,null,null,null,null,null,null,null,null,null,null,null,4,13,13,null,null,null,1]
[null,null,null,null,null,null,null,null,null,null,null,null,null,null,null,null,null,null,null,null,null,4,14,14,null,null,null,1]
[null,null,null,null,null,null,null,null,null,null,null,null,null,null,null,null,null,null,null,null,null,4,15,15,null,null,null,1]
[null,null,null,null,null,null,null,null,null,null,null,null,null,null,null,null,null,null,null,null,null,4,16,16,null,null,null,1]
[null,null,null,null,null,null,null,null,null,null,null,null,null,null,null,null,null,null,null,null,null,4,17,17,null,null,null,1]
[null,null,null,null,null,null,null,null,null,null,null,null,null,null,null,null,null,null,null,null,null,4,18,18,null,null,null,1]
[null,null,null,null,null,null,null,null,null,null,null,null,null,null,null,null,null,null,null,null,null,4,19,19,null,null,null,1]
[null,null,null,null,null,null,null,null,null,null,null,null,null,null,null,null,null,null,null,null,null,4,20,20,null,null,null,1]
[null,null,null,null,null,null,null,null,null,null,null,null,null,null,null,null,null,null,null,null,null,4,21,21,null,null,null,1]
[null,null,null,null,null,null,null,null,null,null,null,null,null,null,null,null,null,null,null,null,null,4,22,22,null,null,null,1]
[null,null,null,null,null,null,null,null,null,null,null,null,null,null,null,null,null,null,null,null,null,4,23,23,null,null,null,1]
[null,null,null,null,null,null,null,null,null,null,null,null,null,null,null,null,null,null,null,null,null,4,24,24,null,null,null,1]
[null,null,null,null,null,null,null,null,null,null,null,null,null,null,null,null,null,null,null,null,null,4,25,13,12,null,null,2]
[null,null,null,null,null,null,null,null,null,null,null,null,null,null,null,null,null,null,null,null,null,4,26,13,13,null,null,2]
[null,null,null,null,null,null,null,null,null,null,null,null,null,null,null,null,null,null,null,null,null,4,27,14,13,null,null,2]
[null,null,null,null,null,null,null,null,null,null,null,null,null,null,null,null,null,null,null,null,null,4,28,14,14,null,null,2]
[null,null,null,null,null,null,null,null,null,null,null,null,null,null,null,null,null,null,null,null,null,4,29,15,14,null,null,2]
[null,null,null,null,null,null,null,null,null,null,null,null,null,null,null,null,null,null,null,null,null,4,30,15,15,null,null,2]
[null,null,null,null,null,null,null,null,null,null,null,null,null,null,null,null,null,null,null,null,null,4,31,16,15,null,null,2]
[null,null,null,null,null,null,null,null,null,null,null,null,null,null,null,null,null,null,null,null,null,4,32,16,16,null,null,2]
[null,null,null,null,null,null,null,null,null,null,null,null,null,null,null,null,null,null,null,null,null,4,33,17,16,null,null,2]
[null,null,null,null,null,null,null,null,null,null,null,null,null,null,null,null,null,null,null,null,null,4,34,17,17,null,null,2]
[null,null,null,null,null,null,null,null,null,null,null,null,null,null,null,null,null,null,null,null,null,4,35,18,17,null,null,2]
[null,null,null,null,null,null,null,null,null,null,null,null,null,null,null,null,null,null,null,null,null,4,36,18,18,null,null,2]
[null,null,null,null,null,null,null,null,null,null,null,null,null,null,null,null,null,null,null,null,null,4,37,19,18,null,null,2]
[null,null,null,null,null,null,null,null,null,null,null,null,null,null,null,null,null,null,null,null,null,4,38,19,19,null,null,2]
[null,null,null,null,null,null,null,null,null,null,null,null,null,null,null,null,null,null,null,null,null,4,39,20,19,null,null,2]
[null,null,null,null,null,null,null,null,null,null,null,null,null,null,null,null,null,null,null,null,null,4,40,20,20,null,null,2]
[null,null,null,null,null,null,null,null,null,null,null,null,null,null,null,null,null,null,null,null,null,4,41,21,20,null,null,2]
[null,null,null,null,null,null,null,null,null,null,null,null,null,null,null,null,null,null,null,null,null,4,42,21,21,null,null,2]
[null,null,null,null,null,null,null,null,null,null,null,null,null,null,null,null,null,null,null,null,null,4,43,22,21,null,null,2]
[null,null,null,null,null,null,null,null,null,null,null,null,null,null,null,null,null,null,null,null,null,4,44,22,22,null,null,2]
[null,null,null,null,null,null,null,null,null,null,null,null,null,null,null,null,null,null,null,null,null,4,45,23,22,null,null,2]
[null,null,null,null,null,null,null,null,null,null,null,null,null,null,null,null,null,null,null,null,null,4,46,23,23,null,null,2]
[null,null,null,null,null,null,null,null,null,null,null,null,null,null,null,null,null,null,null,null,null,4,47,24,23,null,null,2]
[null,null,null,null,null,null,null,null,null,null,null,null,null,null,null,null,null,null,null,null,null,4,48,24,24,null,null,2]
[null,null,null,null,null,null,null,null,null,null,null,null,null,null,null,null,null,null,null,null,null,4,49,13,12,12,12,4]
[null,null,null,null,null,null,null,null,null,null,null,null,null,null,null,null,null,null,null,null,null,4,50,13,13,12,12,4]
[null,null,null,null,null,null,null,null,null,null,null,null,null,null,null,null,null,null,null,null,null,4,51,13,13,13,12,4]
[null,null,null,null,null,null,null,null,null,null,null,null,null,null,null,null,null,null,null,null,null,4,52,13,13,13,13,4]
[null,null,null,null,null,null,null,null,null,null,null,null,null,null,null,null,null,null,null,null,null,4,53,14,13,13,13,4]
[null,null,null,null,null,null,null,null,null,null,null,null,null,null,null,null,null,null,null,null,null,4,54,14,14,13,13,4]
[null,null,null,null,null,null,null,null,null,null,null,null,null,null,null,null,null,null,null,null,null,4,55,14,14,14,13,4]
[null,null,null,null,null,null,null,null,null,null,null,null,null,null,null,null,null,null,null,null,null,4,56,14,14,14,14,4]
[null,null,null,null,null,null,null,null,null,null,null,null,null,null,null,null,null,null,null,null,null,4,57,15,14,14,14,4]
[null,null,null,null,null,null,null,null,null,null,null,null,null,null,null,null,null,null,null,null,null,4,58,15,15,14,14,4]
[null,null,null,null,null,null,null,null,null,null,null,null,null,null,null,null,null,null,null,null,null,4,59,15,15,15,14,4]
[null,null,null,null,null,null,null,null,null,null,null,null,null,null,null,null,null,null,null,null,null,4,60,15,15,15,15,4]
[null,null,null,null,null,null,null,null,null,null,null,null,null,null,null,null,null,null,null,null,null,4,61,16,15,15,15,4]
[null,null,null,null,null,null,null,null,null,null,null,null,null,null,null,null,null,null,null,null,null,4,62,16,16,15,15,4]
[null,null,null,null,null,null,null,null,null,null,null,null,null,null,null,null,null,null,null,null,null,4,63,16,16,16,15,4]
[null,null,null,null,null,null,null,null,null,null,null,null,null,null,null,null,null,null,null,null,null,4,64,16,16,16,16,4]
[null,null,null,null,null,null,null,null,null,null,null,null,null,null,null,null,null,null,null,null,null,4,65,17,16,16,16,4]
[null,null,null,null,null,null,null,null,null,null,null,null,null,null,null,null,null,null,null,null,null,4,{"$f":"ROW()-361","v":66},17,17,16,16,4]
[null,null,null,null,null,null,null,null,null,null,null,null,null,null,null,null,null,null,null,null,null,4,67,17,17,17,16,4]
[null,null,null,null,null,null,null,null,null,null,null,null,null,null,null,null,null,null,null,null,null,4,68,17,17,17,17,4]
[null,null,null,null,null,null,null,null,null,null,null,null,null,null,null,null,null,null,null,null,null,4,69,18,17,17,17,4]
[null,null,null,null,null,null,null,null,null,null,null,null,null,null,null,null,null,null,null,null,null,4,70,18,18,17,17,4]
[null,null,null,null,null,null,null,null,null,null,null,null,null,null,null,null,null,null,null,null,null,4,71,18,18,18,17,4]
[null,null,null,null,null,null,null,null,null,null,null,null,null,null,null,null,null,null,null,null,null,4,72,18,18,18,18,4]
[null,null,null,null,null,null,null,null,null,null,null,null,null,null,null,null,null,null,null,null,null,4,73,19,18,18,18,4]
[null,null,null,null,null,null,null,null,null,null,null,null,null,null,null,null,null,null,null,null,null,4,74,19,19,18,18,4]
[null,null,null,null,null,null,null,null,null,null,null,null,null,null,null,null,null,null,null,null,null,4,75,19,19,19,18,4]
[null,null,null,null,null,null,null,null,null,null,null,null,null,null,null,null,null,null,null,null,null,4,76,19,19,19,19,4]
[null,null,null,null,null,null,null,null,null,null,null,null,null,null,null,null,null,null,null,null,null,4,77,20,19,19,19,4]
[null,null,null,null,null,null,null,null,null,null,null,null,null,null,null,null,null,null,null,null,null,4,78,20,20,19,19,4]
[null,null,null,null,null,null,null,null,null,null,null,null,null,null,null,null,null,null,null,null,null,4,79,20,20,20,19,4]
[null,null,null,null,null,null,null,null,null,null,null,null,null,null,null,null,null,null,null,null,null,4,80,20,20,20,20,4]
[null,null,null,null,null,null,null,null,null,null,null,null,null,null,null,null,null,null,null,null,null,4,81,21,20,20,20,4]
[null,null,null,null,null,null,null,null,null,null,null,null,null,null,null,null,null,null,null,null,null,4,82,21,21,20,20,4]
[null,null,null,null,null,null,null,null,null,null,null,null,null,null,null,null,null,null,null,null,null,4,83,21,21,21,20,4]
[null,null,null,null,null,null,null,null,null,null,null,null,null,null,null,null,null,null,null,null,null,4,84,21,21,21,21,4]
[null,null,null,null,null,null,null,null,null,null,null,null,null,null,null,null,null,null,null,null,null,4,85,22,21,21,21,4]
[null,null,null,null,null,null,null,null,null,null,null,null,null,null,null,null,null,null,null,null,null,4,86,22,22,21,21,4]
[null,null,null,null,null,null,null,null,null,null,null,null,null,null,null,null,null,null,null,null,null,4,87,22,22,22,21,4]
[null,null,null,null,null,null,null,null,null,null,null,null,null,null,null,null,null,null,null,null,null,4,88,22,22,22,22,4]
[null,null,null,null,null,null,null,null,null,null,null,null,null,null,null,null,null,null,null,null,null,4,89,23,22,22,22,4]
[null,null,null,null,null,null,null,null,null,null,null,null,null,null,null,null,null,null,null,null,null,4,90,23,23,22,22,4]
[null,null,null,null,null,null,null,null,null,null,null,null,null,null,null,null,null,null,null,null,null,4,91,23,23,23,22,4]
[null,null,null,null,null,null,null,null,null,null,null,null,null,null,null,null,null,null,null,null,null,4,92,23,23,23,23,4]
[null,null,null,null,null,null,null,null,null,null,null,null,null,null,null,null,null,null,null,null,null,4,93,24,23,23,23,4]
[null,null,null,null,null,null,null,null,null,null,null,null,null,null,null,null,null,null,null,null,null,4,94,24,24,23,23,4]
[null,null,null,null,null,null,null,null,null,null,null,null,null,null,null,null,null,null,null,null,null,4,95,24,24,24,23,4]
[null,null,null,null,null,null,null,null,null,null,null,null,null,null,null,null,null,null,null,null,null,4,96,24,24,24,24,4]
[null,null,null,null,null,null,null,null,null,null,null,null,null,null,null,null,null,null,null,null,null,4,97,25,24,24,24,4]
[null,null,null,null,null,null,null,null,null,null,null,null,null,null,null,null,null,null,null,null,null,4,98,25,25,24,24,4]
[null,null,null,null,null,null,null,null,null,null,null,null,null,null,null,null,null,null,null,null,null,4,99,25,25,25,24,4]
[null,null,null,null,null,null,null,null,null,null,null,null,null,null,null,null,null,null,null,null,null,4,100,25,25,25,25,4]
[null,null,null,null,null,null,null,null,null,null,null,null,null,null,null,null,null,null,null,null,null,4,101,26,25,25,25,4]
[null,null,null,null,null,null,null,null,null,null,null,null,null,null,null,null,null,null,null,null,null,4,102,26,26,25,25,4]
[null,null,null,null,null,null,null,null,null,null,null,null,null,null,null,null,null,null,null,null,null,4,103,26,26,26,25,4]
[null,null,null,null,null,null,null,null,null,null,null,null,null,null,null,null,null,null,null,null,null,4,104,26,26,26,26,4]
[null,null,null,null,null,null,null,null,null,null,null,null,null,null,null,null,null,null,null,null,null,4,105,27,26,26,26,4]
[null,null,null,null,null,null,null,null,null,null,null,null,null,null,null,null,null,null,null,null,null,4,106,27,27,26,26,4]
[null,null,null,null,null,null,null,null,null,null,null,null,null,null,null,null,null,null,null,null,null,4,107,27,27,27,26,4]
[null,null,null,null,null,null,null,null,null,null,null,null,null,null,null,null,null,null,null,null,null,4,108,27,27,27,27,4]
[null,null,null,null,null,null,null,null,null,null,null,null,null,null,null,null,null,null,null,null,null,4,109,28,27,27,27,4]
[null,null,null,null,null,null,null,null,null,null,null,null,null,null,null,null,null,null,null,null,null,4,110,28,28,27,27,4]
[null,null,null,null,null,null,null,null,null,null,null,null,null,null,null,null,null,null,null,null,null,4,111,28,28,28,27,4]
[null,null,null,null,null,null,null,null,null,null,null,null,null,null,null,null,null,null,null,null,null,4,112,28,28,28,28,4]
[null,null,null,null,null,null,null,null,null,null,null,null,null,null,null,null,null,null,null,null,null,4,113,29,28,28,28,4]
[null,null,null,null,null,null,null,null,null,null,null,null,null,null,null,null,null,null,null,null,null,4,114,29,29,28,28,4]
[null,null,null,null,null,null,null,null,null,null,null,null,null,null,null,null,null,null,null,null,null,4,115,29,29,29,28,4]
[null,null,null,null,null,null,null,null,null,null,null,null,null,null,null,null,null,null,null,null,null,4,116,29,29,29,29,4]
[null,null,null,null,null,null,null,null,null,null,null,null,null,null,null,null,null,null,null,null,null,4,117,30,29,29,29,4]
[null,null,null,null,null,null,null,null,null,null,null,null,null,null,null,null,null,null,null,null,null,4,118,30,30,29,29,4]
[null,null,null,null,null,null,null,null,null,null,null,null,null,null,null,null,null,null,null,null,null,4,119,30,30,30,29,4]
[null,null,null,null,null,null,null,null,null,null,null,null,null,null,null,null,null,null,null,null,null,4,120,30,30,30,30,4]